BEGIN:VCALENDAR
VERSION:2.0
PRODID:-//The Quarry Ballroom - ECPv6.15.20//NONSGML v1.0//EN
CALSCALE:GREGORIAN
METHOD:PUBLISH
X-ORIGINAL-URL:https://thequarrythornton.com
X-WR-CALDESC:Events for The Quarry Ballroom
REFRESH-INTERVAL;VALUE=DURATION:PT1H
X-Robots-Tag:noindex
X-PUBLISHED-TTL:PT1H
BEGIN:VTIMEZONE
TZID:America/Chicago
BEGIN:DAYLIGHT
TZOFFSETFROM:-0600
TZOFFSETTO:-0500
TZNAME:CDT
DTSTART:20270314T080000
END:DAYLIGHT
BEGIN:STANDARD
TZOFFSETFROM:-0500
TZOFFSETTO:-0600
TZNAME:CST
DTSTART:20271107T070000
END:STANDARD
BEGIN:DAYLIGHT
TZOFFSETFROM:-0600
TZOFFSETTO:-0500
TZNAME:CDT
DTSTART:20280312T080000
END:DAYLIGHT
BEGIN:STANDARD
TZOFFSETFROM:-0500
TZOFFSETTO:-0600
TZNAME:CST
DTSTART:20281105T070000
END:STANDARD
BEGIN:DAYLIGHT
TZOFFSETFROM:-0600
TZOFFSETTO:-0500
TZNAME:CDT
DTSTART:20290311T080000
END:DAYLIGHT
BEGIN:STANDARD
TZOFFSETFROM:-0500
TZOFFSETTO:-0600
TZNAME:CST
DTSTART:20291104T070000
END:STANDARD
END:VTIMEZONE
BEGIN:VEVENT
DTSTART;TZID=America/Chicago:20280825T110000
DTEND;TZID=America/Chicago:20280825T235900
DTSTAMP:20260425T055458
CREATED:20240110T234444Z
LAST-MODIFIED:20260123T151734Z
UID:10009633-1850814000-1850860740@thequarrythornton.com
SUMMARY:Kitchen open 11-9 Tavern open 11-12.
DESCRIPTION:
URL:https://thequarrythornton.com/event/kitchen-taven-open-11-12-live-music-every-friday-100-winner-karaoke-every-other/2028-08-25/
END:VEVENT
BEGIN:VEVENT
DTSTART;TZID=America/Chicago:20280826T110000
DTEND;TZID=America/Chicago:20280826T235900
DTSTAMP:20260425T055458
CREATED:20240110T235242Z
LAST-MODIFIED:20240313T170456Z
UID:10009894-1850900400-1850947140@thequarrythornton.com
SUMMARY:Kitchen open 11-9 Tavern open 11-12. Live Music every Saturday 7-10
DESCRIPTION:
URL:https://thequarrythornton.com/event/kitchen-tavern-open-11-12-live-music-every-saturday/2028-08-26/
END:VEVENT
BEGIN:VEVENT
DTSTART;TZID=America/Chicago:20280827T110000
DTEND;TZID=America/Chicago:20280827T230000
DTSTAMP:20260425T055458
CREATED:20240110T235336Z
LAST-MODIFIED:20260113T182408Z
UID:10010155-1850986800-1851030000@thequarrythornton.com
SUMMARY:Kitchen open 11-7 Tavern open 11-11.
DESCRIPTION:
URL:https://thequarrythornton.com/event/kitchen-open-11-7-tavern-open-11-11/2028-08-27/
END:VEVENT
BEGIN:VEVENT
DTSTART;TZID=America/Chicago:20280828T110000
DTEND;TZID=America/Chicago:20280828T230000
DTSTAMP:20260425T055458
CREATED:20240110T235437Z
LAST-MODIFIED:20250510T191022Z
UID:10011060-1851073200-1851116400@thequarrythornton.com
SUMMARY:Kitchen open 11-9 Tavern open 11-11. 1/2 price pizza. Dine in only.
DESCRIPTION:
URL:https://thequarrythornton.com/event/kitchen-open-3-9-tavern-open-3-11/2028-08-28/
END:VEVENT
BEGIN:VEVENT
DTSTART;TZID=America/Chicago:20280829T110000
DTEND;TZID=America/Chicago:20280829T230000
DTSTAMP:20260425T055458
CREATED:20240110T235532Z
LAST-MODIFIED:20250325T221155Z
UID:10011619-1851159600-1851202800@thequarrythornton.com
SUMMARY:Kitchen open 11-9 Tavern open 11-11. Taco Tuesday! 3 beef\, pork or chicken $7.50
DESCRIPTION:
URL:https://thequarrythornton.com/event/kitchen-open-3-9-tavern-open-3-11-2/2028-08-29/
END:VEVENT
BEGIN:VEVENT
DTSTART;TZID=America/Chicago:20280830T110000
DTEND;TZID=America/Chicago:20280830T230000
DTSTAMP:20260425T055458
CREATED:20240110T233647Z
LAST-MODIFIED:20250510T190409Z
UID:10011340-1851246000-1851289200@thequarrythornton.com
SUMMARY:Kitchen open 11-9 Tavern open 11-11. Wing Wednesday 1/2 price traditional wings. Dine in only.
DESCRIPTION:
URL:https://thequarrythornton.com/event/kitchen-open-3-9-tavern-open-3-11-free-bingo-every-wednesday-7-9/2028-08-30/
END:VEVENT
BEGIN:VEVENT
DTSTART;TZID=America/Chicago:20280831T110000
DTEND;TZID=America/Chicago:20280831T235900
DTSTAMP:20260425T055458
CREATED:20240110T233826Z
LAST-MODIFIED:20250510T190549Z
UID:10011899-1851332400-1851379140@thequarrythornton.com
SUMMARY:Kitchen open 11-9 Tavern open 11-11. 1/2 price hot dogs or chili cheese dogs. Dine in only.
DESCRIPTION:
URL:https://thequarrythornton.com/event/kitchen-open-11-9-tavern-open-11-12-open-mic-7-10/2028-08-31/
END:VEVENT
BEGIN:VEVENT
DTSTART;TZID=America/Chicago:20280901T110000
DTEND;TZID=America/Chicago:20280901T235900
DTSTAMP:20260425T055458
CREATED:20240110T234444Z
LAST-MODIFIED:20260123T151734Z
UID:10009634-1851418800-1851465540@thequarrythornton.com
SUMMARY:Kitchen open 11-9 Tavern open 11-12.
DESCRIPTION:
URL:https://thequarrythornton.com/event/kitchen-taven-open-11-12-live-music-every-friday-100-winner-karaoke-every-other/2028-09-01/
END:VEVENT
BEGIN:VEVENT
DTSTART;TZID=America/Chicago:20280902T110000
DTEND;TZID=America/Chicago:20280902T235900
DTSTAMP:20260425T055458
CREATED:20240110T235242Z
LAST-MODIFIED:20240313T170456Z
UID:10009895-1851505200-1851551940@thequarrythornton.com
SUMMARY:Kitchen open 11-9 Tavern open 11-12. Live Music every Saturday 7-10
DESCRIPTION:
URL:https://thequarrythornton.com/event/kitchen-tavern-open-11-12-live-music-every-saturday/2028-09-02/
END:VEVENT
BEGIN:VEVENT
DTSTART;TZID=America/Chicago:20280903T110000
DTEND;TZID=America/Chicago:20280903T230000
DTSTAMP:20260425T055458
CREATED:20240110T235336Z
LAST-MODIFIED:20260113T182408Z
UID:10010156-1851591600-1851634800@thequarrythornton.com
SUMMARY:Kitchen open 11-7 Tavern open 11-11.
DESCRIPTION:
URL:https://thequarrythornton.com/event/kitchen-open-11-7-tavern-open-11-11/2028-09-03/
END:VEVENT
BEGIN:VEVENT
DTSTART;TZID=America/Chicago:20280904T110000
DTEND;TZID=America/Chicago:20280904T230000
DTSTAMP:20260425T055458
CREATED:20240110T235437Z
LAST-MODIFIED:20250510T191022Z
UID:10011061-1851678000-1851721200@thequarrythornton.com
SUMMARY:Kitchen open 11-9 Tavern open 11-11. 1/2 price pizza. Dine in only.
DESCRIPTION:
URL:https://thequarrythornton.com/event/kitchen-open-3-9-tavern-open-3-11/2028-09-04/
END:VEVENT
BEGIN:VEVENT
DTSTART;TZID=America/Chicago:20280905T110000
DTEND;TZID=America/Chicago:20280905T230000
DTSTAMP:20260425T055458
CREATED:20240110T235532Z
LAST-MODIFIED:20250325T221155Z
UID:10011620-1851764400-1851807600@thequarrythornton.com
SUMMARY:Kitchen open 11-9 Tavern open 11-11. Taco Tuesday! 3 beef\, pork or chicken $7.50
DESCRIPTION:
URL:https://thequarrythornton.com/event/kitchen-open-3-9-tavern-open-3-11-2/2028-09-05/
END:VEVENT
BEGIN:VEVENT
DTSTART;TZID=America/Chicago:20280906T110000
DTEND;TZID=America/Chicago:20280906T230000
DTSTAMP:20260425T055458
CREATED:20240110T233647Z
LAST-MODIFIED:20250510T190409Z
UID:10011341-1851850800-1851894000@thequarrythornton.com
SUMMARY:Kitchen open 11-9 Tavern open 11-11. Wing Wednesday 1/2 price traditional wings. Dine in only.
DESCRIPTION:
URL:https://thequarrythornton.com/event/kitchen-open-3-9-tavern-open-3-11-free-bingo-every-wednesday-7-9/2028-09-06/
END:VEVENT
BEGIN:VEVENT
DTSTART;TZID=America/Chicago:20280907T110000
DTEND;TZID=America/Chicago:20280907T235900
DTSTAMP:20260425T055458
CREATED:20240110T233826Z
LAST-MODIFIED:20250510T190549Z
UID:10011900-1851937200-1851983940@thequarrythornton.com
SUMMARY:Kitchen open 11-9 Tavern open 11-11. 1/2 price hot dogs or chili cheese dogs. Dine in only.
DESCRIPTION:
URL:https://thequarrythornton.com/event/kitchen-open-11-9-tavern-open-11-12-open-mic-7-10/2028-09-07/
END:VEVENT
BEGIN:VEVENT
DTSTART;TZID=America/Chicago:20280908T110000
DTEND;TZID=America/Chicago:20280908T235900
DTSTAMP:20260425T055458
CREATED:20240110T234444Z
LAST-MODIFIED:20260123T151734Z
UID:10009635-1852023600-1852070340@thequarrythornton.com
SUMMARY:Kitchen open 11-9 Tavern open 11-12.
DESCRIPTION:
URL:https://thequarrythornton.com/event/kitchen-taven-open-11-12-live-music-every-friday-100-winner-karaoke-every-other/2028-09-08/
END:VEVENT
BEGIN:VEVENT
DTSTART;TZID=America/Chicago:20280909T110000
DTEND;TZID=America/Chicago:20280909T235900
DTSTAMP:20260425T055458
CREATED:20240110T235242Z
LAST-MODIFIED:20240313T170456Z
UID:10009896-1852110000-1852156740@thequarrythornton.com
SUMMARY:Kitchen open 11-9 Tavern open 11-12. Live Music every Saturday 7-10
DESCRIPTION:
URL:https://thequarrythornton.com/event/kitchen-tavern-open-11-12-live-music-every-saturday/2028-09-09/
END:VEVENT
BEGIN:VEVENT
DTSTART;TZID=America/Chicago:20280910T110000
DTEND;TZID=America/Chicago:20280910T230000
DTSTAMP:20260425T055458
CREATED:20240110T235336Z
LAST-MODIFIED:20260113T182408Z
UID:10010157-1852196400-1852239600@thequarrythornton.com
SUMMARY:Kitchen open 11-7 Tavern open 11-11.
DESCRIPTION:
URL:https://thequarrythornton.com/event/kitchen-open-11-7-tavern-open-11-11/2028-09-10/
END:VEVENT
BEGIN:VEVENT
DTSTART;TZID=America/Chicago:20280911T110000
DTEND;TZID=America/Chicago:20280911T230000
DTSTAMP:20260425T055458
CREATED:20240110T235437Z
LAST-MODIFIED:20250510T191022Z
UID:10011062-1852282800-1852326000@thequarrythornton.com
SUMMARY:Kitchen open 11-9 Tavern open 11-11. 1/2 price pizza. Dine in only.
DESCRIPTION:
URL:https://thequarrythornton.com/event/kitchen-open-3-9-tavern-open-3-11/2028-09-11/
END:VEVENT
BEGIN:VEVENT
DTSTART;TZID=America/Chicago:20280912T110000
DTEND;TZID=America/Chicago:20280912T230000
DTSTAMP:20260425T055458
CREATED:20240110T235532Z
LAST-MODIFIED:20250325T221155Z
UID:10011621-1852369200-1852412400@thequarrythornton.com
SUMMARY:Kitchen open 11-9 Tavern open 11-11. Taco Tuesday! 3 beef\, pork or chicken $7.50
DESCRIPTION:
URL:https://thequarrythornton.com/event/kitchen-open-3-9-tavern-open-3-11-2/2028-09-12/
END:VEVENT
BEGIN:VEVENT
DTSTART;TZID=America/Chicago:20280913T110000
DTEND;TZID=America/Chicago:20280913T230000
DTSTAMP:20260425T055458
CREATED:20240110T233647Z
LAST-MODIFIED:20250510T190409Z
UID:10011342-1852455600-1852498800@thequarrythornton.com
SUMMARY:Kitchen open 11-9 Tavern open 11-11. Wing Wednesday 1/2 price traditional wings. Dine in only.
DESCRIPTION:
URL:https://thequarrythornton.com/event/kitchen-open-3-9-tavern-open-3-11-free-bingo-every-wednesday-7-9/2028-09-13/
END:VEVENT
BEGIN:VEVENT
DTSTART;TZID=America/Chicago:20280914T110000
DTEND;TZID=America/Chicago:20280914T235900
DTSTAMP:20260425T055458
CREATED:20240110T233826Z
LAST-MODIFIED:20250510T190549Z
UID:10011901-1852542000-1852588740@thequarrythornton.com
SUMMARY:Kitchen open 11-9 Tavern open 11-11. 1/2 price hot dogs or chili cheese dogs. Dine in only.
DESCRIPTION:
URL:https://thequarrythornton.com/event/kitchen-open-11-9-tavern-open-11-12-open-mic-7-10/2028-09-14/
END:VEVENT
BEGIN:VEVENT
DTSTART;TZID=America/Chicago:20280915T110000
DTEND;TZID=America/Chicago:20280915T235900
DTSTAMP:20260425T055458
CREATED:20240110T234444Z
LAST-MODIFIED:20260123T151734Z
UID:10009636-1852628400-1852675140@thequarrythornton.com
SUMMARY:Kitchen open 11-9 Tavern open 11-12.
DESCRIPTION:
URL:https://thequarrythornton.com/event/kitchen-taven-open-11-12-live-music-every-friday-100-winner-karaoke-every-other/2028-09-15/
END:VEVENT
BEGIN:VEVENT
DTSTART;TZID=America/Chicago:20280916T110000
DTEND;TZID=America/Chicago:20280916T235900
DTSTAMP:20260425T055458
CREATED:20240110T235242Z
LAST-MODIFIED:20240313T170456Z
UID:10009897-1852714800-1852761540@thequarrythornton.com
SUMMARY:Kitchen open 11-9 Tavern open 11-12. Live Music every Saturday 7-10
DESCRIPTION:
URL:https://thequarrythornton.com/event/kitchen-tavern-open-11-12-live-music-every-saturday/2028-09-16/
END:VEVENT
BEGIN:VEVENT
DTSTART;TZID=America/Chicago:20280917T110000
DTEND;TZID=America/Chicago:20280917T230000
DTSTAMP:20260425T055458
CREATED:20240110T235336Z
LAST-MODIFIED:20260113T182408Z
UID:10010158-1852801200-1852844400@thequarrythornton.com
SUMMARY:Kitchen open 11-7 Tavern open 11-11.
DESCRIPTION:
URL:https://thequarrythornton.com/event/kitchen-open-11-7-tavern-open-11-11/2028-09-17/
END:VEVENT
BEGIN:VEVENT
DTSTART;TZID=America/Chicago:20280918T110000
DTEND;TZID=America/Chicago:20280918T230000
DTSTAMP:20260425T055458
CREATED:20240110T235437Z
LAST-MODIFIED:20250510T191022Z
UID:10011063-1852887600-1852930800@thequarrythornton.com
SUMMARY:Kitchen open 11-9 Tavern open 11-11. 1/2 price pizza. Dine in only.
DESCRIPTION:
URL:https://thequarrythornton.com/event/kitchen-open-3-9-tavern-open-3-11/2028-09-18/
END:VEVENT
BEGIN:VEVENT
DTSTART;TZID=America/Chicago:20280919T110000
DTEND;TZID=America/Chicago:20280919T230000
DTSTAMP:20260425T055458
CREATED:20240110T235532Z
LAST-MODIFIED:20250325T221155Z
UID:10011622-1852974000-1853017200@thequarrythornton.com
SUMMARY:Kitchen open 11-9 Tavern open 11-11. Taco Tuesday! 3 beef\, pork or chicken $7.50
DESCRIPTION:
URL:https://thequarrythornton.com/event/kitchen-open-3-9-tavern-open-3-11-2/2028-09-19/
END:VEVENT
BEGIN:VEVENT
DTSTART;TZID=America/Chicago:20280920T110000
DTEND;TZID=America/Chicago:20280920T230000
DTSTAMP:20260425T055458
CREATED:20240110T233647Z
LAST-MODIFIED:20250510T190409Z
UID:10011343-1853060400-1853103600@thequarrythornton.com
SUMMARY:Kitchen open 11-9 Tavern open 11-11. Wing Wednesday 1/2 price traditional wings. Dine in only.
DESCRIPTION:
URL:https://thequarrythornton.com/event/kitchen-open-3-9-tavern-open-3-11-free-bingo-every-wednesday-7-9/2028-09-20/
END:VEVENT
BEGIN:VEVENT
DTSTART;TZID=America/Chicago:20280921T110000
DTEND;TZID=America/Chicago:20280921T235900
DTSTAMP:20260425T055458
CREATED:20240110T233826Z
LAST-MODIFIED:20250510T190549Z
UID:10011902-1853146800-1853193540@thequarrythornton.com
SUMMARY:Kitchen open 11-9 Tavern open 11-11. 1/2 price hot dogs or chili cheese dogs. Dine in only.
DESCRIPTION:
URL:https://thequarrythornton.com/event/kitchen-open-11-9-tavern-open-11-12-open-mic-7-10/2028-09-21/
END:VEVENT
BEGIN:VEVENT
DTSTART;TZID=America/Chicago:20280922T110000
DTEND;TZID=America/Chicago:20280922T235900
DTSTAMP:20260425T055458
CREATED:20240110T234444Z
LAST-MODIFIED:20260123T151734Z
UID:10009637-1853233200-1853279940@thequarrythornton.com
SUMMARY:Kitchen open 11-9 Tavern open 11-12.
DESCRIPTION:
URL:https://thequarrythornton.com/event/kitchen-taven-open-11-12-live-music-every-friday-100-winner-karaoke-every-other/2028-09-22/
END:VEVENT
BEGIN:VEVENT
DTSTART;TZID=America/Chicago:20280923T110000
DTEND;TZID=America/Chicago:20280923T235900
DTSTAMP:20260425T055458
CREATED:20240110T235242Z
LAST-MODIFIED:20240313T170456Z
UID:10009898-1853319600-1853366340@thequarrythornton.com
SUMMARY:Kitchen open 11-9 Tavern open 11-12. Live Music every Saturday 7-10
DESCRIPTION:
URL:https://thequarrythornton.com/event/kitchen-tavern-open-11-12-live-music-every-saturday/2028-09-23/
END:VEVENT
END:VCALENDAR