BEGIN:VCALENDAR
VERSION:2.0
PRODID:-//The Quarry Ballroom - ECPv6.15.20//NONSGML v1.0//EN
CALSCALE:GREGORIAN
METHOD:PUBLISH
X-ORIGINAL-URL:https://thequarrythornton.com
X-WR-CALDESC:Events for The Quarry Ballroom
REFRESH-INTERVAL;VALUE=DURATION:PT1H
X-Robots-Tag:noindex
X-PUBLISHED-TTL:PT1H
BEGIN:VTIMEZONE
TZID:America/Chicago
BEGIN:DAYLIGHT
TZOFFSETFROM:-0600
TZOFFSETTO:-0500
TZNAME:CDT
DTSTART:20270314T080000
END:DAYLIGHT
BEGIN:STANDARD
TZOFFSETFROM:-0500
TZOFFSETTO:-0600
TZNAME:CST
DTSTART:20271107T070000
END:STANDARD
BEGIN:DAYLIGHT
TZOFFSETFROM:-0600
TZOFFSETTO:-0500
TZNAME:CDT
DTSTART:20280312T080000
END:DAYLIGHT
BEGIN:STANDARD
TZOFFSETFROM:-0500
TZOFFSETTO:-0600
TZNAME:CST
DTSTART:20281105T070000
END:STANDARD
BEGIN:DAYLIGHT
TZOFFSETFROM:-0600
TZOFFSETTO:-0500
TZNAME:CDT
DTSTART:20290311T080000
END:DAYLIGHT
BEGIN:STANDARD
TZOFFSETFROM:-0500
TZOFFSETTO:-0600
TZNAME:CST
DTSTART:20291104T070000
END:STANDARD
END:VTIMEZONE
BEGIN:VEVENT
DTSTART;TZID=America/Chicago:20280508T110000
DTEND;TZID=America/Chicago:20280508T230000
DTSTAMP:20260424T225032
CREATED:20240110T235437Z
LAST-MODIFIED:20250510T191022Z
UID:10011044-1841396400-1841439600@thequarrythornton.com
SUMMARY:Kitchen open 11-9 Tavern open 11-11. 1/2 price pizza. Dine in only.
DESCRIPTION:
URL:https://thequarrythornton.com/event/kitchen-open-3-9-tavern-open-3-11/2028-05-08/
END:VEVENT
BEGIN:VEVENT
DTSTART;TZID=America/Chicago:20280509T110000
DTEND;TZID=America/Chicago:20280509T230000
DTSTAMP:20260424T225032
CREATED:20240110T235532Z
LAST-MODIFIED:20250325T221155Z
UID:10011603-1841482800-1841526000@thequarrythornton.com
SUMMARY:Kitchen open 11-9 Tavern open 11-11. Taco Tuesday! 3 beef\, pork or chicken $7.50
DESCRIPTION:
URL:https://thequarrythornton.com/event/kitchen-open-3-9-tavern-open-3-11-2/2028-05-09/
END:VEVENT
BEGIN:VEVENT
DTSTART;TZID=America/Chicago:20280510T110000
DTEND;TZID=America/Chicago:20280510T230000
DTSTAMP:20260424T225032
CREATED:20240110T233647Z
LAST-MODIFIED:20250510T190409Z
UID:10011324-1841569200-1841612400@thequarrythornton.com
SUMMARY:Kitchen open 11-9 Tavern open 11-11. Wing Wednesday 1/2 price traditional wings. Dine in only.
DESCRIPTION:
URL:https://thequarrythornton.com/event/kitchen-open-3-9-tavern-open-3-11-free-bingo-every-wednesday-7-9/2028-05-10/
END:VEVENT
BEGIN:VEVENT
DTSTART;TZID=America/Chicago:20280511T110000
DTEND;TZID=America/Chicago:20280511T235900
DTSTAMP:20260424T225032
CREATED:20240110T233826Z
LAST-MODIFIED:20250510T190549Z
UID:10011883-1841655600-1841702340@thequarrythornton.com
SUMMARY:Kitchen open 11-9 Tavern open 11-11. 1/2 price hot dogs or chili cheese dogs. Dine in only.
DESCRIPTION:
URL:https://thequarrythornton.com/event/kitchen-open-11-9-tavern-open-11-12-open-mic-7-10/2028-05-11/
END:VEVENT
BEGIN:VEVENT
DTSTART;TZID=America/Chicago:20280512T110000
DTEND;TZID=America/Chicago:20280512T235900
DTSTAMP:20260424T225032
CREATED:20240110T234444Z
LAST-MODIFIED:20260123T151734Z
UID:10009618-1841742000-1841788740@thequarrythornton.com
SUMMARY:Kitchen open 11-9 Tavern open 11-12.
DESCRIPTION:
URL:https://thequarrythornton.com/event/kitchen-taven-open-11-12-live-music-every-friday-100-winner-karaoke-every-other/2028-05-12/
END:VEVENT
BEGIN:VEVENT
DTSTART;TZID=America/Chicago:20280513T110000
DTEND;TZID=America/Chicago:20280513T235900
DTSTAMP:20260424T225032
CREATED:20240110T235242Z
LAST-MODIFIED:20240313T170456Z
UID:10009879-1841828400-1841875140@thequarrythornton.com
SUMMARY:Kitchen open 11-9 Tavern open 11-12. Live Music every Saturday 7-10
DESCRIPTION:
URL:https://thequarrythornton.com/event/kitchen-tavern-open-11-12-live-music-every-saturday/2028-05-13/
END:VEVENT
BEGIN:VEVENT
DTSTART;TZID=America/Chicago:20280514T110000
DTEND;TZID=America/Chicago:20280514T230000
DTSTAMP:20260424T225032
CREATED:20240110T235336Z
LAST-MODIFIED:20260113T182408Z
UID:10010140-1841914800-1841958000@thequarrythornton.com
SUMMARY:Kitchen open 11-7 Tavern open 11-11.
DESCRIPTION:
URL:https://thequarrythornton.com/event/kitchen-open-11-7-tavern-open-11-11/2028-05-14/
END:VEVENT
BEGIN:VEVENT
DTSTART;TZID=America/Chicago:20280515T110000
DTEND;TZID=America/Chicago:20280515T230000
DTSTAMP:20260424T225032
CREATED:20240110T235437Z
LAST-MODIFIED:20250510T191022Z
UID:10011045-1842001200-1842044400@thequarrythornton.com
SUMMARY:Kitchen open 11-9 Tavern open 11-11. 1/2 price pizza. Dine in only.
DESCRIPTION:
URL:https://thequarrythornton.com/event/kitchen-open-3-9-tavern-open-3-11/2028-05-15/
END:VEVENT
BEGIN:VEVENT
DTSTART;TZID=America/Chicago:20280516T110000
DTEND;TZID=America/Chicago:20280516T230000
DTSTAMP:20260424T225032
CREATED:20240110T235532Z
LAST-MODIFIED:20250325T221155Z
UID:10011604-1842087600-1842130800@thequarrythornton.com
SUMMARY:Kitchen open 11-9 Tavern open 11-11. Taco Tuesday! 3 beef\, pork or chicken $7.50
DESCRIPTION:
URL:https://thequarrythornton.com/event/kitchen-open-3-9-tavern-open-3-11-2/2028-05-16/
END:VEVENT
BEGIN:VEVENT
DTSTART;TZID=America/Chicago:20280517T110000
DTEND;TZID=America/Chicago:20280517T230000
DTSTAMP:20260424T225032
CREATED:20240110T233647Z
LAST-MODIFIED:20250510T190409Z
UID:10011325-1842174000-1842217200@thequarrythornton.com
SUMMARY:Kitchen open 11-9 Tavern open 11-11. Wing Wednesday 1/2 price traditional wings. Dine in only.
DESCRIPTION:
URL:https://thequarrythornton.com/event/kitchen-open-3-9-tavern-open-3-11-free-bingo-every-wednesday-7-9/2028-05-17/
END:VEVENT
BEGIN:VEVENT
DTSTART;TZID=America/Chicago:20280518T110000
DTEND;TZID=America/Chicago:20280518T235900
DTSTAMP:20260424T225032
CREATED:20240110T233826Z
LAST-MODIFIED:20250510T190549Z
UID:10011884-1842260400-1842307140@thequarrythornton.com
SUMMARY:Kitchen open 11-9 Tavern open 11-11. 1/2 price hot dogs or chili cheese dogs. Dine in only.
DESCRIPTION:
URL:https://thequarrythornton.com/event/kitchen-open-11-9-tavern-open-11-12-open-mic-7-10/2028-05-18/
END:VEVENT
BEGIN:VEVENT
DTSTART;TZID=America/Chicago:20280519T110000
DTEND;TZID=America/Chicago:20280519T235900
DTSTAMP:20260424T225032
CREATED:20240110T234444Z
LAST-MODIFIED:20260123T151734Z
UID:10009619-1842346800-1842393540@thequarrythornton.com
SUMMARY:Kitchen open 11-9 Tavern open 11-12.
DESCRIPTION:
URL:https://thequarrythornton.com/event/kitchen-taven-open-11-12-live-music-every-friday-100-winner-karaoke-every-other/2028-05-19/
END:VEVENT
BEGIN:VEVENT
DTSTART;TZID=America/Chicago:20280520T110000
DTEND;TZID=America/Chicago:20280520T235900
DTSTAMP:20260424T225032
CREATED:20240110T235242Z
LAST-MODIFIED:20240313T170456Z
UID:10009880-1842433200-1842479940@thequarrythornton.com
SUMMARY:Kitchen open 11-9 Tavern open 11-12. Live Music every Saturday 7-10
DESCRIPTION:
URL:https://thequarrythornton.com/event/kitchen-tavern-open-11-12-live-music-every-saturday/2028-05-20/
END:VEVENT
BEGIN:VEVENT
DTSTART;TZID=America/Chicago:20280521T110000
DTEND;TZID=America/Chicago:20280521T230000
DTSTAMP:20260424T225032
CREATED:20240110T235336Z
LAST-MODIFIED:20260113T182408Z
UID:10010141-1842519600-1842562800@thequarrythornton.com
SUMMARY:Kitchen open 11-7 Tavern open 11-11.
DESCRIPTION:
URL:https://thequarrythornton.com/event/kitchen-open-11-7-tavern-open-11-11/2028-05-21/
END:VEVENT
BEGIN:VEVENT
DTSTART;TZID=America/Chicago:20280522T110000
DTEND;TZID=America/Chicago:20280522T230000
DTSTAMP:20260424T225032
CREATED:20240110T235437Z
LAST-MODIFIED:20250510T191022Z
UID:10011046-1842606000-1842649200@thequarrythornton.com
SUMMARY:Kitchen open 11-9 Tavern open 11-11. 1/2 price pizza. Dine in only.
DESCRIPTION:
URL:https://thequarrythornton.com/event/kitchen-open-3-9-tavern-open-3-11/2028-05-22/
END:VEVENT
BEGIN:VEVENT
DTSTART;TZID=America/Chicago:20280523T110000
DTEND;TZID=America/Chicago:20280523T230000
DTSTAMP:20260424T225032
CREATED:20240110T235532Z
LAST-MODIFIED:20250325T221155Z
UID:10011605-1842692400-1842735600@thequarrythornton.com
SUMMARY:Kitchen open 11-9 Tavern open 11-11. Taco Tuesday! 3 beef\, pork or chicken $7.50
DESCRIPTION:
URL:https://thequarrythornton.com/event/kitchen-open-3-9-tavern-open-3-11-2/2028-05-23/
END:VEVENT
BEGIN:VEVENT
DTSTART;TZID=America/Chicago:20280524T110000
DTEND;TZID=America/Chicago:20280524T230000
DTSTAMP:20260424T225032
CREATED:20240110T233647Z
LAST-MODIFIED:20250510T190409Z
UID:10011326-1842778800-1842822000@thequarrythornton.com
SUMMARY:Kitchen open 11-9 Tavern open 11-11. Wing Wednesday 1/2 price traditional wings. Dine in only.
DESCRIPTION:
URL:https://thequarrythornton.com/event/kitchen-open-3-9-tavern-open-3-11-free-bingo-every-wednesday-7-9/2028-05-24/
END:VEVENT
BEGIN:VEVENT
DTSTART;TZID=America/Chicago:20280525T110000
DTEND;TZID=America/Chicago:20280525T235900
DTSTAMP:20260424T225032
CREATED:20240110T233826Z
LAST-MODIFIED:20250510T190549Z
UID:10011885-1842865200-1842911940@thequarrythornton.com
SUMMARY:Kitchen open 11-9 Tavern open 11-11. 1/2 price hot dogs or chili cheese dogs. Dine in only.
DESCRIPTION:
URL:https://thequarrythornton.com/event/kitchen-open-11-9-tavern-open-11-12-open-mic-7-10/2028-05-25/
END:VEVENT
BEGIN:VEVENT
DTSTART;TZID=America/Chicago:20280526T110000
DTEND;TZID=America/Chicago:20280526T235900
DTSTAMP:20260424T225032
CREATED:20240110T234444Z
LAST-MODIFIED:20260123T151734Z
UID:10009620-1842951600-1842998340@thequarrythornton.com
SUMMARY:Kitchen open 11-9 Tavern open 11-12.
DESCRIPTION:
URL:https://thequarrythornton.com/event/kitchen-taven-open-11-12-live-music-every-friday-100-winner-karaoke-every-other/2028-05-26/
END:VEVENT
BEGIN:VEVENT
DTSTART;TZID=America/Chicago:20280527T110000
DTEND;TZID=America/Chicago:20280527T235900
DTSTAMP:20260424T225032
CREATED:20240110T235242Z
LAST-MODIFIED:20240313T170456Z
UID:10009881-1843038000-1843084740@thequarrythornton.com
SUMMARY:Kitchen open 11-9 Tavern open 11-12. Live Music every Saturday 7-10
DESCRIPTION:
URL:https://thequarrythornton.com/event/kitchen-tavern-open-11-12-live-music-every-saturday/2028-05-27/
END:VEVENT
BEGIN:VEVENT
DTSTART;TZID=America/Chicago:20280528T110000
DTEND;TZID=America/Chicago:20280528T230000
DTSTAMP:20260424T225032
CREATED:20240110T235336Z
LAST-MODIFIED:20260113T182408Z
UID:10010142-1843124400-1843167600@thequarrythornton.com
SUMMARY:Kitchen open 11-7 Tavern open 11-11.
DESCRIPTION:
URL:https://thequarrythornton.com/event/kitchen-open-11-7-tavern-open-11-11/2028-05-28/
END:VEVENT
BEGIN:VEVENT
DTSTART;TZID=America/Chicago:20280529T110000
DTEND;TZID=America/Chicago:20280529T230000
DTSTAMP:20260424T225032
CREATED:20240110T235437Z
LAST-MODIFIED:20250510T191022Z
UID:10011047-1843210800-1843254000@thequarrythornton.com
SUMMARY:Kitchen open 11-9 Tavern open 11-11. 1/2 price pizza. Dine in only.
DESCRIPTION:
URL:https://thequarrythornton.com/event/kitchen-open-3-9-tavern-open-3-11/2028-05-29/
END:VEVENT
BEGIN:VEVENT
DTSTART;TZID=America/Chicago:20280530T110000
DTEND;TZID=America/Chicago:20280530T230000
DTSTAMP:20260424T225032
CREATED:20240110T235532Z
LAST-MODIFIED:20250325T221155Z
UID:10011606-1843297200-1843340400@thequarrythornton.com
SUMMARY:Kitchen open 11-9 Tavern open 11-11. Taco Tuesday! 3 beef\, pork or chicken $7.50
DESCRIPTION:
URL:https://thequarrythornton.com/event/kitchen-open-3-9-tavern-open-3-11-2/2028-05-30/
END:VEVENT
BEGIN:VEVENT
DTSTART;TZID=America/Chicago:20280531T110000
DTEND;TZID=America/Chicago:20280531T230000
DTSTAMP:20260424T225032
CREATED:20240110T233647Z
LAST-MODIFIED:20250510T190409Z
UID:10011327-1843383600-1843426800@thequarrythornton.com
SUMMARY:Kitchen open 11-9 Tavern open 11-11. Wing Wednesday 1/2 price traditional wings. Dine in only.
DESCRIPTION:
URL:https://thequarrythornton.com/event/kitchen-open-3-9-tavern-open-3-11-free-bingo-every-wednesday-7-9/2028-05-31/
END:VEVENT
BEGIN:VEVENT
DTSTART;TZID=America/Chicago:20280601T110000
DTEND;TZID=America/Chicago:20280601T235900
DTSTAMP:20260424T225032
CREATED:20240110T233826Z
LAST-MODIFIED:20250510T190549Z
UID:10011886-1843470000-1843516740@thequarrythornton.com
SUMMARY:Kitchen open 11-9 Tavern open 11-11. 1/2 price hot dogs or chili cheese dogs. Dine in only.
DESCRIPTION:
URL:https://thequarrythornton.com/event/kitchen-open-11-9-tavern-open-11-12-open-mic-7-10/2028-06-01/
END:VEVENT
BEGIN:VEVENT
DTSTART;TZID=America/Chicago:20280602T110000
DTEND;TZID=America/Chicago:20280602T235900
DTSTAMP:20260424T225032
CREATED:20240110T234444Z
LAST-MODIFIED:20260123T151734Z
UID:10009621-1843556400-1843603140@thequarrythornton.com
SUMMARY:Kitchen open 11-9 Tavern open 11-12.
DESCRIPTION:
URL:https://thequarrythornton.com/event/kitchen-taven-open-11-12-live-music-every-friday-100-winner-karaoke-every-other/2028-06-02/
END:VEVENT
BEGIN:VEVENT
DTSTART;TZID=America/Chicago:20280603T110000
DTEND;TZID=America/Chicago:20280603T235900
DTSTAMP:20260424T225032
CREATED:20240110T235242Z
LAST-MODIFIED:20240313T170456Z
UID:10009882-1843642800-1843689540@thequarrythornton.com
SUMMARY:Kitchen open 11-9 Tavern open 11-12. Live Music every Saturday 7-10
DESCRIPTION:
URL:https://thequarrythornton.com/event/kitchen-tavern-open-11-12-live-music-every-saturday/2028-06-03/
END:VEVENT
BEGIN:VEVENT
DTSTART;TZID=America/Chicago:20280604T110000
DTEND;TZID=America/Chicago:20280604T230000
DTSTAMP:20260424T225032
CREATED:20240110T235336Z
LAST-MODIFIED:20260113T182408Z
UID:10010143-1843729200-1843772400@thequarrythornton.com
SUMMARY:Kitchen open 11-7 Tavern open 11-11.
DESCRIPTION:
URL:https://thequarrythornton.com/event/kitchen-open-11-7-tavern-open-11-11/2028-06-04/
END:VEVENT
BEGIN:VEVENT
DTSTART;TZID=America/Chicago:20280605T110000
DTEND;TZID=America/Chicago:20280605T230000
DTSTAMP:20260424T225033
CREATED:20240110T235437Z
LAST-MODIFIED:20250510T191022Z
UID:10011048-1843815600-1843858800@thequarrythornton.com
SUMMARY:Kitchen open 11-9 Tavern open 11-11. 1/2 price pizza. Dine in only.
DESCRIPTION:
URL:https://thequarrythornton.com/event/kitchen-open-3-9-tavern-open-3-11/2028-06-05/
END:VEVENT
BEGIN:VEVENT
DTSTART;TZID=America/Chicago:20280606T110000
DTEND;TZID=America/Chicago:20280606T230000
DTSTAMP:20260424T225033
CREATED:20240110T235532Z
LAST-MODIFIED:20250325T221155Z
UID:10011607-1843902000-1843945200@thequarrythornton.com
SUMMARY:Kitchen open 11-9 Tavern open 11-11. Taco Tuesday! 3 beef\, pork or chicken $7.50
DESCRIPTION:
URL:https://thequarrythornton.com/event/kitchen-open-3-9-tavern-open-3-11-2/2028-06-06/
END:VEVENT
END:VCALENDAR