BEGIN:VCALENDAR
VERSION:2.0
PRODID:-//The Quarry Ballroom - ECPv6.15.17.1//NONSGML v1.0//EN
CALSCALE:GREGORIAN
METHOD:PUBLISH
X-ORIGINAL-URL:https://thequarrythornton.com
X-WR-CALDESC:Events for The Quarry Ballroom
REFRESH-INTERVAL;VALUE=DURATION:PT1H
X-Robots-Tag:noindex
X-PUBLISHED-TTL:PT1H
BEGIN:VTIMEZONE
TZID:America/Chicago
BEGIN:DAYLIGHT
TZOFFSETFROM:-0600
TZOFFSETTO:-0500
TZNAME:CDT
DTSTART:20250309T080000
END:DAYLIGHT
BEGIN:STANDARD
TZOFFSETFROM:-0500
TZOFFSETTO:-0600
TZNAME:CST
DTSTART:20251102T070000
END:STANDARD
BEGIN:DAYLIGHT
TZOFFSETFROM:-0600
TZOFFSETTO:-0500
TZNAME:CDT
DTSTART:20260308T080000
END:DAYLIGHT
BEGIN:STANDARD
TZOFFSETFROM:-0500
TZOFFSETTO:-0600
TZNAME:CST
DTSTART:20261101T070000
END:STANDARD
BEGIN:DAYLIGHT
TZOFFSETFROM:-0600
TZOFFSETTO:-0500
TZNAME:CDT
DTSTART:20270314T080000
END:DAYLIGHT
BEGIN:STANDARD
TZOFFSETFROM:-0500
TZOFFSETTO:-0600
TZNAME:CST
DTSTART:20271107T070000
END:STANDARD
END:VTIMEZONE
BEGIN:VEVENT
DTSTART;TZID=America/Chicago:20261125T110000
DTEND;TZID=America/Chicago:20261125T230000
DTSTAMP:20260422T002707
CREATED:20240110T233647Z
LAST-MODIFIED:20250510T190409Z
UID:10011248-1795604400-1795647600@thequarrythornton.com
SUMMARY:Kitchen open 11-9 Tavern open 11-11. Wing Wednesday 1/2 price traditional wings. Dine in only.
DESCRIPTION:
URL:https://thequarrythornton.com/event/kitchen-open-3-9-tavern-open-3-11-free-bingo-every-wednesday-7-9/2026-11-25/
END:VEVENT
BEGIN:VEVENT
DTSTART;TZID=America/Chicago:20261126T110000
DTEND;TZID=America/Chicago:20261126T235900
DTSTAMP:20260422T002707
CREATED:20240110T233826Z
LAST-MODIFIED:20250510T190549Z
UID:10011807-1795690800-1795737540@thequarrythornton.com
SUMMARY:Kitchen open 11-9 Tavern open 11-11. 1/2 price hot dogs or chili cheese dogs. Dine in only.
DESCRIPTION:
URL:https://thequarrythornton.com/event/kitchen-open-11-9-tavern-open-11-12-open-mic-7-10/2026-11-26/
END:VEVENT
BEGIN:VEVENT
DTSTART;TZID=America/Chicago:20261127T110000
DTEND;TZID=America/Chicago:20261127T235900
DTSTAMP:20260422T002707
CREATED:20240110T234444Z
LAST-MODIFIED:20260123T151734Z
UID:10009542-1795777200-1795823940@thequarrythornton.com
SUMMARY:Kitchen open 11-9 Tavern open 11-12.
DESCRIPTION:
URL:https://thequarrythornton.com/event/kitchen-taven-open-11-12-live-music-every-friday-100-winner-karaoke-every-other/2026-11-27/
END:VEVENT
BEGIN:VEVENT
DTSTART;TZID=America/Chicago:20261128T110000
DTEND;TZID=America/Chicago:20261128T235900
DTSTAMP:20260422T002707
CREATED:20240110T235242Z
LAST-MODIFIED:20240313T170456Z
UID:10009803-1795863600-1795910340@thequarrythornton.com
SUMMARY:Kitchen open 11-9 Tavern open 11-12. Live Music every Saturday 7-10
DESCRIPTION:
URL:https://thequarrythornton.com/event/kitchen-tavern-open-11-12-live-music-every-saturday/2026-11-28/
END:VEVENT
BEGIN:VEVENT
DTSTART;TZID=America/Chicago:20261129T110000
DTEND;TZID=America/Chicago:20261129T230000
DTSTAMP:20260422T002707
CREATED:20240110T235336Z
LAST-MODIFIED:20260113T182408Z
UID:10010064-1795950000-1795993200@thequarrythornton.com
SUMMARY:Kitchen open 11-7 Tavern open 11-11.
DESCRIPTION:
URL:https://thequarrythornton.com/event/kitchen-open-11-7-tavern-open-11-11/2026-11-29/
END:VEVENT
BEGIN:VEVENT
DTSTART;TZID=America/Chicago:20261130T110000
DTEND;TZID=America/Chicago:20261130T230000
DTSTAMP:20260422T002707
CREATED:20240110T235437Z
LAST-MODIFIED:20250510T191022Z
UID:10010969-1796036400-1796079600@thequarrythornton.com
SUMMARY:Kitchen open 11-9 Tavern open 11-11. 1/2 price pizza. Dine in only.
DESCRIPTION:
URL:https://thequarrythornton.com/event/kitchen-open-3-9-tavern-open-3-11/2026-11-30/
END:VEVENT
BEGIN:VEVENT
DTSTART;TZID=America/Chicago:20261201T110000
DTEND;TZID=America/Chicago:20261201T230000
DTSTAMP:20260422T002707
CREATED:20240110T235532Z
LAST-MODIFIED:20250325T221155Z
UID:10011528-1796122800-1796166000@thequarrythornton.com
SUMMARY:Kitchen open 11-9 Tavern open 11-11. Taco Tuesday! 3 beef\, pork or chicken $7.50
DESCRIPTION:
URL:https://thequarrythornton.com/event/kitchen-open-3-9-tavern-open-3-11-2/2026-12-01/
END:VEVENT
BEGIN:VEVENT
DTSTART;TZID=America/Chicago:20261202T110000
DTEND;TZID=America/Chicago:20261202T230000
DTSTAMP:20260422T002707
CREATED:20240110T233647Z
LAST-MODIFIED:20250510T190409Z
UID:10011249-1796209200-1796252400@thequarrythornton.com
SUMMARY:Kitchen open 11-9 Tavern open 11-11. Wing Wednesday 1/2 price traditional wings. Dine in only.
DESCRIPTION:
URL:https://thequarrythornton.com/event/kitchen-open-3-9-tavern-open-3-11-free-bingo-every-wednesday-7-9/2026-12-02/
END:VEVENT
BEGIN:VEVENT
DTSTART;TZID=America/Chicago:20261203T110000
DTEND;TZID=America/Chicago:20261203T235900
DTSTAMP:20260422T002707
CREATED:20240110T233826Z
LAST-MODIFIED:20250510T190549Z
UID:10011808-1796295600-1796342340@thequarrythornton.com
SUMMARY:Kitchen open 11-9 Tavern open 11-11. 1/2 price hot dogs or chili cheese dogs. Dine in only.
DESCRIPTION:
URL:https://thequarrythornton.com/event/kitchen-open-11-9-tavern-open-11-12-open-mic-7-10/2026-12-03/
END:VEVENT
BEGIN:VEVENT
DTSTART;TZID=America/Chicago:20261204T110000
DTEND;TZID=America/Chicago:20261204T235900
DTSTAMP:20260422T002707
CREATED:20240110T234444Z
LAST-MODIFIED:20260123T151734Z
UID:10009543-1796382000-1796428740@thequarrythornton.com
SUMMARY:Kitchen open 11-9 Tavern open 11-12.
DESCRIPTION:
URL:https://thequarrythornton.com/event/kitchen-taven-open-11-12-live-music-every-friday-100-winner-karaoke-every-other/2026-12-04/
END:VEVENT
BEGIN:VEVENT
DTSTART;TZID=America/Chicago:20261205T110000
DTEND;TZID=America/Chicago:20261205T235900
DTSTAMP:20260422T002707
CREATED:20240110T235242Z
LAST-MODIFIED:20240313T170456Z
UID:10009804-1796468400-1796515140@thequarrythornton.com
SUMMARY:Kitchen open 11-9 Tavern open 11-12. Live Music every Saturday 7-10
DESCRIPTION:
URL:https://thequarrythornton.com/event/kitchen-tavern-open-11-12-live-music-every-saturday/2026-12-05/
END:VEVENT
BEGIN:VEVENT
DTSTART;TZID=America/Chicago:20261206T110000
DTEND;TZID=America/Chicago:20261206T230000
DTSTAMP:20260422T002707
CREATED:20240110T235336Z
LAST-MODIFIED:20260113T182408Z
UID:10010065-1796554800-1796598000@thequarrythornton.com
SUMMARY:Kitchen open 11-7 Tavern open 11-11.
DESCRIPTION:
URL:https://thequarrythornton.com/event/kitchen-open-11-7-tavern-open-11-11/2026-12-06/
END:VEVENT
BEGIN:VEVENT
DTSTART;TZID=America/Chicago:20261207T110000
DTEND;TZID=America/Chicago:20261207T230000
DTSTAMP:20260422T002707
CREATED:20240110T235437Z
LAST-MODIFIED:20250510T191022Z
UID:10010970-1796641200-1796684400@thequarrythornton.com
SUMMARY:Kitchen open 11-9 Tavern open 11-11. 1/2 price pizza. Dine in only.
DESCRIPTION:
URL:https://thequarrythornton.com/event/kitchen-open-3-9-tavern-open-3-11/2026-12-07/
END:VEVENT
BEGIN:VEVENT
DTSTART;TZID=America/Chicago:20261208T110000
DTEND;TZID=America/Chicago:20261208T230000
DTSTAMP:20260422T002707
CREATED:20240110T235532Z
LAST-MODIFIED:20250325T221155Z
UID:10011529-1796727600-1796770800@thequarrythornton.com
SUMMARY:Kitchen open 11-9 Tavern open 11-11. Taco Tuesday! 3 beef\, pork or chicken $7.50
DESCRIPTION:
URL:https://thequarrythornton.com/event/kitchen-open-3-9-tavern-open-3-11-2/2026-12-08/
END:VEVENT
BEGIN:VEVENT
DTSTART;TZID=America/Chicago:20261209T110000
DTEND;TZID=America/Chicago:20261209T230000
DTSTAMP:20260422T002707
CREATED:20240110T233647Z
LAST-MODIFIED:20250510T190409Z
UID:10011250-1796814000-1796857200@thequarrythornton.com
SUMMARY:Kitchen open 11-9 Tavern open 11-11. Wing Wednesday 1/2 price traditional wings. Dine in only.
DESCRIPTION:
URL:https://thequarrythornton.com/event/kitchen-open-3-9-tavern-open-3-11-free-bingo-every-wednesday-7-9/2026-12-09/
END:VEVENT
BEGIN:VEVENT
DTSTART;TZID=America/Chicago:20261210T110000
DTEND;TZID=America/Chicago:20261210T235900
DTSTAMP:20260422T002707
CREATED:20240110T233826Z
LAST-MODIFIED:20250510T190549Z
UID:10011809-1796900400-1796947140@thequarrythornton.com
SUMMARY:Kitchen open 11-9 Tavern open 11-11. 1/2 price hot dogs or chili cheese dogs. Dine in only.
DESCRIPTION:
URL:https://thequarrythornton.com/event/kitchen-open-11-9-tavern-open-11-12-open-mic-7-10/2026-12-10/
END:VEVENT
BEGIN:VEVENT
DTSTART;TZID=America/Chicago:20261211T110000
DTEND;TZID=America/Chicago:20261211T235900
DTSTAMP:20260422T002707
CREATED:20240110T234444Z
LAST-MODIFIED:20260123T151734Z
UID:10009544-1796986800-1797033540@thequarrythornton.com
SUMMARY:Kitchen open 11-9 Tavern open 11-12.
DESCRIPTION:
URL:https://thequarrythornton.com/event/kitchen-taven-open-11-12-live-music-every-friday-100-winner-karaoke-every-other/2026-12-11/
END:VEVENT
BEGIN:VEVENT
DTSTART;TZID=America/Chicago:20261212T110000
DTEND;TZID=America/Chicago:20261212T235900
DTSTAMP:20260422T002707
CREATED:20240110T235242Z
LAST-MODIFIED:20240313T170456Z
UID:10009805-1797073200-1797119940@thequarrythornton.com
SUMMARY:Kitchen open 11-9 Tavern open 11-12. Live Music every Saturday 7-10
DESCRIPTION:
URL:https://thequarrythornton.com/event/kitchen-tavern-open-11-12-live-music-every-saturday/2026-12-12/
END:VEVENT
BEGIN:VEVENT
DTSTART;TZID=America/Chicago:20261213T110000
DTEND;TZID=America/Chicago:20261213T230000
DTSTAMP:20260422T002707
CREATED:20240110T235336Z
LAST-MODIFIED:20260113T182408Z
UID:10010066-1797159600-1797202800@thequarrythornton.com
SUMMARY:Kitchen open 11-7 Tavern open 11-11.
DESCRIPTION:
URL:https://thequarrythornton.com/event/kitchen-open-11-7-tavern-open-11-11/2026-12-13/
END:VEVENT
BEGIN:VEVENT
DTSTART;TZID=America/Chicago:20261214T110000
DTEND;TZID=America/Chicago:20261214T230000
DTSTAMP:20260422T002707
CREATED:20240110T235437Z
LAST-MODIFIED:20250510T191022Z
UID:10010971-1797246000-1797289200@thequarrythornton.com
SUMMARY:Kitchen open 11-9 Tavern open 11-11. 1/2 price pizza. Dine in only.
DESCRIPTION:
URL:https://thequarrythornton.com/event/kitchen-open-3-9-tavern-open-3-11/2026-12-14/
END:VEVENT
BEGIN:VEVENT
DTSTART;TZID=America/Chicago:20261215T110000
DTEND;TZID=America/Chicago:20261215T230000
DTSTAMP:20260422T002707
CREATED:20240110T235532Z
LAST-MODIFIED:20250325T221155Z
UID:10011530-1797332400-1797375600@thequarrythornton.com
SUMMARY:Kitchen open 11-9 Tavern open 11-11. Taco Tuesday! 3 beef\, pork or chicken $7.50
DESCRIPTION:
URL:https://thequarrythornton.com/event/kitchen-open-3-9-tavern-open-3-11-2/2026-12-15/
END:VEVENT
BEGIN:VEVENT
DTSTART;TZID=America/Chicago:20261216T110000
DTEND;TZID=America/Chicago:20261216T230000
DTSTAMP:20260422T002707
CREATED:20240110T233647Z
LAST-MODIFIED:20250510T190409Z
UID:10011251-1797418800-1797462000@thequarrythornton.com
SUMMARY:Kitchen open 11-9 Tavern open 11-11. Wing Wednesday 1/2 price traditional wings. Dine in only.
DESCRIPTION:
URL:https://thequarrythornton.com/event/kitchen-open-3-9-tavern-open-3-11-free-bingo-every-wednesday-7-9/2026-12-16/
END:VEVENT
BEGIN:VEVENT
DTSTART;TZID=America/Chicago:20261217T110000
DTEND;TZID=America/Chicago:20261217T235900
DTSTAMP:20260422T002707
CREATED:20240110T233826Z
LAST-MODIFIED:20250510T190549Z
UID:10011810-1797505200-1797551940@thequarrythornton.com
SUMMARY:Kitchen open 11-9 Tavern open 11-11. 1/2 price hot dogs or chili cheese dogs. Dine in only.
DESCRIPTION:
URL:https://thequarrythornton.com/event/kitchen-open-11-9-tavern-open-11-12-open-mic-7-10/2026-12-17/
END:VEVENT
BEGIN:VEVENT
DTSTART;TZID=America/Chicago:20261218T110000
DTEND;TZID=America/Chicago:20261218T235900
DTSTAMP:20260422T002707
CREATED:20240110T234444Z
LAST-MODIFIED:20260123T151734Z
UID:10009545-1797591600-1797638340@thequarrythornton.com
SUMMARY:Kitchen open 11-9 Tavern open 11-12.
DESCRIPTION:
URL:https://thequarrythornton.com/event/kitchen-taven-open-11-12-live-music-every-friday-100-winner-karaoke-every-other/2026-12-18/
END:VEVENT
BEGIN:VEVENT
DTSTART;TZID=America/Chicago:20261219T110000
DTEND;TZID=America/Chicago:20261219T235900
DTSTAMP:20260422T002707
CREATED:20240110T235242Z
LAST-MODIFIED:20240313T170456Z
UID:10009806-1797678000-1797724740@thequarrythornton.com
SUMMARY:Kitchen open 11-9 Tavern open 11-12. Live Music every Saturday 7-10
DESCRIPTION:
URL:https://thequarrythornton.com/event/kitchen-tavern-open-11-12-live-music-every-saturday/2026-12-19/
END:VEVENT
BEGIN:VEVENT
DTSTART;TZID=America/Chicago:20261220T110000
DTEND;TZID=America/Chicago:20261220T230000
DTSTAMP:20260422T002707
CREATED:20240110T235336Z
LAST-MODIFIED:20260113T182408Z
UID:10010067-1797764400-1797807600@thequarrythornton.com
SUMMARY:Kitchen open 11-7 Tavern open 11-11.
DESCRIPTION:
URL:https://thequarrythornton.com/event/kitchen-open-11-7-tavern-open-11-11/2026-12-20/
END:VEVENT
BEGIN:VEVENT
DTSTART;TZID=America/Chicago:20261221T110000
DTEND;TZID=America/Chicago:20261221T230000
DTSTAMP:20260422T002707
CREATED:20240110T235437Z
LAST-MODIFIED:20250510T191022Z
UID:10010972-1797850800-1797894000@thequarrythornton.com
SUMMARY:Kitchen open 11-9 Tavern open 11-11. 1/2 price pizza. Dine in only.
DESCRIPTION:
URL:https://thequarrythornton.com/event/kitchen-open-3-9-tavern-open-3-11/2026-12-21/
END:VEVENT
BEGIN:VEVENT
DTSTART;TZID=America/Chicago:20261222T110000
DTEND;TZID=America/Chicago:20261222T230000
DTSTAMP:20260422T002707
CREATED:20240110T235532Z
LAST-MODIFIED:20250325T221155Z
UID:10011531-1797937200-1797980400@thequarrythornton.com
SUMMARY:Kitchen open 11-9 Tavern open 11-11. Taco Tuesday! 3 beef\, pork or chicken $7.50
DESCRIPTION:
URL:https://thequarrythornton.com/event/kitchen-open-3-9-tavern-open-3-11-2/2026-12-22/
END:VEVENT
BEGIN:VEVENT
DTSTART;TZID=America/Chicago:20261223T110000
DTEND;TZID=America/Chicago:20261223T230000
DTSTAMP:20260422T002707
CREATED:20240110T233647Z
LAST-MODIFIED:20250510T190409Z
UID:10011252-1798023600-1798066800@thequarrythornton.com
SUMMARY:Kitchen open 11-9 Tavern open 11-11. Wing Wednesday 1/2 price traditional wings. Dine in only.
DESCRIPTION:
URL:https://thequarrythornton.com/event/kitchen-open-3-9-tavern-open-3-11-free-bingo-every-wednesday-7-9/2026-12-23/
END:VEVENT
BEGIN:VEVENT
DTSTART;TZID=America/Chicago:20261224T110000
DTEND;TZID=America/Chicago:20261224T235900
DTSTAMP:20260422T002707
CREATED:20240110T233826Z
LAST-MODIFIED:20250510T190549Z
UID:10011811-1798110000-1798156740@thequarrythornton.com
SUMMARY:Kitchen open 11-9 Tavern open 11-11. 1/2 price hot dogs or chili cheese dogs. Dine in only.
DESCRIPTION:
URL:https://thequarrythornton.com/event/kitchen-open-11-9-tavern-open-11-12-open-mic-7-10/2026-12-24/
END:VEVENT
END:VCALENDAR