BEGIN:VCALENDAR
VERSION:2.0
PRODID:-//The Quarry Ballroom - ECPv6.15.20//NONSGML v1.0//EN
CALSCALE:GREGORIAN
METHOD:PUBLISH
X-ORIGINAL-URL:https://thequarrythornton.com
X-WR-CALDESC:Events for The Quarry Ballroom
REFRESH-INTERVAL;VALUE=DURATION:PT1H
X-Robots-Tag:noindex
X-PUBLISHED-TTL:PT1H
BEGIN:VTIMEZONE
TZID:America/Chicago
BEGIN:DAYLIGHT
TZOFFSETFROM:-0600
TZOFFSETTO:-0500
TZNAME:CDT
DTSTART:20280312T080000
END:DAYLIGHT
BEGIN:STANDARD
TZOFFSETFROM:-0500
TZOFFSETTO:-0600
TZNAME:CST
DTSTART:20281105T070000
END:STANDARD
BEGIN:DAYLIGHT
TZOFFSETFROM:-0600
TZOFFSETTO:-0500
TZNAME:CDT
DTSTART:20290311T080000
END:DAYLIGHT
BEGIN:STANDARD
TZOFFSETFROM:-0500
TZOFFSETTO:-0600
TZNAME:CST
DTSTART:20291104T070000
END:STANDARD
BEGIN:DAYLIGHT
TZOFFSETFROM:-0600
TZOFFSETTO:-0500
TZNAME:CDT
DTSTART:20300310T080000
END:DAYLIGHT
BEGIN:STANDARD
TZOFFSETFROM:-0500
TZOFFSETTO:-0600
TZNAME:CST
DTSTART:20301103T070000
END:STANDARD
END:VTIMEZONE
BEGIN:VEVENT
DTSTART;TZID=America/Chicago:20290103T110000
DTEND;TZID=America/Chicago:20290103T230000
DTSTAMP:20260425T210439
CREATED:20240110T233647Z
LAST-MODIFIED:20250510T190409Z
UID:10011358-1862132400-1862175600@thequarrythornton.com
SUMMARY:Kitchen open 11-9 Tavern open 11-11. Wing Wednesday 1/2 price traditional wings. Dine in only.
DESCRIPTION:
URL:https://thequarrythornton.com/event/kitchen-open-3-9-tavern-open-3-11-free-bingo-every-wednesday-7-9/2029-01-03/
END:VEVENT
BEGIN:VEVENT
DTSTART;TZID=America/Chicago:20290104T110000
DTEND;TZID=America/Chicago:20290104T235900
DTSTAMP:20260425T210439
CREATED:20240110T233826Z
LAST-MODIFIED:20250510T190549Z
UID:10011917-1862218800-1862265540@thequarrythornton.com
SUMMARY:Kitchen open 11-9 Tavern open 11-11. 1/2 price hot dogs or chili cheese dogs. Dine in only.
DESCRIPTION:
URL:https://thequarrythornton.com/event/kitchen-open-11-9-tavern-open-11-12-open-mic-7-10/2029-01-04/
END:VEVENT
BEGIN:VEVENT
DTSTART;TZID=America/Chicago:20290105T110000
DTEND;TZID=America/Chicago:20290105T235900
DTSTAMP:20260425T210439
CREATED:20240110T234444Z
LAST-MODIFIED:20260123T151734Z
UID:10009652-1862305200-1862351940@thequarrythornton.com
SUMMARY:Kitchen open 11-9 Tavern open 11-12.
DESCRIPTION:
URL:https://thequarrythornton.com/event/kitchen-taven-open-11-12-live-music-every-friday-100-winner-karaoke-every-other/2029-01-05/
END:VEVENT
BEGIN:VEVENT
DTSTART;TZID=America/Chicago:20290106T110000
DTEND;TZID=America/Chicago:20290106T235900
DTSTAMP:20260425T210439
CREATED:20240110T235242Z
LAST-MODIFIED:20240313T170456Z
UID:10009913-1862391600-1862438340@thequarrythornton.com
SUMMARY:Kitchen open 11-9 Tavern open 11-12. Live Music every Saturday 7-10
DESCRIPTION:
URL:https://thequarrythornton.com/event/kitchen-tavern-open-11-12-live-music-every-saturday/2029-01-06/
END:VEVENT
BEGIN:VEVENT
DTSTART;TZID=America/Chicago:20290107T110000
DTEND;TZID=America/Chicago:20290107T230000
DTSTAMP:20260425T210439
CREATED:20240110T235336Z
LAST-MODIFIED:20260113T182408Z
UID:10010174-1862478000-1862521200@thequarrythornton.com
SUMMARY:Kitchen open 11-7 Tavern open 11-11.
DESCRIPTION:
URL:https://thequarrythornton.com/event/kitchen-open-11-7-tavern-open-11-11/2029-01-07/
END:VEVENT
BEGIN:VEVENT
DTSTART;TZID=America/Chicago:20290108T110000
DTEND;TZID=America/Chicago:20290108T230000
DTSTAMP:20260425T210439
CREATED:20240110T235437Z
LAST-MODIFIED:20250510T191022Z
UID:10011079-1862564400-1862607600@thequarrythornton.com
SUMMARY:Kitchen open 11-9 Tavern open 11-11. 1/2 price pizza. Dine in only.
DESCRIPTION:
URL:https://thequarrythornton.com/event/kitchen-open-3-9-tavern-open-3-11/2029-01-08/
END:VEVENT
BEGIN:VEVENT
DTSTART;TZID=America/Chicago:20290109T110000
DTEND;TZID=America/Chicago:20290109T230000
DTSTAMP:20260425T210439
CREATED:20240110T235532Z
LAST-MODIFIED:20250325T221155Z
UID:10011638-1862650800-1862694000@thequarrythornton.com
SUMMARY:Kitchen open 11-9 Tavern open 11-11. Taco Tuesday! 3 beef\, pork or chicken $7.50
DESCRIPTION:
URL:https://thequarrythornton.com/event/kitchen-open-3-9-tavern-open-3-11-2/2029-01-09/
END:VEVENT
BEGIN:VEVENT
DTSTART;TZID=America/Chicago:20290110T110000
DTEND;TZID=America/Chicago:20290110T230000
DTSTAMP:20260425T210439
CREATED:20240110T233647Z
LAST-MODIFIED:20250510T190409Z
UID:10011359-1862737200-1862780400@thequarrythornton.com
SUMMARY:Kitchen open 11-9 Tavern open 11-11. Wing Wednesday 1/2 price traditional wings. Dine in only.
DESCRIPTION:
URL:https://thequarrythornton.com/event/kitchen-open-3-9-tavern-open-3-11-free-bingo-every-wednesday-7-9/2029-01-10/
END:VEVENT
BEGIN:VEVENT
DTSTART;TZID=America/Chicago:20290111T110000
DTEND;TZID=America/Chicago:20290111T235900
DTSTAMP:20260425T210439
CREATED:20240110T233826Z
LAST-MODIFIED:20250510T190549Z
UID:10011918-1862823600-1862870340@thequarrythornton.com
SUMMARY:Kitchen open 11-9 Tavern open 11-11. 1/2 price hot dogs or chili cheese dogs. Dine in only.
DESCRIPTION:
URL:https://thequarrythornton.com/event/kitchen-open-11-9-tavern-open-11-12-open-mic-7-10/2029-01-11/
END:VEVENT
BEGIN:VEVENT
DTSTART;TZID=America/Chicago:20290112T110000
DTEND;TZID=America/Chicago:20290112T235900
DTSTAMP:20260425T210439
CREATED:20240110T234444Z
LAST-MODIFIED:20260123T151734Z
UID:10010699-1862910000-1862956740@thequarrythornton.com
SUMMARY:Kitchen open 11-9 Tavern open 11-12.
DESCRIPTION:
URL:https://thequarrythornton.com/event/kitchen-taven-open-11-12-live-music-every-friday-100-winner-karaoke-every-other/2029-01-12/
END:VEVENT
BEGIN:VEVENT
DTSTART;TZID=America/Chicago:20290113T110000
DTEND;TZID=America/Chicago:20290113T235900
DTSTAMP:20260425T210439
CREATED:20240110T235242Z
LAST-MODIFIED:20240313T170456Z
UID:10010739-1862996400-1863043140@thequarrythornton.com
SUMMARY:Kitchen open 11-9 Tavern open 11-12. Live Music every Saturday 7-10
DESCRIPTION:
URL:https://thequarrythornton.com/event/kitchen-tavern-open-11-12-live-music-every-saturday/2029-01-13/
END:VEVENT
BEGIN:VEVENT
DTSTART;TZID=America/Chicago:20290114T110000
DTEND;TZID=America/Chicago:20290114T230000
DTSTAMP:20260425T210439
CREATED:20240110T235336Z
LAST-MODIFIED:20260113T182408Z
UID:10010730-1863082800-1863126000@thequarrythornton.com
SUMMARY:Kitchen open 11-7 Tavern open 11-11.
DESCRIPTION:
URL:https://thequarrythornton.com/event/kitchen-open-11-7-tavern-open-11-11/2029-01-14/
END:VEVENT
BEGIN:VEVENT
DTSTART;TZID=America/Chicago:20290115T110000
DTEND;TZID=America/Chicago:20290115T230000
DTSTAMP:20260425T210439
CREATED:20240110T235437Z
LAST-MODIFIED:20250510T191022Z
UID:10011080-1863169200-1863212400@thequarrythornton.com
SUMMARY:Kitchen open 11-9 Tavern open 11-11. 1/2 price pizza. Dine in only.
DESCRIPTION:
URL:https://thequarrythornton.com/event/kitchen-open-3-9-tavern-open-3-11/2029-01-15/
END:VEVENT
BEGIN:VEVENT
DTSTART;TZID=America/Chicago:20290116T110000
DTEND;TZID=America/Chicago:20290116T230000
DTSTAMP:20260425T210439
CREATED:20240110T235532Z
LAST-MODIFIED:20250325T221155Z
UID:10011639-1863255600-1863298800@thequarrythornton.com
SUMMARY:Kitchen open 11-9 Tavern open 11-11. Taco Tuesday! 3 beef\, pork or chicken $7.50
DESCRIPTION:
URL:https://thequarrythornton.com/event/kitchen-open-3-9-tavern-open-3-11-2/2029-01-16/
END:VEVENT
BEGIN:VEVENT
DTSTART;TZID=America/Chicago:20290117T110000
DTEND;TZID=America/Chicago:20290117T230000
DTSTAMP:20260425T210439
CREATED:20240110T233647Z
LAST-MODIFIED:20250510T190409Z
UID:10011360-1863342000-1863385200@thequarrythornton.com
SUMMARY:Kitchen open 11-9 Tavern open 11-11. Wing Wednesday 1/2 price traditional wings. Dine in only.
DESCRIPTION:
URL:https://thequarrythornton.com/event/kitchen-open-3-9-tavern-open-3-11-free-bingo-every-wednesday-7-9/2029-01-17/
END:VEVENT
BEGIN:VEVENT
DTSTART;TZID=America/Chicago:20290118T110000
DTEND;TZID=America/Chicago:20290118T235900
DTSTAMP:20260425T210439
CREATED:20240110T233826Z
LAST-MODIFIED:20250510T190549Z
UID:10011919-1863428400-1863475140@thequarrythornton.com
SUMMARY:Kitchen open 11-9 Tavern open 11-11. 1/2 price hot dogs or chili cheese dogs. Dine in only.
DESCRIPTION:
URL:https://thequarrythornton.com/event/kitchen-open-11-9-tavern-open-11-12-open-mic-7-10/2029-01-18/
END:VEVENT
BEGIN:VEVENT
DTSTART;TZID=America/Chicago:20290119T110000
DTEND;TZID=America/Chicago:20290119T235900
DTSTAMP:20260425T210439
CREATED:20240110T234444Z
LAST-MODIFIED:20260123T151734Z
UID:10010765-1863514800-1863561540@thequarrythornton.com
SUMMARY:Kitchen open 11-9 Tavern open 11-12.
DESCRIPTION:
URL:https://thequarrythornton.com/event/kitchen-taven-open-11-12-live-music-every-friday-100-winner-karaoke-every-other/2029-01-19/
END:VEVENT
BEGIN:VEVENT
DTSTART;TZID=America/Chicago:20290120T110000
DTEND;TZID=America/Chicago:20290120T235900
DTSTAMP:20260425T210439
CREATED:20240110T235242Z
LAST-MODIFIED:20240313T170456Z
UID:10010740-1863601200-1863647940@thequarrythornton.com
SUMMARY:Kitchen open 11-9 Tavern open 11-12. Live Music every Saturday 7-10
DESCRIPTION:
URL:https://thequarrythornton.com/event/kitchen-tavern-open-11-12-live-music-every-saturday/2029-01-20/
END:VEVENT
BEGIN:VEVENT
DTSTART;TZID=America/Chicago:20290121T110000
DTEND;TZID=America/Chicago:20290121T230000
DTSTAMP:20260425T210439
CREATED:20240110T235336Z
LAST-MODIFIED:20260113T182408Z
UID:10010731-1863687600-1863730800@thequarrythornton.com
SUMMARY:Kitchen open 11-7 Tavern open 11-11.
DESCRIPTION:
URL:https://thequarrythornton.com/event/kitchen-open-11-7-tavern-open-11-11/2029-01-21/
END:VEVENT
BEGIN:VEVENT
DTSTART;TZID=America/Chicago:20290122T110000
DTEND;TZID=America/Chicago:20290122T230000
DTSTAMP:20260425T210439
CREATED:20240110T235437Z
LAST-MODIFIED:20250510T191022Z
UID:10011081-1863774000-1863817200@thequarrythornton.com
SUMMARY:Kitchen open 11-9 Tavern open 11-11. 1/2 price pizza. Dine in only.
DESCRIPTION:
URL:https://thequarrythornton.com/event/kitchen-open-3-9-tavern-open-3-11/2029-01-22/
END:VEVENT
BEGIN:VEVENT
DTSTART;TZID=America/Chicago:20290123T110000
DTEND;TZID=America/Chicago:20290123T230000
DTSTAMP:20260425T210439
CREATED:20240110T235532Z
LAST-MODIFIED:20250325T221155Z
UID:10011640-1863860400-1863903600@thequarrythornton.com
SUMMARY:Kitchen open 11-9 Tavern open 11-11. Taco Tuesday! 3 beef\, pork or chicken $7.50
DESCRIPTION:
URL:https://thequarrythornton.com/event/kitchen-open-3-9-tavern-open-3-11-2/2029-01-23/
END:VEVENT
BEGIN:VEVENT
DTSTART;TZID=America/Chicago:20290124T110000
DTEND;TZID=America/Chicago:20290124T230000
DTSTAMP:20260425T210439
CREATED:20240110T233647Z
LAST-MODIFIED:20250510T190409Z
UID:10011361-1863946800-1863990000@thequarrythornton.com
SUMMARY:Kitchen open 11-9 Tavern open 11-11. Wing Wednesday 1/2 price traditional wings. Dine in only.
DESCRIPTION:
URL:https://thequarrythornton.com/event/kitchen-open-3-9-tavern-open-3-11-free-bingo-every-wednesday-7-9/2029-01-24/
END:VEVENT
BEGIN:VEVENT
DTSTART;TZID=America/Chicago:20290125T110000
DTEND;TZID=America/Chicago:20290125T235900
DTSTAMP:20260425T210439
CREATED:20240110T233826Z
LAST-MODIFIED:20250510T190549Z
UID:10011920-1864033200-1864079940@thequarrythornton.com
SUMMARY:Kitchen open 11-9 Tavern open 11-11. 1/2 price hot dogs or chili cheese dogs. Dine in only.
DESCRIPTION:
URL:https://thequarrythornton.com/event/kitchen-open-11-9-tavern-open-11-12-open-mic-7-10/2029-01-25/
END:VEVENT
BEGIN:VEVENT
DTSTART;TZID=America/Chicago:20290126T110000
DTEND;TZID=America/Chicago:20290126T235900
DTSTAMP:20260425T210439
CREATED:20240110T234444Z
LAST-MODIFIED:20260123T151734Z
UID:10010766-1864119600-1864166340@thequarrythornton.com
SUMMARY:Kitchen open 11-9 Tavern open 11-12.
DESCRIPTION:
URL:https://thequarrythornton.com/event/kitchen-taven-open-11-12-live-music-every-friday-100-winner-karaoke-every-other/2029-01-26/
END:VEVENT
BEGIN:VEVENT
DTSTART;TZID=America/Chicago:20290127T110000
DTEND;TZID=America/Chicago:20290127T235900
DTSTAMP:20260425T210439
CREATED:20240110T235242Z
LAST-MODIFIED:20240313T170456Z
UID:10010741-1864206000-1864252740@thequarrythornton.com
SUMMARY:Kitchen open 11-9 Tavern open 11-12. Live Music every Saturday 7-10
DESCRIPTION:
URL:https://thequarrythornton.com/event/kitchen-tavern-open-11-12-live-music-every-saturday/2029-01-27/
END:VEVENT
BEGIN:VEVENT
DTSTART;TZID=America/Chicago:20290128T110000
DTEND;TZID=America/Chicago:20290128T230000
DTSTAMP:20260425T210439
CREATED:20240110T235336Z
LAST-MODIFIED:20260113T182408Z
UID:10010732-1864292400-1864335600@thequarrythornton.com
SUMMARY:Kitchen open 11-7 Tavern open 11-11.
DESCRIPTION:
URL:https://thequarrythornton.com/event/kitchen-open-11-7-tavern-open-11-11/2029-01-28/
END:VEVENT
BEGIN:VEVENT
DTSTART;TZID=America/Chicago:20290129T110000
DTEND;TZID=America/Chicago:20290129T230000
DTSTAMP:20260425T210439
CREATED:20240110T235437Z
LAST-MODIFIED:20250510T191022Z
UID:10011082-1864378800-1864422000@thequarrythornton.com
SUMMARY:Kitchen open 11-9 Tavern open 11-11. 1/2 price pizza. Dine in only.
DESCRIPTION:
URL:https://thequarrythornton.com/event/kitchen-open-3-9-tavern-open-3-11/2029-01-29/
END:VEVENT
BEGIN:VEVENT
DTSTART;TZID=America/Chicago:20290130T110000
DTEND;TZID=America/Chicago:20290130T230000
DTSTAMP:20260425T210439
CREATED:20240110T235532Z
LAST-MODIFIED:20250325T221155Z
UID:10011641-1864465200-1864508400@thequarrythornton.com
SUMMARY:Kitchen open 11-9 Tavern open 11-11. Taco Tuesday! 3 beef\, pork or chicken $7.50
DESCRIPTION:
URL:https://thequarrythornton.com/event/kitchen-open-3-9-tavern-open-3-11-2/2029-01-30/
END:VEVENT
BEGIN:VEVENT
DTSTART;TZID=America/Chicago:20290131T110000
DTEND;TZID=America/Chicago:20290131T230000
DTSTAMP:20260425T210439
CREATED:20240110T233647Z
LAST-MODIFIED:20250510T190409Z
UID:10011362-1864551600-1864594800@thequarrythornton.com
SUMMARY:Kitchen open 11-9 Tavern open 11-11. Wing Wednesday 1/2 price traditional wings. Dine in only.
DESCRIPTION:
URL:https://thequarrythornton.com/event/kitchen-open-3-9-tavern-open-3-11-free-bingo-every-wednesday-7-9/2029-01-31/
END:VEVENT
BEGIN:VEVENT
DTSTART;TZID=America/Chicago:20290201T110000
DTEND;TZID=America/Chicago:20290201T235900
DTSTAMP:20260425T210439
CREATED:20240110T233826Z
LAST-MODIFIED:20250510T190549Z
UID:10011921-1864638000-1864684740@thequarrythornton.com
SUMMARY:Kitchen open 11-9 Tavern open 11-11. 1/2 price hot dogs or chili cheese dogs. Dine in only.
DESCRIPTION:
URL:https://thequarrythornton.com/event/kitchen-open-11-9-tavern-open-11-12-open-mic-7-10/2029-02-01/
END:VEVENT
END:VCALENDAR