BEGIN:VCALENDAR
VERSION:2.0
PRODID:-//The Quarry Ballroom - ECPv6.15.20//NONSGML v1.0//EN
CALSCALE:GREGORIAN
METHOD:PUBLISH
X-WR-CALNAME:The Quarry Ballroom
X-ORIGINAL-URL:https://thequarrythornton.com
X-WR-CALDESC:Events for The Quarry Ballroom
REFRESH-INTERVAL;VALUE=DURATION:PT1H
X-Robots-Tag:noindex
X-PUBLISHED-TTL:PT1H
BEGIN:VTIMEZONE
TZID:America/Chicago
BEGIN:DAYLIGHT
TZOFFSETFROM:-0600
TZOFFSETTO:-0500
TZNAME:CDT
DTSTART:20270314T080000
END:DAYLIGHT
BEGIN:STANDARD
TZOFFSETFROM:-0500
TZOFFSETTO:-0600
TZNAME:CST
DTSTART:20271107T070000
END:STANDARD
BEGIN:DAYLIGHT
TZOFFSETFROM:-0600
TZOFFSETTO:-0500
TZNAME:CDT
DTSTART:20280312T080000
END:DAYLIGHT
BEGIN:STANDARD
TZOFFSETFROM:-0500
TZOFFSETTO:-0600
TZNAME:CST
DTSTART:20281105T070000
END:STANDARD
BEGIN:DAYLIGHT
TZOFFSETFROM:-0600
TZOFFSETTO:-0500
TZNAME:CDT
DTSTART:20290311T080000
END:DAYLIGHT
BEGIN:STANDARD
TZOFFSETFROM:-0500
TZOFFSETTO:-0600
TZNAME:CST
DTSTART:20291104T070000
END:STANDARD
END:VTIMEZONE
BEGIN:VEVENT
DTSTART;TZID=America/Chicago:20281116T110000
DTEND;TZID=America/Chicago:20281116T235900
DTSTAMP:20260425T173222
CREATED:20240110T233826Z
LAST-MODIFIED:20250510T190549Z
UID:10011910-1857985200-1858031940@thequarrythornton.com
SUMMARY:Kitchen open 11-9 Tavern open 11-11. 1/2 price hot dogs or chili cheese dogs. Dine in only.
DESCRIPTION:
URL:https://thequarrythornton.com/event/kitchen-open-11-9-tavern-open-11-12-open-mic-7-10/2028-11-16/
END:VEVENT
BEGIN:VEVENT
DTSTART;TZID=America/Chicago:20281117T110000
DTEND;TZID=America/Chicago:20281117T235900
DTSTAMP:20260425T173222
CREATED:20240110T234444Z
LAST-MODIFIED:20260123T151734Z
UID:10009645-1858071600-1858118340@thequarrythornton.com
SUMMARY:Kitchen open 11-9 Tavern open 11-12.
DESCRIPTION:
URL:https://thequarrythornton.com/event/kitchen-taven-open-11-12-live-music-every-friday-100-winner-karaoke-every-other/2028-11-17/
END:VEVENT
BEGIN:VEVENT
DTSTART;TZID=America/Chicago:20281118T110000
DTEND;TZID=America/Chicago:20281118T235900
DTSTAMP:20260425T173222
CREATED:20240110T235242Z
LAST-MODIFIED:20240313T170456Z
UID:10009906-1858158000-1858204740@thequarrythornton.com
SUMMARY:Kitchen open 11-9 Tavern open 11-12. Live Music every Saturday 7-10
DESCRIPTION:
URL:https://thequarrythornton.com/event/kitchen-tavern-open-11-12-live-music-every-saturday/2028-11-18/
END:VEVENT
BEGIN:VEVENT
DTSTART;TZID=America/Chicago:20281119T110000
DTEND;TZID=America/Chicago:20281119T230000
DTSTAMP:20260425T173222
CREATED:20240110T235336Z
LAST-MODIFIED:20260113T182408Z
UID:10010167-1858244400-1858287600@thequarrythornton.com
SUMMARY:Kitchen open 11-7 Tavern open 11-11.
DESCRIPTION:
URL:https://thequarrythornton.com/event/kitchen-open-11-7-tavern-open-11-11/2028-11-19/
END:VEVENT
BEGIN:VEVENT
DTSTART;TZID=America/Chicago:20281120T110000
DTEND;TZID=America/Chicago:20281120T230000
DTSTAMP:20260425T173222
CREATED:20240110T235437Z
LAST-MODIFIED:20250510T191022Z
UID:10011072-1858330800-1858374000@thequarrythornton.com
SUMMARY:Kitchen open 11-9 Tavern open 11-11. 1/2 price pizza. Dine in only.
DESCRIPTION:
URL:https://thequarrythornton.com/event/kitchen-open-3-9-tavern-open-3-11/2028-11-20/
END:VEVENT
BEGIN:VEVENT
DTSTART;TZID=America/Chicago:20281121T110000
DTEND;TZID=America/Chicago:20281121T230000
DTSTAMP:20260425T173222
CREATED:20240110T235532Z
LAST-MODIFIED:20250325T221155Z
UID:10011631-1858417200-1858460400@thequarrythornton.com
SUMMARY:Kitchen open 11-9 Tavern open 11-11. Taco Tuesday! 3 beef\, pork or chicken $7.50
DESCRIPTION:
URL:https://thequarrythornton.com/event/kitchen-open-3-9-tavern-open-3-11-2/2028-11-21/
END:VEVENT
BEGIN:VEVENT
DTSTART;TZID=America/Chicago:20281122T110000
DTEND;TZID=America/Chicago:20281122T230000
DTSTAMP:20260425T173222
CREATED:20240110T233647Z
LAST-MODIFIED:20250510T190409Z
UID:10011352-1858503600-1858546800@thequarrythornton.com
SUMMARY:Kitchen open 11-9 Tavern open 11-11. Wing Wednesday 1/2 price traditional wings. Dine in only.
DESCRIPTION:
URL:https://thequarrythornton.com/event/kitchen-open-3-9-tavern-open-3-11-free-bingo-every-wednesday-7-9/2028-11-22/
END:VEVENT
BEGIN:VEVENT
DTSTART;TZID=America/Chicago:20281123T110000
DTEND;TZID=America/Chicago:20281123T235900
DTSTAMP:20260425T173222
CREATED:20240110T233826Z
LAST-MODIFIED:20250510T190549Z
UID:10011911-1858590000-1858636740@thequarrythornton.com
SUMMARY:Kitchen open 11-9 Tavern open 11-11. 1/2 price hot dogs or chili cheese dogs. Dine in only.
DESCRIPTION:
URL:https://thequarrythornton.com/event/kitchen-open-11-9-tavern-open-11-12-open-mic-7-10/2028-11-23/
END:VEVENT
BEGIN:VEVENT
DTSTART;TZID=America/Chicago:20281124T110000
DTEND;TZID=America/Chicago:20281124T235900
DTSTAMP:20260425T173222
CREATED:20240110T234444Z
LAST-MODIFIED:20260123T151734Z
UID:10009646-1858676400-1858723140@thequarrythornton.com
SUMMARY:Kitchen open 11-9 Tavern open 11-12.
DESCRIPTION:
URL:https://thequarrythornton.com/event/kitchen-taven-open-11-12-live-music-every-friday-100-winner-karaoke-every-other/2028-11-24/
END:VEVENT
BEGIN:VEVENT
DTSTART;TZID=America/Chicago:20281125T110000
DTEND;TZID=America/Chicago:20281125T235900
DTSTAMP:20260425T173222
CREATED:20240110T235242Z
LAST-MODIFIED:20240313T170456Z
UID:10009907-1858762800-1858809540@thequarrythornton.com
SUMMARY:Kitchen open 11-9 Tavern open 11-12. Live Music every Saturday 7-10
DESCRIPTION:
URL:https://thequarrythornton.com/event/kitchen-tavern-open-11-12-live-music-every-saturday/2028-11-25/
END:VEVENT
BEGIN:VEVENT
DTSTART;TZID=America/Chicago:20281126T110000
DTEND;TZID=America/Chicago:20281126T230000
DTSTAMP:20260425T173222
CREATED:20240110T235336Z
LAST-MODIFIED:20260113T182408Z
UID:10010168-1858849200-1858892400@thequarrythornton.com
SUMMARY:Kitchen open 11-7 Tavern open 11-11.
DESCRIPTION:
URL:https://thequarrythornton.com/event/kitchen-open-11-7-tavern-open-11-11/2028-11-26/
END:VEVENT
BEGIN:VEVENT
DTSTART;TZID=America/Chicago:20281127T110000
DTEND;TZID=America/Chicago:20281127T230000
DTSTAMP:20260425T173222
CREATED:20240110T235437Z
LAST-MODIFIED:20250510T191022Z
UID:10011073-1858935600-1858978800@thequarrythornton.com
SUMMARY:Kitchen open 11-9 Tavern open 11-11. 1/2 price pizza. Dine in only.
DESCRIPTION:
URL:https://thequarrythornton.com/event/kitchen-open-3-9-tavern-open-3-11/2028-11-27/
END:VEVENT
BEGIN:VEVENT
DTSTART;TZID=America/Chicago:20281128T110000
DTEND;TZID=America/Chicago:20281128T230000
DTSTAMP:20260425T173222
CREATED:20240110T235532Z
LAST-MODIFIED:20250325T221155Z
UID:10011632-1859022000-1859065200@thequarrythornton.com
SUMMARY:Kitchen open 11-9 Tavern open 11-11. Taco Tuesday! 3 beef\, pork or chicken $7.50
DESCRIPTION:
URL:https://thequarrythornton.com/event/kitchen-open-3-9-tavern-open-3-11-2/2028-11-28/
END:VEVENT
BEGIN:VEVENT
DTSTART;TZID=America/Chicago:20281129T110000
DTEND;TZID=America/Chicago:20281129T230000
DTSTAMP:20260425T173222
CREATED:20240110T233647Z
LAST-MODIFIED:20250510T190409Z
UID:10011353-1859108400-1859151600@thequarrythornton.com
SUMMARY:Kitchen open 11-9 Tavern open 11-11. Wing Wednesday 1/2 price traditional wings. Dine in only.
DESCRIPTION:
URL:https://thequarrythornton.com/event/kitchen-open-3-9-tavern-open-3-11-free-bingo-every-wednesday-7-9/2028-11-29/
END:VEVENT
BEGIN:VEVENT
DTSTART;TZID=America/Chicago:20281130T110000
DTEND;TZID=America/Chicago:20281130T235900
DTSTAMP:20260425T173222
CREATED:20240110T233826Z
LAST-MODIFIED:20250510T190549Z
UID:10011912-1859194800-1859241540@thequarrythornton.com
SUMMARY:Kitchen open 11-9 Tavern open 11-11. 1/2 price hot dogs or chili cheese dogs. Dine in only.
DESCRIPTION:
URL:https://thequarrythornton.com/event/kitchen-open-11-9-tavern-open-11-12-open-mic-7-10/2028-11-30/
END:VEVENT
BEGIN:VEVENT
DTSTART;TZID=America/Chicago:20281201T110000
DTEND;TZID=America/Chicago:20281201T235900
DTSTAMP:20260425T173222
CREATED:20240110T234444Z
LAST-MODIFIED:20260123T151734Z
UID:10009647-1859281200-1859327940@thequarrythornton.com
SUMMARY:Kitchen open 11-9 Tavern open 11-12.
DESCRIPTION:
URL:https://thequarrythornton.com/event/kitchen-taven-open-11-12-live-music-every-friday-100-winner-karaoke-every-other/2028-12-01/
END:VEVENT
BEGIN:VEVENT
DTSTART;TZID=America/Chicago:20281202T110000
DTEND;TZID=America/Chicago:20281202T235900
DTSTAMP:20260425T173222
CREATED:20240110T235242Z
LAST-MODIFIED:20240313T170456Z
UID:10009908-1859367600-1859414340@thequarrythornton.com
SUMMARY:Kitchen open 11-9 Tavern open 11-12. Live Music every Saturday 7-10
DESCRIPTION:
URL:https://thequarrythornton.com/event/kitchen-tavern-open-11-12-live-music-every-saturday/2028-12-02/
END:VEVENT
BEGIN:VEVENT
DTSTART;TZID=America/Chicago:20281203T110000
DTEND;TZID=America/Chicago:20281203T230000
DTSTAMP:20260425T173222
CREATED:20240110T235336Z
LAST-MODIFIED:20260113T182408Z
UID:10010169-1859454000-1859497200@thequarrythornton.com
SUMMARY:Kitchen open 11-7 Tavern open 11-11.
DESCRIPTION:
URL:https://thequarrythornton.com/event/kitchen-open-11-7-tavern-open-11-11/2028-12-03/
END:VEVENT
BEGIN:VEVENT
DTSTART;TZID=America/Chicago:20281204T110000
DTEND;TZID=America/Chicago:20281204T230000
DTSTAMP:20260425T173222
CREATED:20240110T235437Z
LAST-MODIFIED:20250510T191022Z
UID:10011074-1859540400-1859583600@thequarrythornton.com
SUMMARY:Kitchen open 11-9 Tavern open 11-11. 1/2 price pizza. Dine in only.
DESCRIPTION:
URL:https://thequarrythornton.com/event/kitchen-open-3-9-tavern-open-3-11/2028-12-04/
END:VEVENT
BEGIN:VEVENT
DTSTART;TZID=America/Chicago:20281205T110000
DTEND;TZID=America/Chicago:20281205T230000
DTSTAMP:20260425T173222
CREATED:20240110T235532Z
LAST-MODIFIED:20250325T221155Z
UID:10011633-1859626800-1859670000@thequarrythornton.com
SUMMARY:Kitchen open 11-9 Tavern open 11-11. Taco Tuesday! 3 beef\, pork or chicken $7.50
DESCRIPTION:
URL:https://thequarrythornton.com/event/kitchen-open-3-9-tavern-open-3-11-2/2028-12-05/
END:VEVENT
BEGIN:VEVENT
DTSTART;TZID=America/Chicago:20281206T110000
DTEND;TZID=America/Chicago:20281206T230000
DTSTAMP:20260425T173222
CREATED:20240110T233647Z
LAST-MODIFIED:20250510T190409Z
UID:10011354-1859713200-1859756400@thequarrythornton.com
SUMMARY:Kitchen open 11-9 Tavern open 11-11. Wing Wednesday 1/2 price traditional wings. Dine in only.
DESCRIPTION:
URL:https://thequarrythornton.com/event/kitchen-open-3-9-tavern-open-3-11-free-bingo-every-wednesday-7-9/2028-12-06/
END:VEVENT
BEGIN:VEVENT
DTSTART;TZID=America/Chicago:20281207T110000
DTEND;TZID=America/Chicago:20281207T235900
DTSTAMP:20260425T173222
CREATED:20240110T233826Z
LAST-MODIFIED:20250510T190549Z
UID:10011913-1859799600-1859846340@thequarrythornton.com
SUMMARY:Kitchen open 11-9 Tavern open 11-11. 1/2 price hot dogs or chili cheese dogs. Dine in only.
DESCRIPTION:
URL:https://thequarrythornton.com/event/kitchen-open-11-9-tavern-open-11-12-open-mic-7-10/2028-12-07/
END:VEVENT
BEGIN:VEVENT
DTSTART;TZID=America/Chicago:20281208T110000
DTEND;TZID=America/Chicago:20281208T235900
DTSTAMP:20260425T173222
CREATED:20240110T234444Z
LAST-MODIFIED:20260123T151734Z
UID:10009648-1859886000-1859932740@thequarrythornton.com
SUMMARY:Kitchen open 11-9 Tavern open 11-12.
DESCRIPTION:
URL:https://thequarrythornton.com/event/kitchen-taven-open-11-12-live-music-every-friday-100-winner-karaoke-every-other/2028-12-08/
END:VEVENT
BEGIN:VEVENT
DTSTART;TZID=America/Chicago:20281209T110000
DTEND;TZID=America/Chicago:20281209T235900
DTSTAMP:20260425T173222
CREATED:20240110T235242Z
LAST-MODIFIED:20240313T170456Z
UID:10009909-1859972400-1860019140@thequarrythornton.com
SUMMARY:Kitchen open 11-9 Tavern open 11-12. Live Music every Saturday 7-10
DESCRIPTION:
URL:https://thequarrythornton.com/event/kitchen-tavern-open-11-12-live-music-every-saturday/2028-12-09/
END:VEVENT
BEGIN:VEVENT
DTSTART;TZID=America/Chicago:20281210T110000
DTEND;TZID=America/Chicago:20281210T230000
DTSTAMP:20260425T173222
CREATED:20240110T235336Z
LAST-MODIFIED:20260113T182408Z
UID:10010170-1860058800-1860102000@thequarrythornton.com
SUMMARY:Kitchen open 11-7 Tavern open 11-11.
DESCRIPTION:
URL:https://thequarrythornton.com/event/kitchen-open-11-7-tavern-open-11-11/2028-12-10/
END:VEVENT
BEGIN:VEVENT
DTSTART;TZID=America/Chicago:20281211T110000
DTEND;TZID=America/Chicago:20281211T230000
DTSTAMP:20260425T173222
CREATED:20240110T235437Z
LAST-MODIFIED:20250510T191022Z
UID:10011075-1860145200-1860188400@thequarrythornton.com
SUMMARY:Kitchen open 11-9 Tavern open 11-11. 1/2 price pizza. Dine in only.
DESCRIPTION:
URL:https://thequarrythornton.com/event/kitchen-open-3-9-tavern-open-3-11/2028-12-11/
END:VEVENT
BEGIN:VEVENT
DTSTART;TZID=America/Chicago:20281212T110000
DTEND;TZID=America/Chicago:20281212T230000
DTSTAMP:20260425T173222
CREATED:20240110T235532Z
LAST-MODIFIED:20250325T221155Z
UID:10011634-1860231600-1860274800@thequarrythornton.com
SUMMARY:Kitchen open 11-9 Tavern open 11-11. Taco Tuesday! 3 beef\, pork or chicken $7.50
DESCRIPTION:
URL:https://thequarrythornton.com/event/kitchen-open-3-9-tavern-open-3-11-2/2028-12-12/
END:VEVENT
BEGIN:VEVENT
DTSTART;TZID=America/Chicago:20281213T110000
DTEND;TZID=America/Chicago:20281213T230000
DTSTAMP:20260425T173222
CREATED:20240110T233647Z
LAST-MODIFIED:20250510T190409Z
UID:10011355-1860318000-1860361200@thequarrythornton.com
SUMMARY:Kitchen open 11-9 Tavern open 11-11. Wing Wednesday 1/2 price traditional wings. Dine in only.
DESCRIPTION:
URL:https://thequarrythornton.com/event/kitchen-open-3-9-tavern-open-3-11-free-bingo-every-wednesday-7-9/2028-12-13/
END:VEVENT
BEGIN:VEVENT
DTSTART;TZID=America/Chicago:20281214T110000
DTEND;TZID=America/Chicago:20281214T235900
DTSTAMP:20260425T173222
CREATED:20240110T233826Z
LAST-MODIFIED:20250510T190549Z
UID:10011914-1860404400-1860451140@thequarrythornton.com
SUMMARY:Kitchen open 11-9 Tavern open 11-11. 1/2 price hot dogs or chili cheese dogs. Dine in only.
DESCRIPTION:
URL:https://thequarrythornton.com/event/kitchen-open-11-9-tavern-open-11-12-open-mic-7-10/2028-12-14/
END:VEVENT
BEGIN:VEVENT
DTSTART;TZID=America/Chicago:20281215T110000
DTEND;TZID=America/Chicago:20281215T235900
DTSTAMP:20260425T173222
CREATED:20240110T234444Z
LAST-MODIFIED:20260123T151734Z
UID:10009649-1860490800-1860537540@thequarrythornton.com
SUMMARY:Kitchen open 11-9 Tavern open 11-12.
DESCRIPTION:
URL:https://thequarrythornton.com/event/kitchen-taven-open-11-12-live-music-every-friday-100-winner-karaoke-every-other/2028-12-15/
END:VEVENT
END:VCALENDAR