BEGIN:VCALENDAR
VERSION:2.0
PRODID:-//The Quarry Ballroom - ECPv6.15.20//NONSGML v1.0//EN
CALSCALE:GREGORIAN
METHOD:PUBLISH
X-ORIGINAL-URL:https://thequarrythornton.com
X-WR-CALDESC:Events for The Quarry Ballroom
REFRESH-INTERVAL;VALUE=DURATION:PT1H
X-Robots-Tag:noindex
X-PUBLISHED-TTL:PT1H
BEGIN:VTIMEZONE
TZID:America/Chicago
BEGIN:DAYLIGHT
TZOFFSETFROM:-0600
TZOFFSETTO:-0500
TZNAME:CDT
DTSTART:20270314T080000
END:DAYLIGHT
BEGIN:STANDARD
TZOFFSETFROM:-0500
TZOFFSETTO:-0600
TZNAME:CST
DTSTART:20271107T070000
END:STANDARD
BEGIN:DAYLIGHT
TZOFFSETFROM:-0600
TZOFFSETTO:-0500
TZNAME:CDT
DTSTART:20280312T080000
END:DAYLIGHT
BEGIN:STANDARD
TZOFFSETFROM:-0500
TZOFFSETTO:-0600
TZNAME:CST
DTSTART:20281105T070000
END:STANDARD
BEGIN:DAYLIGHT
TZOFFSETFROM:-0600
TZOFFSETTO:-0500
TZNAME:CDT
DTSTART:20290311T080000
END:DAYLIGHT
BEGIN:STANDARD
TZOFFSETFROM:-0500
TZOFFSETTO:-0600
TZNAME:CST
DTSTART:20291104T070000
END:STANDARD
END:VTIMEZONE
BEGIN:VEVENT
DTSTART;TZID=America/Chicago:20280719T110000
DTEND;TZID=America/Chicago:20280719T230000
DTSTAMP:20260424T205801
CREATED:20240110T233647Z
LAST-MODIFIED:20250510T190409Z
UID:10011334-1847617200-1847660400@thequarrythornton.com
SUMMARY:Kitchen open 11-9 Tavern open 11-11. Wing Wednesday 1/2 price traditional wings. Dine in only.
DESCRIPTION:
URL:https://thequarrythornton.com/event/kitchen-open-3-9-tavern-open-3-11-free-bingo-every-wednesday-7-9/2028-07-19/
END:VEVENT
BEGIN:VEVENT
DTSTART;TZID=America/Chicago:20280720T110000
DTEND;TZID=America/Chicago:20280720T235900
DTSTAMP:20260424T205801
CREATED:20240110T233826Z
LAST-MODIFIED:20250510T190549Z
UID:10011893-1847703600-1847750340@thequarrythornton.com
SUMMARY:Kitchen open 11-9 Tavern open 11-11. 1/2 price hot dogs or chili cheese dogs. Dine in only.
DESCRIPTION:
URL:https://thequarrythornton.com/event/kitchen-open-11-9-tavern-open-11-12-open-mic-7-10/2028-07-20/
END:VEVENT
BEGIN:VEVENT
DTSTART;TZID=America/Chicago:20280721T110000
DTEND;TZID=America/Chicago:20280721T235900
DTSTAMP:20260424T205801
CREATED:20240110T234444Z
LAST-MODIFIED:20260123T151734Z
UID:10009628-1847790000-1847836740@thequarrythornton.com
SUMMARY:Kitchen open 11-9 Tavern open 11-12.
DESCRIPTION:
URL:https://thequarrythornton.com/event/kitchen-taven-open-11-12-live-music-every-friday-100-winner-karaoke-every-other/2028-07-21/
END:VEVENT
BEGIN:VEVENT
DTSTART;TZID=America/Chicago:20280722T110000
DTEND;TZID=America/Chicago:20280722T235900
DTSTAMP:20260424T205801
CREATED:20240110T235242Z
LAST-MODIFIED:20240313T170456Z
UID:10009889-1847876400-1847923140@thequarrythornton.com
SUMMARY:Kitchen open 11-9 Tavern open 11-12. Live Music every Saturday 7-10
DESCRIPTION:
URL:https://thequarrythornton.com/event/kitchen-tavern-open-11-12-live-music-every-saturday/2028-07-22/
END:VEVENT
BEGIN:VEVENT
DTSTART;TZID=America/Chicago:20280723T110000
DTEND;TZID=America/Chicago:20280723T230000
DTSTAMP:20260424T205801
CREATED:20240110T235336Z
LAST-MODIFIED:20260113T182408Z
UID:10010150-1847962800-1848006000@thequarrythornton.com
SUMMARY:Kitchen open 11-7 Tavern open 11-11.
DESCRIPTION:
URL:https://thequarrythornton.com/event/kitchen-open-11-7-tavern-open-11-11/2028-07-23/
END:VEVENT
BEGIN:VEVENT
DTSTART;TZID=America/Chicago:20280724T110000
DTEND;TZID=America/Chicago:20280724T230000
DTSTAMP:20260424T205801
CREATED:20240110T235437Z
LAST-MODIFIED:20250510T191022Z
UID:10011055-1848049200-1848092400@thequarrythornton.com
SUMMARY:Kitchen open 11-9 Tavern open 11-11. 1/2 price pizza. Dine in only.
DESCRIPTION:
URL:https://thequarrythornton.com/event/kitchen-open-3-9-tavern-open-3-11/2028-07-24/
END:VEVENT
BEGIN:VEVENT
DTSTART;TZID=America/Chicago:20280725T110000
DTEND;TZID=America/Chicago:20280725T230000
DTSTAMP:20260424T205801
CREATED:20240110T235532Z
LAST-MODIFIED:20250325T221155Z
UID:10011614-1848135600-1848178800@thequarrythornton.com
SUMMARY:Kitchen open 11-9 Tavern open 11-11. Taco Tuesday! 3 beef\, pork or chicken $7.50
DESCRIPTION:
URL:https://thequarrythornton.com/event/kitchen-open-3-9-tavern-open-3-11-2/2028-07-25/
END:VEVENT
BEGIN:VEVENT
DTSTART;TZID=America/Chicago:20280726T110000
DTEND;TZID=America/Chicago:20280726T230000
DTSTAMP:20260424T205801
CREATED:20240110T233647Z
LAST-MODIFIED:20250510T190409Z
UID:10011335-1848222000-1848265200@thequarrythornton.com
SUMMARY:Kitchen open 11-9 Tavern open 11-11. Wing Wednesday 1/2 price traditional wings. Dine in only.
DESCRIPTION:
URL:https://thequarrythornton.com/event/kitchen-open-3-9-tavern-open-3-11-free-bingo-every-wednesday-7-9/2028-07-26/
END:VEVENT
BEGIN:VEVENT
DTSTART;TZID=America/Chicago:20280727T110000
DTEND;TZID=America/Chicago:20280727T235900
DTSTAMP:20260424T205801
CREATED:20240110T233826Z
LAST-MODIFIED:20250510T190549Z
UID:10011894-1848308400-1848355140@thequarrythornton.com
SUMMARY:Kitchen open 11-9 Tavern open 11-11. 1/2 price hot dogs or chili cheese dogs. Dine in only.
DESCRIPTION:
URL:https://thequarrythornton.com/event/kitchen-open-11-9-tavern-open-11-12-open-mic-7-10/2028-07-27/
END:VEVENT
BEGIN:VEVENT
DTSTART;TZID=America/Chicago:20280728T110000
DTEND;TZID=America/Chicago:20280728T235900
DTSTAMP:20260424T205801
CREATED:20240110T234444Z
LAST-MODIFIED:20260123T151734Z
UID:10009629-1848394800-1848441540@thequarrythornton.com
SUMMARY:Kitchen open 11-9 Tavern open 11-12.
DESCRIPTION:
URL:https://thequarrythornton.com/event/kitchen-taven-open-11-12-live-music-every-friday-100-winner-karaoke-every-other/2028-07-28/
END:VEVENT
BEGIN:VEVENT
DTSTART;TZID=America/Chicago:20280729T110000
DTEND;TZID=America/Chicago:20280729T235900
DTSTAMP:20260424T205801
CREATED:20240110T235242Z
LAST-MODIFIED:20240313T170456Z
UID:10009890-1848481200-1848527940@thequarrythornton.com
SUMMARY:Kitchen open 11-9 Tavern open 11-12. Live Music every Saturday 7-10
DESCRIPTION:
URL:https://thequarrythornton.com/event/kitchen-tavern-open-11-12-live-music-every-saturday/2028-07-29/
END:VEVENT
BEGIN:VEVENT
DTSTART;TZID=America/Chicago:20280730T110000
DTEND;TZID=America/Chicago:20280730T230000
DTSTAMP:20260424T205801
CREATED:20240110T235336Z
LAST-MODIFIED:20260113T182408Z
UID:10010151-1848567600-1848610800@thequarrythornton.com
SUMMARY:Kitchen open 11-7 Tavern open 11-11.
DESCRIPTION:
URL:https://thequarrythornton.com/event/kitchen-open-11-7-tavern-open-11-11/2028-07-30/
END:VEVENT
BEGIN:VEVENT
DTSTART;TZID=America/Chicago:20280731T110000
DTEND;TZID=America/Chicago:20280731T230000
DTSTAMP:20260424T205801
CREATED:20240110T235437Z
LAST-MODIFIED:20250510T191022Z
UID:10011056-1848654000-1848697200@thequarrythornton.com
SUMMARY:Kitchen open 11-9 Tavern open 11-11. 1/2 price pizza. Dine in only.
DESCRIPTION:
URL:https://thequarrythornton.com/event/kitchen-open-3-9-tavern-open-3-11/2028-07-31/
END:VEVENT
BEGIN:VEVENT
DTSTART;TZID=America/Chicago:20280801T110000
DTEND;TZID=America/Chicago:20280801T230000
DTSTAMP:20260424T205801
CREATED:20240110T235532Z
LAST-MODIFIED:20250325T221155Z
UID:10011615-1848740400-1848783600@thequarrythornton.com
SUMMARY:Kitchen open 11-9 Tavern open 11-11. Taco Tuesday! 3 beef\, pork or chicken $7.50
DESCRIPTION:
URL:https://thequarrythornton.com/event/kitchen-open-3-9-tavern-open-3-11-2/2028-08-01/
END:VEVENT
BEGIN:VEVENT
DTSTART;TZID=America/Chicago:20280802T110000
DTEND;TZID=America/Chicago:20280802T230000
DTSTAMP:20260424T205801
CREATED:20240110T233647Z
LAST-MODIFIED:20250510T190409Z
UID:10011336-1848826800-1848870000@thequarrythornton.com
SUMMARY:Kitchen open 11-9 Tavern open 11-11. Wing Wednesday 1/2 price traditional wings. Dine in only.
DESCRIPTION:
URL:https://thequarrythornton.com/event/kitchen-open-3-9-tavern-open-3-11-free-bingo-every-wednesday-7-9/2028-08-02/
END:VEVENT
BEGIN:VEVENT
DTSTART;TZID=America/Chicago:20280803T110000
DTEND;TZID=America/Chicago:20280803T235900
DTSTAMP:20260424T205801
CREATED:20240110T233826Z
LAST-MODIFIED:20250510T190549Z
UID:10011895-1848913200-1848959940@thequarrythornton.com
SUMMARY:Kitchen open 11-9 Tavern open 11-11. 1/2 price hot dogs or chili cheese dogs. Dine in only.
DESCRIPTION:
URL:https://thequarrythornton.com/event/kitchen-open-11-9-tavern-open-11-12-open-mic-7-10/2028-08-03/
END:VEVENT
BEGIN:VEVENT
DTSTART;TZID=America/Chicago:20280804T110000
DTEND;TZID=America/Chicago:20280804T235900
DTSTAMP:20260424T205801
CREATED:20240110T234444Z
LAST-MODIFIED:20260123T151734Z
UID:10009630-1848999600-1849046340@thequarrythornton.com
SUMMARY:Kitchen open 11-9 Tavern open 11-12.
DESCRIPTION:
URL:https://thequarrythornton.com/event/kitchen-taven-open-11-12-live-music-every-friday-100-winner-karaoke-every-other/2028-08-04/
END:VEVENT
BEGIN:VEVENT
DTSTART;TZID=America/Chicago:20280805T110000
DTEND;TZID=America/Chicago:20280805T235900
DTSTAMP:20260424T205801
CREATED:20240110T235242Z
LAST-MODIFIED:20240313T170456Z
UID:10009891-1849086000-1849132740@thequarrythornton.com
SUMMARY:Kitchen open 11-9 Tavern open 11-12. Live Music every Saturday 7-10
DESCRIPTION:
URL:https://thequarrythornton.com/event/kitchen-tavern-open-11-12-live-music-every-saturday/2028-08-05/
END:VEVENT
BEGIN:VEVENT
DTSTART;TZID=America/Chicago:20280806T110000
DTEND;TZID=America/Chicago:20280806T230000
DTSTAMP:20260424T205801
CREATED:20240110T235336Z
LAST-MODIFIED:20260113T182408Z
UID:10010152-1849172400-1849215600@thequarrythornton.com
SUMMARY:Kitchen open 11-7 Tavern open 11-11.
DESCRIPTION:
URL:https://thequarrythornton.com/event/kitchen-open-11-7-tavern-open-11-11/2028-08-06/
END:VEVENT
BEGIN:VEVENT
DTSTART;TZID=America/Chicago:20280807T110000
DTEND;TZID=America/Chicago:20280807T230000
DTSTAMP:20260424T205801
CREATED:20240110T235437Z
LAST-MODIFIED:20250510T191022Z
UID:10011057-1849258800-1849302000@thequarrythornton.com
SUMMARY:Kitchen open 11-9 Tavern open 11-11. 1/2 price pizza. Dine in only.
DESCRIPTION:
URL:https://thequarrythornton.com/event/kitchen-open-3-9-tavern-open-3-11/2028-08-07/
END:VEVENT
BEGIN:VEVENT
DTSTART;TZID=America/Chicago:20280808T110000
DTEND;TZID=America/Chicago:20280808T230000
DTSTAMP:20260424T205801
CREATED:20240110T235532Z
LAST-MODIFIED:20250325T221155Z
UID:10011616-1849345200-1849388400@thequarrythornton.com
SUMMARY:Kitchen open 11-9 Tavern open 11-11. Taco Tuesday! 3 beef\, pork or chicken $7.50
DESCRIPTION:
URL:https://thequarrythornton.com/event/kitchen-open-3-9-tavern-open-3-11-2/2028-08-08/
END:VEVENT
BEGIN:VEVENT
DTSTART;TZID=America/Chicago:20280809T110000
DTEND;TZID=America/Chicago:20280809T230000
DTSTAMP:20260424T205801
CREATED:20240110T233647Z
LAST-MODIFIED:20250510T190409Z
UID:10011337-1849431600-1849474800@thequarrythornton.com
SUMMARY:Kitchen open 11-9 Tavern open 11-11. Wing Wednesday 1/2 price traditional wings. Dine in only.
DESCRIPTION:
URL:https://thequarrythornton.com/event/kitchen-open-3-9-tavern-open-3-11-free-bingo-every-wednesday-7-9/2028-08-09/
END:VEVENT
BEGIN:VEVENT
DTSTART;TZID=America/Chicago:20280810T110000
DTEND;TZID=America/Chicago:20280810T235900
DTSTAMP:20260424T205801
CREATED:20240110T233826Z
LAST-MODIFIED:20250510T190549Z
UID:10011896-1849518000-1849564740@thequarrythornton.com
SUMMARY:Kitchen open 11-9 Tavern open 11-11. 1/2 price hot dogs or chili cheese dogs. Dine in only.
DESCRIPTION:
URL:https://thequarrythornton.com/event/kitchen-open-11-9-tavern-open-11-12-open-mic-7-10/2028-08-10/
END:VEVENT
BEGIN:VEVENT
DTSTART;TZID=America/Chicago:20280811T110000
DTEND;TZID=America/Chicago:20280811T235900
DTSTAMP:20260424T205801
CREATED:20240110T234444Z
LAST-MODIFIED:20260123T151734Z
UID:10009631-1849604400-1849651140@thequarrythornton.com
SUMMARY:Kitchen open 11-9 Tavern open 11-12.
DESCRIPTION:
URL:https://thequarrythornton.com/event/kitchen-taven-open-11-12-live-music-every-friday-100-winner-karaoke-every-other/2028-08-11/
END:VEVENT
BEGIN:VEVENT
DTSTART;TZID=America/Chicago:20280812T110000
DTEND;TZID=America/Chicago:20280812T235900
DTSTAMP:20260424T205801
CREATED:20240110T235242Z
LAST-MODIFIED:20240313T170456Z
UID:10009892-1849690800-1849737540@thequarrythornton.com
SUMMARY:Kitchen open 11-9 Tavern open 11-12. Live Music every Saturday 7-10
DESCRIPTION:
URL:https://thequarrythornton.com/event/kitchen-tavern-open-11-12-live-music-every-saturday/2028-08-12/
END:VEVENT
BEGIN:VEVENT
DTSTART;TZID=America/Chicago:20280813T110000
DTEND;TZID=America/Chicago:20280813T230000
DTSTAMP:20260424T205801
CREATED:20240110T235336Z
LAST-MODIFIED:20260113T182408Z
UID:10010153-1849777200-1849820400@thequarrythornton.com
SUMMARY:Kitchen open 11-7 Tavern open 11-11.
DESCRIPTION:
URL:https://thequarrythornton.com/event/kitchen-open-11-7-tavern-open-11-11/2028-08-13/
END:VEVENT
BEGIN:VEVENT
DTSTART;TZID=America/Chicago:20280814T110000
DTEND;TZID=America/Chicago:20280814T230000
DTSTAMP:20260424T205801
CREATED:20240110T235437Z
LAST-MODIFIED:20250510T191022Z
UID:10011058-1849863600-1849906800@thequarrythornton.com
SUMMARY:Kitchen open 11-9 Tavern open 11-11. 1/2 price pizza. Dine in only.
DESCRIPTION:
URL:https://thequarrythornton.com/event/kitchen-open-3-9-tavern-open-3-11/2028-08-14/
END:VEVENT
BEGIN:VEVENT
DTSTART;TZID=America/Chicago:20280815T110000
DTEND;TZID=America/Chicago:20280815T230000
DTSTAMP:20260424T205801
CREATED:20240110T235532Z
LAST-MODIFIED:20250325T221155Z
UID:10011617-1849950000-1849993200@thequarrythornton.com
SUMMARY:Kitchen open 11-9 Tavern open 11-11. Taco Tuesday! 3 beef\, pork or chicken $7.50
DESCRIPTION:
URL:https://thequarrythornton.com/event/kitchen-open-3-9-tavern-open-3-11-2/2028-08-15/
END:VEVENT
BEGIN:VEVENT
DTSTART;TZID=America/Chicago:20280816T110000
DTEND;TZID=America/Chicago:20280816T230000
DTSTAMP:20260424T205801
CREATED:20240110T233647Z
LAST-MODIFIED:20250510T190409Z
UID:10011338-1850036400-1850079600@thequarrythornton.com
SUMMARY:Kitchen open 11-9 Tavern open 11-11. Wing Wednesday 1/2 price traditional wings. Dine in only.
DESCRIPTION:
URL:https://thequarrythornton.com/event/kitchen-open-3-9-tavern-open-3-11-free-bingo-every-wednesday-7-9/2028-08-16/
END:VEVENT
BEGIN:VEVENT
DTSTART;TZID=America/Chicago:20280817T110000
DTEND;TZID=America/Chicago:20280817T235900
DTSTAMP:20260424T205801
CREATED:20240110T233826Z
LAST-MODIFIED:20250510T190549Z
UID:10011897-1850122800-1850169540@thequarrythornton.com
SUMMARY:Kitchen open 11-9 Tavern open 11-11. 1/2 price hot dogs or chili cheese dogs. Dine in only.
DESCRIPTION:
URL:https://thequarrythornton.com/event/kitchen-open-11-9-tavern-open-11-12-open-mic-7-10/2028-08-17/
END:VEVENT
END:VCALENDAR