BEGIN:VCALENDAR
VERSION:2.0
PRODID:-//The Quarry Ballroom - ECPv6.15.20//NONSGML v1.0//EN
CALSCALE:GREGORIAN
METHOD:PUBLISH
X-ORIGINAL-URL:https://thequarrythornton.com
X-WR-CALDESC:Events for The Quarry Ballroom
REFRESH-INTERVAL;VALUE=DURATION:PT1H
X-Robots-Tag:noindex
X-PUBLISHED-TTL:PT1H
BEGIN:VTIMEZONE
TZID:America/Chicago
BEGIN:DAYLIGHT
TZOFFSETFROM:-0600
TZOFFSETTO:-0500
TZNAME:CDT
DTSTART:20270314T080000
END:DAYLIGHT
BEGIN:STANDARD
TZOFFSETFROM:-0500
TZOFFSETTO:-0600
TZNAME:CST
DTSTART:20271107T070000
END:STANDARD
BEGIN:DAYLIGHT
TZOFFSETFROM:-0600
TZOFFSETTO:-0500
TZNAME:CDT
DTSTART:20280312T080000
END:DAYLIGHT
BEGIN:STANDARD
TZOFFSETFROM:-0500
TZOFFSETTO:-0600
TZNAME:CST
DTSTART:20281105T070000
END:STANDARD
BEGIN:DAYLIGHT
TZOFFSETFROM:-0600
TZOFFSETTO:-0500
TZNAME:CDT
DTSTART:20290311T080000
END:DAYLIGHT
BEGIN:STANDARD
TZOFFSETFROM:-0500
TZOFFSETTO:-0600
TZNAME:CST
DTSTART:20291104T070000
END:STANDARD
END:VTIMEZONE
BEGIN:VEVENT
DTSTART;TZID=America/Chicago:20280214T110000
DTEND;TZID=America/Chicago:20280214T230000
DTSTAMP:20260424T003306
CREATED:20240110T235437Z
LAST-MODIFIED:20250510T191022Z
UID:10011032-1834138800-1834182000@thequarrythornton.com
SUMMARY:Kitchen open 11-9 Tavern open 11-11. 1/2 price pizza. Dine in only.
DESCRIPTION:
URL:https://thequarrythornton.com/event/kitchen-open-3-9-tavern-open-3-11/2028-02-14/
END:VEVENT
BEGIN:VEVENT
DTSTART;TZID=America/Chicago:20280215T110000
DTEND;TZID=America/Chicago:20280215T230000
DTSTAMP:20260424T003306
CREATED:20240110T235532Z
LAST-MODIFIED:20250325T221155Z
UID:10011591-1834225200-1834268400@thequarrythornton.com
SUMMARY:Kitchen open 11-9 Tavern open 11-11. Taco Tuesday! 3 beef\, pork or chicken $7.50
DESCRIPTION:
URL:https://thequarrythornton.com/event/kitchen-open-3-9-tavern-open-3-11-2/2028-02-15/
END:VEVENT
BEGIN:VEVENT
DTSTART;TZID=America/Chicago:20280216T110000
DTEND;TZID=America/Chicago:20280216T230000
DTSTAMP:20260424T003306
CREATED:20240110T233647Z
LAST-MODIFIED:20250510T190409Z
UID:10011312-1834311600-1834354800@thequarrythornton.com
SUMMARY:Kitchen open 11-9 Tavern open 11-11. Wing Wednesday 1/2 price traditional wings. Dine in only.
DESCRIPTION:
URL:https://thequarrythornton.com/event/kitchen-open-3-9-tavern-open-3-11-free-bingo-every-wednesday-7-9/2028-02-16/
END:VEVENT
BEGIN:VEVENT
DTSTART;TZID=America/Chicago:20280217T110000
DTEND;TZID=America/Chicago:20280217T235900
DTSTAMP:20260424T003306
CREATED:20240110T233826Z
LAST-MODIFIED:20250510T190549Z
UID:10011871-1834398000-1834444740@thequarrythornton.com
SUMMARY:Kitchen open 11-9 Tavern open 11-11. 1/2 price hot dogs or chili cheese dogs. Dine in only.
DESCRIPTION:
URL:https://thequarrythornton.com/event/kitchen-open-11-9-tavern-open-11-12-open-mic-7-10/2028-02-17/
END:VEVENT
BEGIN:VEVENT
DTSTART;TZID=America/Chicago:20280218T110000
DTEND;TZID=America/Chicago:20280218T235900
DTSTAMP:20260424T003306
CREATED:20240110T234444Z
LAST-MODIFIED:20260123T151734Z
UID:10009606-1834484400-1834531140@thequarrythornton.com
SUMMARY:Kitchen open 11-9 Tavern open 11-12.
DESCRIPTION:
URL:https://thequarrythornton.com/event/kitchen-taven-open-11-12-live-music-every-friday-100-winner-karaoke-every-other/2028-02-18/
END:VEVENT
BEGIN:VEVENT
DTSTART;TZID=America/Chicago:20280219T110000
DTEND;TZID=America/Chicago:20280219T235900
DTSTAMP:20260424T003306
CREATED:20240110T235242Z
LAST-MODIFIED:20240313T170456Z
UID:10009867-1834570800-1834617540@thequarrythornton.com
SUMMARY:Kitchen open 11-9 Tavern open 11-12. Live Music every Saturday 7-10
DESCRIPTION:
URL:https://thequarrythornton.com/event/kitchen-tavern-open-11-12-live-music-every-saturday/2028-02-19/
END:VEVENT
BEGIN:VEVENT
DTSTART;TZID=America/Chicago:20280220T110000
DTEND;TZID=America/Chicago:20280220T230000
DTSTAMP:20260424T003306
CREATED:20240110T235336Z
LAST-MODIFIED:20260113T182408Z
UID:10010128-1834657200-1834700400@thequarrythornton.com
SUMMARY:Kitchen open 11-7 Tavern open 11-11.
DESCRIPTION:
URL:https://thequarrythornton.com/event/kitchen-open-11-7-tavern-open-11-11/2028-02-20/
END:VEVENT
BEGIN:VEVENT
DTSTART;TZID=America/Chicago:20280221T110000
DTEND;TZID=America/Chicago:20280221T230000
DTSTAMP:20260424T003306
CREATED:20240110T235437Z
LAST-MODIFIED:20250510T191022Z
UID:10011033-1834743600-1834786800@thequarrythornton.com
SUMMARY:Kitchen open 11-9 Tavern open 11-11. 1/2 price pizza. Dine in only.
DESCRIPTION:
URL:https://thequarrythornton.com/event/kitchen-open-3-9-tavern-open-3-11/2028-02-21/
END:VEVENT
BEGIN:VEVENT
DTSTART;TZID=America/Chicago:20280222T110000
DTEND;TZID=America/Chicago:20280222T230000
DTSTAMP:20260424T003306
CREATED:20240110T235532Z
LAST-MODIFIED:20250325T221155Z
UID:10011592-1834830000-1834873200@thequarrythornton.com
SUMMARY:Kitchen open 11-9 Tavern open 11-11. Taco Tuesday! 3 beef\, pork or chicken $7.50
DESCRIPTION:
URL:https://thequarrythornton.com/event/kitchen-open-3-9-tavern-open-3-11-2/2028-02-22/
END:VEVENT
BEGIN:VEVENT
DTSTART;TZID=America/Chicago:20280223T110000
DTEND;TZID=America/Chicago:20280223T230000
DTSTAMP:20260424T003306
CREATED:20240110T233647Z
LAST-MODIFIED:20250510T190409Z
UID:10011313-1834916400-1834959600@thequarrythornton.com
SUMMARY:Kitchen open 11-9 Tavern open 11-11. Wing Wednesday 1/2 price traditional wings. Dine in only.
DESCRIPTION:
URL:https://thequarrythornton.com/event/kitchen-open-3-9-tavern-open-3-11-free-bingo-every-wednesday-7-9/2028-02-23/
END:VEVENT
BEGIN:VEVENT
DTSTART;TZID=America/Chicago:20280224T110000
DTEND;TZID=America/Chicago:20280224T235900
DTSTAMP:20260424T003306
CREATED:20240110T233826Z
LAST-MODIFIED:20250510T190549Z
UID:10011872-1835002800-1835049540@thequarrythornton.com
SUMMARY:Kitchen open 11-9 Tavern open 11-11. 1/2 price hot dogs or chili cheese dogs. Dine in only.
DESCRIPTION:
URL:https://thequarrythornton.com/event/kitchen-open-11-9-tavern-open-11-12-open-mic-7-10/2028-02-24/
END:VEVENT
BEGIN:VEVENT
DTSTART;TZID=America/Chicago:20280225T110000
DTEND;TZID=America/Chicago:20280225T235900
DTSTAMP:20260424T003306
CREATED:20240110T234444Z
LAST-MODIFIED:20260123T151734Z
UID:10009607-1835089200-1835135940@thequarrythornton.com
SUMMARY:Kitchen open 11-9 Tavern open 11-12.
DESCRIPTION:
URL:https://thequarrythornton.com/event/kitchen-taven-open-11-12-live-music-every-friday-100-winner-karaoke-every-other/2028-02-25/
END:VEVENT
BEGIN:VEVENT
DTSTART;TZID=America/Chicago:20280226T110000
DTEND;TZID=America/Chicago:20280226T235900
DTSTAMP:20260424T003306
CREATED:20240110T235242Z
LAST-MODIFIED:20240313T170456Z
UID:10009868-1835175600-1835222340@thequarrythornton.com
SUMMARY:Kitchen open 11-9 Tavern open 11-12. Live Music every Saturday 7-10
DESCRIPTION:
URL:https://thequarrythornton.com/event/kitchen-tavern-open-11-12-live-music-every-saturday/2028-02-26/
END:VEVENT
BEGIN:VEVENT
DTSTART;TZID=America/Chicago:20280227T110000
DTEND;TZID=America/Chicago:20280227T230000
DTSTAMP:20260424T003306
CREATED:20240110T235336Z
LAST-MODIFIED:20260113T182408Z
UID:10010129-1835262000-1835305200@thequarrythornton.com
SUMMARY:Kitchen open 11-7 Tavern open 11-11.
DESCRIPTION:
URL:https://thequarrythornton.com/event/kitchen-open-11-7-tavern-open-11-11/2028-02-27/
END:VEVENT
BEGIN:VEVENT
DTSTART;TZID=America/Chicago:20280228T110000
DTEND;TZID=America/Chicago:20280228T230000
DTSTAMP:20260424T003306
CREATED:20240110T235437Z
LAST-MODIFIED:20250510T191022Z
UID:10011034-1835348400-1835391600@thequarrythornton.com
SUMMARY:Kitchen open 11-9 Tavern open 11-11. 1/2 price pizza. Dine in only.
DESCRIPTION:
URL:https://thequarrythornton.com/event/kitchen-open-3-9-tavern-open-3-11/2028-02-28/
END:VEVENT
BEGIN:VEVENT
DTSTART;TZID=America/Chicago:20280229T110000
DTEND;TZID=America/Chicago:20280229T230000
DTSTAMP:20260424T003306
CREATED:20240110T235532Z
LAST-MODIFIED:20250325T221155Z
UID:10011593-1835434800-1835478000@thequarrythornton.com
SUMMARY:Kitchen open 11-9 Tavern open 11-11. Taco Tuesday! 3 beef\, pork or chicken $7.50
DESCRIPTION:
URL:https://thequarrythornton.com/event/kitchen-open-3-9-tavern-open-3-11-2/2028-02-29/
END:VEVENT
BEGIN:VEVENT
DTSTART;TZID=America/Chicago:20280301T110000
DTEND;TZID=America/Chicago:20280301T230000
DTSTAMP:20260424T003306
CREATED:20240110T233647Z
LAST-MODIFIED:20250510T190409Z
UID:10011314-1835521200-1835564400@thequarrythornton.com
SUMMARY:Kitchen open 11-9 Tavern open 11-11. Wing Wednesday 1/2 price traditional wings. Dine in only.
DESCRIPTION:
URL:https://thequarrythornton.com/event/kitchen-open-3-9-tavern-open-3-11-free-bingo-every-wednesday-7-9/2028-03-01/
END:VEVENT
BEGIN:VEVENT
DTSTART;TZID=America/Chicago:20280302T110000
DTEND;TZID=America/Chicago:20280302T235900
DTSTAMP:20260424T003306
CREATED:20240110T233826Z
LAST-MODIFIED:20250510T190549Z
UID:10011873-1835607600-1835654340@thequarrythornton.com
SUMMARY:Kitchen open 11-9 Tavern open 11-11. 1/2 price hot dogs or chili cheese dogs. Dine in only.
DESCRIPTION:
URL:https://thequarrythornton.com/event/kitchen-open-11-9-tavern-open-11-12-open-mic-7-10/2028-03-02/
END:VEVENT
BEGIN:VEVENT
DTSTART;TZID=America/Chicago:20280303T110000
DTEND;TZID=America/Chicago:20280303T235900
DTSTAMP:20260424T003306
CREATED:20240110T234444Z
LAST-MODIFIED:20260123T151734Z
UID:10009608-1835694000-1835740740@thequarrythornton.com
SUMMARY:Kitchen open 11-9 Tavern open 11-12.
DESCRIPTION:
URL:https://thequarrythornton.com/event/kitchen-taven-open-11-12-live-music-every-friday-100-winner-karaoke-every-other/2028-03-03/
END:VEVENT
BEGIN:VEVENT
DTSTART;TZID=America/Chicago:20280304T110000
DTEND;TZID=America/Chicago:20280304T235900
DTSTAMP:20260424T003306
CREATED:20240110T235242Z
LAST-MODIFIED:20240313T170456Z
UID:10009869-1835780400-1835827140@thequarrythornton.com
SUMMARY:Kitchen open 11-9 Tavern open 11-12. Live Music every Saturday 7-10
DESCRIPTION:
URL:https://thequarrythornton.com/event/kitchen-tavern-open-11-12-live-music-every-saturday/2028-03-04/
END:VEVENT
BEGIN:VEVENT
DTSTART;TZID=America/Chicago:20280305T110000
DTEND;TZID=America/Chicago:20280305T230000
DTSTAMP:20260424T003306
CREATED:20240110T235336Z
LAST-MODIFIED:20260113T182408Z
UID:10010130-1835866800-1835910000@thequarrythornton.com
SUMMARY:Kitchen open 11-7 Tavern open 11-11.
DESCRIPTION:
URL:https://thequarrythornton.com/event/kitchen-open-11-7-tavern-open-11-11/2028-03-05/
END:VEVENT
BEGIN:VEVENT
DTSTART;TZID=America/Chicago:20280306T110000
DTEND;TZID=America/Chicago:20280306T230000
DTSTAMP:20260424T003306
CREATED:20240110T235437Z
LAST-MODIFIED:20250510T191022Z
UID:10011035-1835953200-1835996400@thequarrythornton.com
SUMMARY:Kitchen open 11-9 Tavern open 11-11. 1/2 price pizza. Dine in only.
DESCRIPTION:
URL:https://thequarrythornton.com/event/kitchen-open-3-9-tavern-open-3-11/2028-03-06/
END:VEVENT
BEGIN:VEVENT
DTSTART;TZID=America/Chicago:20280307T110000
DTEND;TZID=America/Chicago:20280307T230000
DTSTAMP:20260424T003306
CREATED:20240110T235532Z
LAST-MODIFIED:20250325T221155Z
UID:10011594-1836039600-1836082800@thequarrythornton.com
SUMMARY:Kitchen open 11-9 Tavern open 11-11. Taco Tuesday! 3 beef\, pork or chicken $7.50
DESCRIPTION:
URL:https://thequarrythornton.com/event/kitchen-open-3-9-tavern-open-3-11-2/2028-03-07/
END:VEVENT
BEGIN:VEVENT
DTSTART;TZID=America/Chicago:20280308T110000
DTEND;TZID=America/Chicago:20280308T230000
DTSTAMP:20260424T003306
CREATED:20240110T233647Z
LAST-MODIFIED:20250510T190409Z
UID:10011315-1836126000-1836169200@thequarrythornton.com
SUMMARY:Kitchen open 11-9 Tavern open 11-11. Wing Wednesday 1/2 price traditional wings. Dine in only.
DESCRIPTION:
URL:https://thequarrythornton.com/event/kitchen-open-3-9-tavern-open-3-11-free-bingo-every-wednesday-7-9/2028-03-08/
END:VEVENT
BEGIN:VEVENT
DTSTART;TZID=America/Chicago:20280309T110000
DTEND;TZID=America/Chicago:20280309T235900
DTSTAMP:20260424T003306
CREATED:20240110T233826Z
LAST-MODIFIED:20250510T190549Z
UID:10011874-1836212400-1836259140@thequarrythornton.com
SUMMARY:Kitchen open 11-9 Tavern open 11-11. 1/2 price hot dogs or chili cheese dogs. Dine in only.
DESCRIPTION:
URL:https://thequarrythornton.com/event/kitchen-open-11-9-tavern-open-11-12-open-mic-7-10/2028-03-09/
END:VEVENT
BEGIN:VEVENT
DTSTART;TZID=America/Chicago:20280310T110000
DTEND;TZID=America/Chicago:20280310T235900
DTSTAMP:20260424T003306
CREATED:20240110T234444Z
LAST-MODIFIED:20260123T151734Z
UID:10009609-1836298800-1836345540@thequarrythornton.com
SUMMARY:Kitchen open 11-9 Tavern open 11-12.
DESCRIPTION:
URL:https://thequarrythornton.com/event/kitchen-taven-open-11-12-live-music-every-friday-100-winner-karaoke-every-other/2028-03-10/
END:VEVENT
BEGIN:VEVENT
DTSTART;TZID=America/Chicago:20280311T110000
DTEND;TZID=America/Chicago:20280311T235900
DTSTAMP:20260424T003306
CREATED:20240110T235242Z
LAST-MODIFIED:20240313T170456Z
UID:10009870-1836385200-1836431940@thequarrythornton.com
SUMMARY:Kitchen open 11-9 Tavern open 11-12. Live Music every Saturday 7-10
DESCRIPTION:
URL:https://thequarrythornton.com/event/kitchen-tavern-open-11-12-live-music-every-saturday/2028-03-11/
END:VEVENT
BEGIN:VEVENT
DTSTART;TZID=America/Chicago:20280312T110000
DTEND;TZID=America/Chicago:20280312T230000
DTSTAMP:20260424T003306
CREATED:20240110T235336Z
LAST-MODIFIED:20260113T182408Z
UID:10010131-1836471600-1836514800@thequarrythornton.com
SUMMARY:Kitchen open 11-7 Tavern open 11-11.
DESCRIPTION:
URL:https://thequarrythornton.com/event/kitchen-open-11-7-tavern-open-11-11/2028-03-12/
END:VEVENT
BEGIN:VEVENT
DTSTART;TZID=America/Chicago:20280313T110000
DTEND;TZID=America/Chicago:20280313T230000
DTSTAMP:20260424T003306
CREATED:20240110T235437Z
LAST-MODIFIED:20250510T191022Z
UID:10011036-1836558000-1836601200@thequarrythornton.com
SUMMARY:Kitchen open 11-9 Tavern open 11-11. 1/2 price pizza. Dine in only.
DESCRIPTION:
URL:https://thequarrythornton.com/event/kitchen-open-3-9-tavern-open-3-11/2028-03-13/
END:VEVENT
BEGIN:VEVENT
DTSTART;TZID=America/Chicago:20280314T110000
DTEND;TZID=America/Chicago:20280314T230000
DTSTAMP:20260424T003306
CREATED:20240110T235532Z
LAST-MODIFIED:20250325T221155Z
UID:10011595-1836644400-1836687600@thequarrythornton.com
SUMMARY:Kitchen open 11-9 Tavern open 11-11. Taco Tuesday! 3 beef\, pork or chicken $7.50
DESCRIPTION:
URL:https://thequarrythornton.com/event/kitchen-open-3-9-tavern-open-3-11-2/2028-03-14/
END:VEVENT
END:VCALENDAR