BEGIN:VCALENDAR
VERSION:2.0
PRODID:-//The Quarry Ballroom - ECPv6.15.20//NONSGML v1.0//EN
CALSCALE:GREGORIAN
METHOD:PUBLISH
X-ORIGINAL-URL:https://thequarrythornton.com
X-WR-CALDESC:Events for The Quarry Ballroom
REFRESH-INTERVAL;VALUE=DURATION:PT1H
X-Robots-Tag:noindex
X-PUBLISHED-TTL:PT1H
BEGIN:VTIMEZONE
TZID:America/Chicago
BEGIN:DAYLIGHT
TZOFFSETFROM:-0600
TZOFFSETTO:-0500
TZNAME:CDT
DTSTART:20270314T080000
END:DAYLIGHT
BEGIN:STANDARD
TZOFFSETFROM:-0500
TZOFFSETTO:-0600
TZNAME:CST
DTSTART:20271107T070000
END:STANDARD
BEGIN:DAYLIGHT
TZOFFSETFROM:-0600
TZOFFSETTO:-0500
TZNAME:CDT
DTSTART:20280312T080000
END:DAYLIGHT
BEGIN:STANDARD
TZOFFSETFROM:-0500
TZOFFSETTO:-0600
TZNAME:CST
DTSTART:20281105T070000
END:STANDARD
BEGIN:DAYLIGHT
TZOFFSETFROM:-0600
TZOFFSETTO:-0500
TZNAME:CDT
DTSTART:20290311T080000
END:DAYLIGHT
BEGIN:STANDARD
TZOFFSETFROM:-0500
TZOFFSETTO:-0600
TZNAME:CST
DTSTART:20291104T070000
END:STANDARD
END:VTIMEZONE
BEGIN:VEVENT
DTSTART;TZID=America/Chicago:20280120T110000
DTEND;TZID=America/Chicago:20280120T235900
DTSTAMP:20260423T213417
CREATED:20240110T233826Z
LAST-MODIFIED:20250510T190549Z
UID:10011867-1831978800-1832025540@thequarrythornton.com
SUMMARY:Kitchen open 11-9 Tavern open 11-11. 1/2 price hot dogs or chili cheese dogs. Dine in only.
DESCRIPTION:
URL:https://thequarrythornton.com/event/kitchen-open-11-9-tavern-open-11-12-open-mic-7-10/2028-01-20/
END:VEVENT
BEGIN:VEVENT
DTSTART;TZID=America/Chicago:20280121T110000
DTEND;TZID=America/Chicago:20280121T235900
DTSTAMP:20260423T213417
CREATED:20240110T234444Z
LAST-MODIFIED:20260123T151734Z
UID:10009602-1832065200-1832111940@thequarrythornton.com
SUMMARY:Kitchen open 11-9 Tavern open 11-12.
DESCRIPTION:
URL:https://thequarrythornton.com/event/kitchen-taven-open-11-12-live-music-every-friday-100-winner-karaoke-every-other/2028-01-21/
END:VEVENT
BEGIN:VEVENT
DTSTART;TZID=America/Chicago:20280122T110000
DTEND;TZID=America/Chicago:20280122T235900
DTSTAMP:20260423T213417
CREATED:20240110T235242Z
LAST-MODIFIED:20240313T170456Z
UID:10009863-1832151600-1832198340@thequarrythornton.com
SUMMARY:Kitchen open 11-9 Tavern open 11-12. Live Music every Saturday 7-10
DESCRIPTION:
URL:https://thequarrythornton.com/event/kitchen-tavern-open-11-12-live-music-every-saturday/2028-01-22/
END:VEVENT
BEGIN:VEVENT
DTSTART;TZID=America/Chicago:20280123T110000
DTEND;TZID=America/Chicago:20280123T230000
DTSTAMP:20260423T213417
CREATED:20240110T235336Z
LAST-MODIFIED:20260113T182408Z
UID:10010124-1832238000-1832281200@thequarrythornton.com
SUMMARY:Kitchen open 11-7 Tavern open 11-11.
DESCRIPTION:
URL:https://thequarrythornton.com/event/kitchen-open-11-7-tavern-open-11-11/2028-01-23/
END:VEVENT
BEGIN:VEVENT
DTSTART;TZID=America/Chicago:20280124T110000
DTEND;TZID=America/Chicago:20280124T230000
DTSTAMP:20260423T213417
CREATED:20240110T235437Z
LAST-MODIFIED:20250510T191022Z
UID:10011029-1832324400-1832367600@thequarrythornton.com
SUMMARY:Kitchen open 11-9 Tavern open 11-11. 1/2 price pizza. Dine in only.
DESCRIPTION:
URL:https://thequarrythornton.com/event/kitchen-open-3-9-tavern-open-3-11/2028-01-24/
END:VEVENT
BEGIN:VEVENT
DTSTART;TZID=America/Chicago:20280125T110000
DTEND;TZID=America/Chicago:20280125T230000
DTSTAMP:20260423T213417
CREATED:20240110T235532Z
LAST-MODIFIED:20250325T221155Z
UID:10011588-1832410800-1832454000@thequarrythornton.com
SUMMARY:Kitchen open 11-9 Tavern open 11-11. Taco Tuesday! 3 beef\, pork or chicken $7.50
DESCRIPTION:
URL:https://thequarrythornton.com/event/kitchen-open-3-9-tavern-open-3-11-2/2028-01-25/
END:VEVENT
BEGIN:VEVENT
DTSTART;TZID=America/Chicago:20280126T110000
DTEND;TZID=America/Chicago:20280126T230000
DTSTAMP:20260423T213417
CREATED:20240110T233647Z
LAST-MODIFIED:20250510T190409Z
UID:10011309-1832497200-1832540400@thequarrythornton.com
SUMMARY:Kitchen open 11-9 Tavern open 11-11. Wing Wednesday 1/2 price traditional wings. Dine in only.
DESCRIPTION:
URL:https://thequarrythornton.com/event/kitchen-open-3-9-tavern-open-3-11-free-bingo-every-wednesday-7-9/2028-01-26/
END:VEVENT
BEGIN:VEVENT
DTSTART;TZID=America/Chicago:20280127T110000
DTEND;TZID=America/Chicago:20280127T235900
DTSTAMP:20260423T213417
CREATED:20240110T233826Z
LAST-MODIFIED:20250510T190549Z
UID:10011868-1832583600-1832630340@thequarrythornton.com
SUMMARY:Kitchen open 11-9 Tavern open 11-11. 1/2 price hot dogs or chili cheese dogs. Dine in only.
DESCRIPTION:
URL:https://thequarrythornton.com/event/kitchen-open-11-9-tavern-open-11-12-open-mic-7-10/2028-01-27/
END:VEVENT
BEGIN:VEVENT
DTSTART;TZID=America/Chicago:20280128T110000
DTEND;TZID=America/Chicago:20280128T235900
DTSTAMP:20260423T213417
CREATED:20240110T234444Z
LAST-MODIFIED:20260123T151734Z
UID:10009603-1832670000-1832716740@thequarrythornton.com
SUMMARY:Kitchen open 11-9 Tavern open 11-12.
DESCRIPTION:
URL:https://thequarrythornton.com/event/kitchen-taven-open-11-12-live-music-every-friday-100-winner-karaoke-every-other/2028-01-28/
END:VEVENT
BEGIN:VEVENT
DTSTART;TZID=America/Chicago:20280129T110000
DTEND;TZID=America/Chicago:20280129T235900
DTSTAMP:20260423T213417
CREATED:20240110T235242Z
LAST-MODIFIED:20240313T170456Z
UID:10009864-1832756400-1832803140@thequarrythornton.com
SUMMARY:Kitchen open 11-9 Tavern open 11-12. Live Music every Saturday 7-10
DESCRIPTION:
URL:https://thequarrythornton.com/event/kitchen-tavern-open-11-12-live-music-every-saturday/2028-01-29/
END:VEVENT
BEGIN:VEVENT
DTSTART;TZID=America/Chicago:20280130T110000
DTEND;TZID=America/Chicago:20280130T230000
DTSTAMP:20260423T213417
CREATED:20240110T235336Z
LAST-MODIFIED:20260113T182408Z
UID:10010125-1832842800-1832886000@thequarrythornton.com
SUMMARY:Kitchen open 11-7 Tavern open 11-11.
DESCRIPTION:
URL:https://thequarrythornton.com/event/kitchen-open-11-7-tavern-open-11-11/2028-01-30/
END:VEVENT
BEGIN:VEVENT
DTSTART;TZID=America/Chicago:20280131T110000
DTEND;TZID=America/Chicago:20280131T230000
DTSTAMP:20260423T213417
CREATED:20240110T235437Z
LAST-MODIFIED:20250510T191022Z
UID:10011030-1832929200-1832972400@thequarrythornton.com
SUMMARY:Kitchen open 11-9 Tavern open 11-11. 1/2 price pizza. Dine in only.
DESCRIPTION:
URL:https://thequarrythornton.com/event/kitchen-open-3-9-tavern-open-3-11/2028-01-31/
END:VEVENT
BEGIN:VEVENT
DTSTART;TZID=America/Chicago:20280201T110000
DTEND;TZID=America/Chicago:20280201T230000
DTSTAMP:20260423T213417
CREATED:20240110T235532Z
LAST-MODIFIED:20250325T221155Z
UID:10011589-1833015600-1833058800@thequarrythornton.com
SUMMARY:Kitchen open 11-9 Tavern open 11-11. Taco Tuesday! 3 beef\, pork or chicken $7.50
DESCRIPTION:
URL:https://thequarrythornton.com/event/kitchen-open-3-9-tavern-open-3-11-2/2028-02-01/
END:VEVENT
BEGIN:VEVENT
DTSTART;TZID=America/Chicago:20280202T110000
DTEND;TZID=America/Chicago:20280202T230000
DTSTAMP:20260423T213417
CREATED:20240110T233647Z
LAST-MODIFIED:20250510T190409Z
UID:10011310-1833102000-1833145200@thequarrythornton.com
SUMMARY:Kitchen open 11-9 Tavern open 11-11. Wing Wednesday 1/2 price traditional wings. Dine in only.
DESCRIPTION:
URL:https://thequarrythornton.com/event/kitchen-open-3-9-tavern-open-3-11-free-bingo-every-wednesday-7-9/2028-02-02/
END:VEVENT
BEGIN:VEVENT
DTSTART;TZID=America/Chicago:20280203T110000
DTEND;TZID=America/Chicago:20280203T235900
DTSTAMP:20260423T213417
CREATED:20240110T233826Z
LAST-MODIFIED:20250510T190549Z
UID:10011869-1833188400-1833235140@thequarrythornton.com
SUMMARY:Kitchen open 11-9 Tavern open 11-11. 1/2 price hot dogs or chili cheese dogs. Dine in only.
DESCRIPTION:
URL:https://thequarrythornton.com/event/kitchen-open-11-9-tavern-open-11-12-open-mic-7-10/2028-02-03/
END:VEVENT
BEGIN:VEVENT
DTSTART;TZID=America/Chicago:20280204T110000
DTEND;TZID=America/Chicago:20280204T235900
DTSTAMP:20260423T213417
CREATED:20240110T234444Z
LAST-MODIFIED:20260123T151734Z
UID:10009604-1833274800-1833321540@thequarrythornton.com
SUMMARY:Kitchen open 11-9 Tavern open 11-12.
DESCRIPTION:
URL:https://thequarrythornton.com/event/kitchen-taven-open-11-12-live-music-every-friday-100-winner-karaoke-every-other/2028-02-04/
END:VEVENT
BEGIN:VEVENT
DTSTART;TZID=America/Chicago:20280205T110000
DTEND;TZID=America/Chicago:20280205T235900
DTSTAMP:20260423T213417
CREATED:20240110T235242Z
LAST-MODIFIED:20240313T170456Z
UID:10009865-1833361200-1833407940@thequarrythornton.com
SUMMARY:Kitchen open 11-9 Tavern open 11-12. Live Music every Saturday 7-10
DESCRIPTION:
URL:https://thequarrythornton.com/event/kitchen-tavern-open-11-12-live-music-every-saturday/2028-02-05/
END:VEVENT
BEGIN:VEVENT
DTSTART;TZID=America/Chicago:20280206T110000
DTEND;TZID=America/Chicago:20280206T230000
DTSTAMP:20260423T213417
CREATED:20240110T235336Z
LAST-MODIFIED:20260113T182408Z
UID:10010126-1833447600-1833490800@thequarrythornton.com
SUMMARY:Kitchen open 11-7 Tavern open 11-11.
DESCRIPTION:
URL:https://thequarrythornton.com/event/kitchen-open-11-7-tavern-open-11-11/2028-02-06/
END:VEVENT
BEGIN:VEVENT
DTSTART;TZID=America/Chicago:20280207T110000
DTEND;TZID=America/Chicago:20280207T230000
DTSTAMP:20260423T213417
CREATED:20240110T235437Z
LAST-MODIFIED:20250510T191022Z
UID:10011031-1833534000-1833577200@thequarrythornton.com
SUMMARY:Kitchen open 11-9 Tavern open 11-11. 1/2 price pizza. Dine in only.
DESCRIPTION:
URL:https://thequarrythornton.com/event/kitchen-open-3-9-tavern-open-3-11/2028-02-07/
END:VEVENT
BEGIN:VEVENT
DTSTART;TZID=America/Chicago:20280208T110000
DTEND;TZID=America/Chicago:20280208T230000
DTSTAMP:20260423T213417
CREATED:20240110T235532Z
LAST-MODIFIED:20250325T221155Z
UID:10011590-1833620400-1833663600@thequarrythornton.com
SUMMARY:Kitchen open 11-9 Tavern open 11-11. Taco Tuesday! 3 beef\, pork or chicken $7.50
DESCRIPTION:
URL:https://thequarrythornton.com/event/kitchen-open-3-9-tavern-open-3-11-2/2028-02-08/
END:VEVENT
BEGIN:VEVENT
DTSTART;TZID=America/Chicago:20280209T110000
DTEND;TZID=America/Chicago:20280209T230000
DTSTAMP:20260423T213417
CREATED:20240110T233647Z
LAST-MODIFIED:20250510T190409Z
UID:10011311-1833706800-1833750000@thequarrythornton.com
SUMMARY:Kitchen open 11-9 Tavern open 11-11. Wing Wednesday 1/2 price traditional wings. Dine in only.
DESCRIPTION:
URL:https://thequarrythornton.com/event/kitchen-open-3-9-tavern-open-3-11-free-bingo-every-wednesday-7-9/2028-02-09/
END:VEVENT
BEGIN:VEVENT
DTSTART;TZID=America/Chicago:20280210T110000
DTEND;TZID=America/Chicago:20280210T235900
DTSTAMP:20260423T213417
CREATED:20240110T233826Z
LAST-MODIFIED:20250510T190549Z
UID:10011870-1833793200-1833839940@thequarrythornton.com
SUMMARY:Kitchen open 11-9 Tavern open 11-11. 1/2 price hot dogs or chili cheese dogs. Dine in only.
DESCRIPTION:
URL:https://thequarrythornton.com/event/kitchen-open-11-9-tavern-open-11-12-open-mic-7-10/2028-02-10/
END:VEVENT
BEGIN:VEVENT
DTSTART;TZID=America/Chicago:20280211T110000
DTEND;TZID=America/Chicago:20280211T235900
DTSTAMP:20260423T213417
CREATED:20240110T234444Z
LAST-MODIFIED:20260123T151734Z
UID:10009605-1833879600-1833926340@thequarrythornton.com
SUMMARY:Kitchen open 11-9 Tavern open 11-12.
DESCRIPTION:
URL:https://thequarrythornton.com/event/kitchen-taven-open-11-12-live-music-every-friday-100-winner-karaoke-every-other/2028-02-11/
END:VEVENT
BEGIN:VEVENT
DTSTART;TZID=America/Chicago:20280212T110000
DTEND;TZID=America/Chicago:20280212T235900
DTSTAMP:20260423T213417
CREATED:20240110T235242Z
LAST-MODIFIED:20240313T170456Z
UID:10009866-1833966000-1834012740@thequarrythornton.com
SUMMARY:Kitchen open 11-9 Tavern open 11-12. Live Music every Saturday 7-10
DESCRIPTION:
URL:https://thequarrythornton.com/event/kitchen-tavern-open-11-12-live-music-every-saturday/2028-02-12/
END:VEVENT
BEGIN:VEVENT
DTSTART;TZID=America/Chicago:20280213T110000
DTEND;TZID=America/Chicago:20280213T230000
DTSTAMP:20260423T213417
CREATED:20240110T235336Z
LAST-MODIFIED:20260113T182408Z
UID:10010127-1834052400-1834095600@thequarrythornton.com
SUMMARY:Kitchen open 11-7 Tavern open 11-11.
DESCRIPTION:
URL:https://thequarrythornton.com/event/kitchen-open-11-7-tavern-open-11-11/2028-02-13/
END:VEVENT
BEGIN:VEVENT
DTSTART;TZID=America/Chicago:20280214T110000
DTEND;TZID=America/Chicago:20280214T230000
DTSTAMP:20260423T213417
CREATED:20240110T235437Z
LAST-MODIFIED:20250510T191022Z
UID:10011032-1834138800-1834182000@thequarrythornton.com
SUMMARY:Kitchen open 11-9 Tavern open 11-11. 1/2 price pizza. Dine in only.
DESCRIPTION:
URL:https://thequarrythornton.com/event/kitchen-open-3-9-tavern-open-3-11/2028-02-14/
END:VEVENT
BEGIN:VEVENT
DTSTART;TZID=America/Chicago:20280215T110000
DTEND;TZID=America/Chicago:20280215T230000
DTSTAMP:20260423T213417
CREATED:20240110T235532Z
LAST-MODIFIED:20250325T221155Z
UID:10011591-1834225200-1834268400@thequarrythornton.com
SUMMARY:Kitchen open 11-9 Tavern open 11-11. Taco Tuesday! 3 beef\, pork or chicken $7.50
DESCRIPTION:
URL:https://thequarrythornton.com/event/kitchen-open-3-9-tavern-open-3-11-2/2028-02-15/
END:VEVENT
BEGIN:VEVENT
DTSTART;TZID=America/Chicago:20280216T110000
DTEND;TZID=America/Chicago:20280216T230000
DTSTAMP:20260423T213417
CREATED:20240110T233647Z
LAST-MODIFIED:20250510T190409Z
UID:10011312-1834311600-1834354800@thequarrythornton.com
SUMMARY:Kitchen open 11-9 Tavern open 11-11. Wing Wednesday 1/2 price traditional wings. Dine in only.
DESCRIPTION:
URL:https://thequarrythornton.com/event/kitchen-open-3-9-tavern-open-3-11-free-bingo-every-wednesday-7-9/2028-02-16/
END:VEVENT
BEGIN:VEVENT
DTSTART;TZID=America/Chicago:20280217T110000
DTEND;TZID=America/Chicago:20280217T235900
DTSTAMP:20260423T213417
CREATED:20240110T233826Z
LAST-MODIFIED:20250510T190549Z
UID:10011871-1834398000-1834444740@thequarrythornton.com
SUMMARY:Kitchen open 11-9 Tavern open 11-11. 1/2 price hot dogs or chili cheese dogs. Dine in only.
DESCRIPTION:
URL:https://thequarrythornton.com/event/kitchen-open-11-9-tavern-open-11-12-open-mic-7-10/2028-02-17/
END:VEVENT
BEGIN:VEVENT
DTSTART;TZID=America/Chicago:20280218T110000
DTEND;TZID=America/Chicago:20280218T235900
DTSTAMP:20260423T213417
CREATED:20240110T234444Z
LAST-MODIFIED:20260123T151734Z
UID:10009606-1834484400-1834531140@thequarrythornton.com
SUMMARY:Kitchen open 11-9 Tavern open 11-12.
DESCRIPTION:
URL:https://thequarrythornton.com/event/kitchen-taven-open-11-12-live-music-every-friday-100-winner-karaoke-every-other/2028-02-18/
END:VEVENT
END:VCALENDAR