BEGIN:VCALENDAR
VERSION:2.0
PRODID:-//The Quarry Ballroom - ECPv6.15.20//NONSGML v1.0//EN
CALSCALE:GREGORIAN
METHOD:PUBLISH
X-ORIGINAL-URL:https://thequarrythornton.com
X-WR-CALDESC:Events for The Quarry Ballroom
REFRESH-INTERVAL;VALUE=DURATION:PT1H
X-Robots-Tag:noindex
X-PUBLISHED-TTL:PT1H
BEGIN:VTIMEZONE
TZID:America/Chicago
BEGIN:DAYLIGHT
TZOFFSETFROM:-0600
TZOFFSETTO:-0500
TZNAME:CDT
DTSTART:20260308T080000
END:DAYLIGHT
BEGIN:STANDARD
TZOFFSETFROM:-0500
TZOFFSETTO:-0600
TZNAME:CST
DTSTART:20261101T070000
END:STANDARD
BEGIN:DAYLIGHT
TZOFFSETFROM:-0600
TZOFFSETTO:-0500
TZNAME:CDT
DTSTART:20270314T080000
END:DAYLIGHT
BEGIN:STANDARD
TZOFFSETFROM:-0500
TZOFFSETTO:-0600
TZNAME:CST
DTSTART:20271107T070000
END:STANDARD
BEGIN:DAYLIGHT
TZOFFSETFROM:-0600
TZOFFSETTO:-0500
TZNAME:CDT
DTSTART:20280312T080000
END:DAYLIGHT
BEGIN:STANDARD
TZOFFSETFROM:-0500
TZOFFSETTO:-0600
TZNAME:CST
DTSTART:20281105T070000
END:STANDARD
BEGIN:DAYLIGHT
TZOFFSETFROM:-0600
TZOFFSETTO:-0500
TZNAME:CDT
DTSTART:20290311T080000
END:DAYLIGHT
BEGIN:STANDARD
TZOFFSETFROM:-0500
TZOFFSETTO:-0600
TZNAME:CST
DTSTART:20291104T070000
END:STANDARD
END:VTIMEZONE
BEGIN:VEVENT
DTSTART;TZID=America/Chicago:20271227T110000
DTEND;TZID=America/Chicago:20271227T230000
DTSTAMP:20260423T191607
CREATED:20240110T235437Z
LAST-MODIFIED:20250510T191022Z
UID:10011025-1829905200-1829948400@thequarrythornton.com
SUMMARY:Kitchen open 11-9 Tavern open 11-11. 1/2 price pizza. Dine in only.
DESCRIPTION:
URL:https://thequarrythornton.com/event/kitchen-open-3-9-tavern-open-3-11/2027-12-27/
END:VEVENT
BEGIN:VEVENT
DTSTART;TZID=America/Chicago:20271228T110000
DTEND;TZID=America/Chicago:20271228T230000
DTSTAMP:20260423T191607
CREATED:20240110T235532Z
LAST-MODIFIED:20250325T221155Z
UID:10011584-1829991600-1830034800@thequarrythornton.com
SUMMARY:Kitchen open 11-9 Tavern open 11-11. Taco Tuesday! 3 beef\, pork or chicken $7.50
DESCRIPTION:
URL:https://thequarrythornton.com/event/kitchen-open-3-9-tavern-open-3-11-2/2027-12-28/
END:VEVENT
BEGIN:VEVENT
DTSTART;TZID=America/Chicago:20271229T110000
DTEND;TZID=America/Chicago:20271229T230000
DTSTAMP:20260423T191607
CREATED:20240110T233647Z
LAST-MODIFIED:20250510T190409Z
UID:10011305-1830078000-1830121200@thequarrythornton.com
SUMMARY:Kitchen open 11-9 Tavern open 11-11. Wing Wednesday 1/2 price traditional wings. Dine in only.
DESCRIPTION:
URL:https://thequarrythornton.com/event/kitchen-open-3-9-tavern-open-3-11-free-bingo-every-wednesday-7-9/2027-12-29/
END:VEVENT
BEGIN:VEVENT
DTSTART;TZID=America/Chicago:20271230T110000
DTEND;TZID=America/Chicago:20271230T235900
DTSTAMP:20260423T191607
CREATED:20240110T233826Z
LAST-MODIFIED:20250510T190549Z
UID:10011864-1830164400-1830211140@thequarrythornton.com
SUMMARY:Kitchen open 11-9 Tavern open 11-11. 1/2 price hot dogs or chili cheese dogs. Dine in only.
DESCRIPTION:
URL:https://thequarrythornton.com/event/kitchen-open-11-9-tavern-open-11-12-open-mic-7-10/2027-12-30/
END:VEVENT
BEGIN:VEVENT
DTSTART;TZID=America/Chicago:20271231T110000
DTEND;TZID=America/Chicago:20271231T235900
DTSTAMP:20260423T191607
CREATED:20240110T234444Z
LAST-MODIFIED:20260123T151734Z
UID:10009599-1830250800-1830297540@thequarrythornton.com
SUMMARY:Kitchen open 11-9 Tavern open 11-12.
DESCRIPTION:
URL:https://thequarrythornton.com/event/kitchen-taven-open-11-12-live-music-every-friday-100-winner-karaoke-every-other/2027-12-31/
END:VEVENT
BEGIN:VEVENT
DTSTART;TZID=America/Chicago:20280101T110000
DTEND;TZID=America/Chicago:20280101T235900
DTSTAMP:20260423T191607
CREATED:20240110T235242Z
LAST-MODIFIED:20240313T170456Z
UID:10009860-1830337200-1830383940@thequarrythornton.com
SUMMARY:Kitchen open 11-9 Tavern open 11-12. Live Music every Saturday 7-10
DESCRIPTION:
URL:https://thequarrythornton.com/event/kitchen-tavern-open-11-12-live-music-every-saturday/2028-01-01/
END:VEVENT
BEGIN:VEVENT
DTSTART;TZID=America/Chicago:20280102T110000
DTEND;TZID=America/Chicago:20280102T230000
DTSTAMP:20260423T191607
CREATED:20240110T235336Z
LAST-MODIFIED:20260113T182408Z
UID:10010121-1830423600-1830466800@thequarrythornton.com
SUMMARY:Kitchen open 11-7 Tavern open 11-11.
DESCRIPTION:
URL:https://thequarrythornton.com/event/kitchen-open-11-7-tavern-open-11-11/2028-01-02/
END:VEVENT
BEGIN:VEVENT
DTSTART;TZID=America/Chicago:20280103T110000
DTEND;TZID=America/Chicago:20280103T230000
DTSTAMP:20260423T191607
CREATED:20240110T235437Z
LAST-MODIFIED:20250510T191022Z
UID:10011026-1830510000-1830553200@thequarrythornton.com
SUMMARY:Kitchen open 11-9 Tavern open 11-11. 1/2 price pizza. Dine in only.
DESCRIPTION:
URL:https://thequarrythornton.com/event/kitchen-open-3-9-tavern-open-3-11/2028-01-03/
END:VEVENT
BEGIN:VEVENT
DTSTART;TZID=America/Chicago:20280104T110000
DTEND;TZID=America/Chicago:20280104T230000
DTSTAMP:20260423T191607
CREATED:20240110T235532Z
LAST-MODIFIED:20250325T221155Z
UID:10011585-1830596400-1830639600@thequarrythornton.com
SUMMARY:Kitchen open 11-9 Tavern open 11-11. Taco Tuesday! 3 beef\, pork or chicken $7.50
DESCRIPTION:
URL:https://thequarrythornton.com/event/kitchen-open-3-9-tavern-open-3-11-2/2028-01-04/
END:VEVENT
BEGIN:VEVENT
DTSTART;TZID=America/Chicago:20280105T110000
DTEND;TZID=America/Chicago:20280105T230000
DTSTAMP:20260423T191607
CREATED:20240110T233647Z
LAST-MODIFIED:20250510T190409Z
UID:10011306-1830682800-1830726000@thequarrythornton.com
SUMMARY:Kitchen open 11-9 Tavern open 11-11. Wing Wednesday 1/2 price traditional wings. Dine in only.
DESCRIPTION:
URL:https://thequarrythornton.com/event/kitchen-open-3-9-tavern-open-3-11-free-bingo-every-wednesday-7-9/2028-01-05/
END:VEVENT
BEGIN:VEVENT
DTSTART;TZID=America/Chicago:20280106T110000
DTEND;TZID=America/Chicago:20280106T235900
DTSTAMP:20260423T191607
CREATED:20240110T233826Z
LAST-MODIFIED:20250510T190549Z
UID:10011865-1830769200-1830815940@thequarrythornton.com
SUMMARY:Kitchen open 11-9 Tavern open 11-11. 1/2 price hot dogs or chili cheese dogs. Dine in only.
DESCRIPTION:
URL:https://thequarrythornton.com/event/kitchen-open-11-9-tavern-open-11-12-open-mic-7-10/2028-01-06/
END:VEVENT
BEGIN:VEVENT
DTSTART;TZID=America/Chicago:20280107T110000
DTEND;TZID=America/Chicago:20280107T235900
DTSTAMP:20260423T191607
CREATED:20240110T234444Z
LAST-MODIFIED:20260123T151734Z
UID:10009600-1830855600-1830902340@thequarrythornton.com
SUMMARY:Kitchen open 11-9 Tavern open 11-12.
DESCRIPTION:
URL:https://thequarrythornton.com/event/kitchen-taven-open-11-12-live-music-every-friday-100-winner-karaoke-every-other/2028-01-07/
END:VEVENT
BEGIN:VEVENT
DTSTART;TZID=America/Chicago:20280108T110000
DTEND;TZID=America/Chicago:20280108T235900
DTSTAMP:20260423T191607
CREATED:20240110T235242Z
LAST-MODIFIED:20240313T170456Z
UID:10009861-1830942000-1830988740@thequarrythornton.com
SUMMARY:Kitchen open 11-9 Tavern open 11-12. Live Music every Saturday 7-10
DESCRIPTION:
URL:https://thequarrythornton.com/event/kitchen-tavern-open-11-12-live-music-every-saturday/2028-01-08/
END:VEVENT
BEGIN:VEVENT
DTSTART;TZID=America/Chicago:20280109T110000
DTEND;TZID=America/Chicago:20280109T230000
DTSTAMP:20260423T191607
CREATED:20240110T235336Z
LAST-MODIFIED:20260113T182408Z
UID:10010122-1831028400-1831071600@thequarrythornton.com
SUMMARY:Kitchen open 11-7 Tavern open 11-11.
DESCRIPTION:
URL:https://thequarrythornton.com/event/kitchen-open-11-7-tavern-open-11-11/2028-01-09/
END:VEVENT
BEGIN:VEVENT
DTSTART;TZID=America/Chicago:20280110T110000
DTEND;TZID=America/Chicago:20280110T230000
DTSTAMP:20260423T191607
CREATED:20240110T235437Z
LAST-MODIFIED:20250510T191022Z
UID:10011027-1831114800-1831158000@thequarrythornton.com
SUMMARY:Kitchen open 11-9 Tavern open 11-11. 1/2 price pizza. Dine in only.
DESCRIPTION:
URL:https://thequarrythornton.com/event/kitchen-open-3-9-tavern-open-3-11/2028-01-10/
END:VEVENT
BEGIN:VEVENT
DTSTART;TZID=America/Chicago:20280111T110000
DTEND;TZID=America/Chicago:20280111T230000
DTSTAMP:20260423T191607
CREATED:20240110T235532Z
LAST-MODIFIED:20250325T221155Z
UID:10011586-1831201200-1831244400@thequarrythornton.com
SUMMARY:Kitchen open 11-9 Tavern open 11-11. Taco Tuesday! 3 beef\, pork or chicken $7.50
DESCRIPTION:
URL:https://thequarrythornton.com/event/kitchen-open-3-9-tavern-open-3-11-2/2028-01-11/
END:VEVENT
BEGIN:VEVENT
DTSTART;TZID=America/Chicago:20280112T110000
DTEND;TZID=America/Chicago:20280112T230000
DTSTAMP:20260423T191607
CREATED:20240110T233647Z
LAST-MODIFIED:20250510T190409Z
UID:10011307-1831287600-1831330800@thequarrythornton.com
SUMMARY:Kitchen open 11-9 Tavern open 11-11. Wing Wednesday 1/2 price traditional wings. Dine in only.
DESCRIPTION:
URL:https://thequarrythornton.com/event/kitchen-open-3-9-tavern-open-3-11-free-bingo-every-wednesday-7-9/2028-01-12/
END:VEVENT
BEGIN:VEVENT
DTSTART;TZID=America/Chicago:20280113T110000
DTEND;TZID=America/Chicago:20280113T235900
DTSTAMP:20260423T191607
CREATED:20240110T233826Z
LAST-MODIFIED:20250510T190549Z
UID:10011866-1831374000-1831420740@thequarrythornton.com
SUMMARY:Kitchen open 11-9 Tavern open 11-11. 1/2 price hot dogs or chili cheese dogs. Dine in only.
DESCRIPTION:
URL:https://thequarrythornton.com/event/kitchen-open-11-9-tavern-open-11-12-open-mic-7-10/2028-01-13/
END:VEVENT
BEGIN:VEVENT
DTSTART;TZID=America/Chicago:20280114T110000
DTEND;TZID=America/Chicago:20280114T235900
DTSTAMP:20260423T191607
CREATED:20240110T234444Z
LAST-MODIFIED:20260123T151734Z
UID:10009601-1831460400-1831507140@thequarrythornton.com
SUMMARY:Kitchen open 11-9 Tavern open 11-12.
DESCRIPTION:
URL:https://thequarrythornton.com/event/kitchen-taven-open-11-12-live-music-every-friday-100-winner-karaoke-every-other/2028-01-14/
END:VEVENT
BEGIN:VEVENT
DTSTART;TZID=America/Chicago:20280115T110000
DTEND;TZID=America/Chicago:20280115T235900
DTSTAMP:20260423T191607
CREATED:20240110T235242Z
LAST-MODIFIED:20240313T170456Z
UID:10009862-1831546800-1831593540@thequarrythornton.com
SUMMARY:Kitchen open 11-9 Tavern open 11-12. Live Music every Saturday 7-10
DESCRIPTION:
URL:https://thequarrythornton.com/event/kitchen-tavern-open-11-12-live-music-every-saturday/2028-01-15/
END:VEVENT
BEGIN:VEVENT
DTSTART;TZID=America/Chicago:20280116T110000
DTEND;TZID=America/Chicago:20280116T230000
DTSTAMP:20260423T191607
CREATED:20240110T235336Z
LAST-MODIFIED:20260113T182408Z
UID:10010123-1831633200-1831676400@thequarrythornton.com
SUMMARY:Kitchen open 11-7 Tavern open 11-11.
DESCRIPTION:
URL:https://thequarrythornton.com/event/kitchen-open-11-7-tavern-open-11-11/2028-01-16/
END:VEVENT
BEGIN:VEVENT
DTSTART;TZID=America/Chicago:20280117T110000
DTEND;TZID=America/Chicago:20280117T230000
DTSTAMP:20260423T191607
CREATED:20240110T235437Z
LAST-MODIFIED:20250510T191022Z
UID:10011028-1831719600-1831762800@thequarrythornton.com
SUMMARY:Kitchen open 11-9 Tavern open 11-11. 1/2 price pizza. Dine in only.
DESCRIPTION:
URL:https://thequarrythornton.com/event/kitchen-open-3-9-tavern-open-3-11/2028-01-17/
END:VEVENT
BEGIN:VEVENT
DTSTART;TZID=America/Chicago:20280118T110000
DTEND;TZID=America/Chicago:20280118T230000
DTSTAMP:20260423T191607
CREATED:20240110T235532Z
LAST-MODIFIED:20250325T221155Z
UID:10011587-1831806000-1831849200@thequarrythornton.com
SUMMARY:Kitchen open 11-9 Tavern open 11-11. Taco Tuesday! 3 beef\, pork or chicken $7.50
DESCRIPTION:
URL:https://thequarrythornton.com/event/kitchen-open-3-9-tavern-open-3-11-2/2028-01-18/
END:VEVENT
BEGIN:VEVENT
DTSTART;TZID=America/Chicago:20280119T110000
DTEND;TZID=America/Chicago:20280119T230000
DTSTAMP:20260423T191607
CREATED:20240110T233647Z
LAST-MODIFIED:20250510T190409Z
UID:10011308-1831892400-1831935600@thequarrythornton.com
SUMMARY:Kitchen open 11-9 Tavern open 11-11. Wing Wednesday 1/2 price traditional wings. Dine in only.
DESCRIPTION:
URL:https://thequarrythornton.com/event/kitchen-open-3-9-tavern-open-3-11-free-bingo-every-wednesday-7-9/2028-01-19/
END:VEVENT
BEGIN:VEVENT
DTSTART;TZID=America/Chicago:20280120T110000
DTEND;TZID=America/Chicago:20280120T235900
DTSTAMP:20260423T191607
CREATED:20240110T233826Z
LAST-MODIFIED:20250510T190549Z
UID:10011867-1831978800-1832025540@thequarrythornton.com
SUMMARY:Kitchen open 11-9 Tavern open 11-11. 1/2 price hot dogs or chili cheese dogs. Dine in only.
DESCRIPTION:
URL:https://thequarrythornton.com/event/kitchen-open-11-9-tavern-open-11-12-open-mic-7-10/2028-01-20/
END:VEVENT
BEGIN:VEVENT
DTSTART;TZID=America/Chicago:20280121T110000
DTEND;TZID=America/Chicago:20280121T235900
DTSTAMP:20260423T191607
CREATED:20240110T234444Z
LAST-MODIFIED:20260123T151734Z
UID:10009602-1832065200-1832111940@thequarrythornton.com
SUMMARY:Kitchen open 11-9 Tavern open 11-12.
DESCRIPTION:
URL:https://thequarrythornton.com/event/kitchen-taven-open-11-12-live-music-every-friday-100-winner-karaoke-every-other/2028-01-21/
END:VEVENT
BEGIN:VEVENT
DTSTART;TZID=America/Chicago:20280122T110000
DTEND;TZID=America/Chicago:20280122T235900
DTSTAMP:20260423T191607
CREATED:20240110T235242Z
LAST-MODIFIED:20240313T170456Z
UID:10009863-1832151600-1832198340@thequarrythornton.com
SUMMARY:Kitchen open 11-9 Tavern open 11-12. Live Music every Saturday 7-10
DESCRIPTION:
URL:https://thequarrythornton.com/event/kitchen-tavern-open-11-12-live-music-every-saturday/2028-01-22/
END:VEVENT
BEGIN:VEVENT
DTSTART;TZID=America/Chicago:20280123T110000
DTEND;TZID=America/Chicago:20280123T230000
DTSTAMP:20260423T191607
CREATED:20240110T235336Z
LAST-MODIFIED:20260113T182408Z
UID:10010124-1832238000-1832281200@thequarrythornton.com
SUMMARY:Kitchen open 11-7 Tavern open 11-11.
DESCRIPTION:
URL:https://thequarrythornton.com/event/kitchen-open-11-7-tavern-open-11-11/2028-01-23/
END:VEVENT
BEGIN:VEVENT
DTSTART;TZID=America/Chicago:20280124T110000
DTEND;TZID=America/Chicago:20280124T230000
DTSTAMP:20260423T191607
CREATED:20240110T235437Z
LAST-MODIFIED:20250510T191022Z
UID:10011029-1832324400-1832367600@thequarrythornton.com
SUMMARY:Kitchen open 11-9 Tavern open 11-11. 1/2 price pizza. Dine in only.
DESCRIPTION:
URL:https://thequarrythornton.com/event/kitchen-open-3-9-tavern-open-3-11/2028-01-24/
END:VEVENT
BEGIN:VEVENT
DTSTART;TZID=America/Chicago:20280125T110000
DTEND;TZID=America/Chicago:20280125T230000
DTSTAMP:20260423T191607
CREATED:20240110T235532Z
LAST-MODIFIED:20250325T221155Z
UID:10011588-1832410800-1832454000@thequarrythornton.com
SUMMARY:Kitchen open 11-9 Tavern open 11-11. Taco Tuesday! 3 beef\, pork or chicken $7.50
DESCRIPTION:
URL:https://thequarrythornton.com/event/kitchen-open-3-9-tavern-open-3-11-2/2028-01-25/
END:VEVENT
END:VCALENDAR