BEGIN:VCALENDAR
VERSION:2.0
PRODID:-//The Quarry Ballroom - ECPv6.15.20//NONSGML v1.0//EN
CALSCALE:GREGORIAN
METHOD:PUBLISH
X-ORIGINAL-URL:https://thequarrythornton.com
X-WR-CALDESC:Events for The Quarry Ballroom
REFRESH-INTERVAL;VALUE=DURATION:PT1H
X-Robots-Tag:noindex
X-PUBLISHED-TTL:PT1H
BEGIN:VTIMEZONE
TZID:America/Chicago
BEGIN:DAYLIGHT
TZOFFSETFROM:-0600
TZOFFSETTO:-0500
TZNAME:CDT
DTSTART:20260308T080000
END:DAYLIGHT
BEGIN:STANDARD
TZOFFSETFROM:-0500
TZOFFSETTO:-0600
TZNAME:CST
DTSTART:20261101T070000
END:STANDARD
BEGIN:DAYLIGHT
TZOFFSETFROM:-0600
TZOFFSETTO:-0500
TZNAME:CDT
DTSTART:20270314T080000
END:DAYLIGHT
BEGIN:STANDARD
TZOFFSETFROM:-0500
TZOFFSETTO:-0600
TZNAME:CST
DTSTART:20271107T070000
END:STANDARD
BEGIN:DAYLIGHT
TZOFFSETFROM:-0600
TZOFFSETTO:-0500
TZNAME:CDT
DTSTART:20280312T080000
END:DAYLIGHT
BEGIN:STANDARD
TZOFFSETFROM:-0500
TZOFFSETTO:-0600
TZNAME:CST
DTSTART:20281105T070000
END:STANDARD
BEGIN:DAYLIGHT
TZOFFSETFROM:-0600
TZOFFSETTO:-0500
TZNAME:CDT
DTSTART:20290311T080000
END:DAYLIGHT
BEGIN:STANDARD
TZOFFSETFROM:-0500
TZOFFSETTO:-0600
TZNAME:CST
DTSTART:20291104T070000
END:STANDARD
END:VTIMEZONE
BEGIN:VEVENT
DTSTART;TZID=America/Chicago:20271203T110000
DTEND;TZID=America/Chicago:20271203T235900
DTSTAMP:20260423T161311
CREATED:20240110T234444Z
LAST-MODIFIED:20260123T151734Z
UID:10009595-1827831600-1827878340@thequarrythornton.com
SUMMARY:Kitchen open 11-9 Tavern open 11-12.
DESCRIPTION:
URL:https://thequarrythornton.com/event/kitchen-taven-open-11-12-live-music-every-friday-100-winner-karaoke-every-other/2027-12-03/
END:VEVENT
BEGIN:VEVENT
DTSTART;TZID=America/Chicago:20271204T110000
DTEND;TZID=America/Chicago:20271204T235900
DTSTAMP:20260423T161311
CREATED:20240110T235242Z
LAST-MODIFIED:20240313T170456Z
UID:10009856-1827918000-1827964740@thequarrythornton.com
SUMMARY:Kitchen open 11-9 Tavern open 11-12. Live Music every Saturday 7-10
DESCRIPTION:
URL:https://thequarrythornton.com/event/kitchen-tavern-open-11-12-live-music-every-saturday/2027-12-04/
END:VEVENT
BEGIN:VEVENT
DTSTART;TZID=America/Chicago:20271205T110000
DTEND;TZID=America/Chicago:20271205T230000
DTSTAMP:20260423T161311
CREATED:20240110T235336Z
LAST-MODIFIED:20260113T182408Z
UID:10010117-1828004400-1828047600@thequarrythornton.com
SUMMARY:Kitchen open 11-7 Tavern open 11-11.
DESCRIPTION:
URL:https://thequarrythornton.com/event/kitchen-open-11-7-tavern-open-11-11/2027-12-05/
END:VEVENT
BEGIN:VEVENT
DTSTART;TZID=America/Chicago:20271206T110000
DTEND;TZID=America/Chicago:20271206T230000
DTSTAMP:20260423T161311
CREATED:20240110T235437Z
LAST-MODIFIED:20250510T191022Z
UID:10011022-1828090800-1828134000@thequarrythornton.com
SUMMARY:Kitchen open 11-9 Tavern open 11-11. 1/2 price pizza. Dine in only.
DESCRIPTION:
URL:https://thequarrythornton.com/event/kitchen-open-3-9-tavern-open-3-11/2027-12-06/
END:VEVENT
BEGIN:VEVENT
DTSTART;TZID=America/Chicago:20271207T110000
DTEND;TZID=America/Chicago:20271207T230000
DTSTAMP:20260423T161311
CREATED:20240110T235532Z
LAST-MODIFIED:20250325T221155Z
UID:10011581-1828177200-1828220400@thequarrythornton.com
SUMMARY:Kitchen open 11-9 Tavern open 11-11. Taco Tuesday! 3 beef\, pork or chicken $7.50
DESCRIPTION:
URL:https://thequarrythornton.com/event/kitchen-open-3-9-tavern-open-3-11-2/2027-12-07/
END:VEVENT
BEGIN:VEVENT
DTSTART;TZID=America/Chicago:20271208T110000
DTEND;TZID=America/Chicago:20271208T230000
DTSTAMP:20260423T161311
CREATED:20240110T233647Z
LAST-MODIFIED:20250510T190409Z
UID:10011302-1828263600-1828306800@thequarrythornton.com
SUMMARY:Kitchen open 11-9 Tavern open 11-11. Wing Wednesday 1/2 price traditional wings. Dine in only.
DESCRIPTION:
URL:https://thequarrythornton.com/event/kitchen-open-3-9-tavern-open-3-11-free-bingo-every-wednesday-7-9/2027-12-08/
END:VEVENT
BEGIN:VEVENT
DTSTART;TZID=America/Chicago:20271209T110000
DTEND;TZID=America/Chicago:20271209T235900
DTSTAMP:20260423T161311
CREATED:20240110T233826Z
LAST-MODIFIED:20250510T190549Z
UID:10011861-1828350000-1828396740@thequarrythornton.com
SUMMARY:Kitchen open 11-9 Tavern open 11-11. 1/2 price hot dogs or chili cheese dogs. Dine in only.
DESCRIPTION:
URL:https://thequarrythornton.com/event/kitchen-open-11-9-tavern-open-11-12-open-mic-7-10/2027-12-09/
END:VEVENT
BEGIN:VEVENT
DTSTART;TZID=America/Chicago:20271210T110000
DTEND;TZID=America/Chicago:20271210T235900
DTSTAMP:20260423T161311
CREATED:20240110T234444Z
LAST-MODIFIED:20260123T151734Z
UID:10009596-1828436400-1828483140@thequarrythornton.com
SUMMARY:Kitchen open 11-9 Tavern open 11-12.
DESCRIPTION:
URL:https://thequarrythornton.com/event/kitchen-taven-open-11-12-live-music-every-friday-100-winner-karaoke-every-other/2027-12-10/
END:VEVENT
BEGIN:VEVENT
DTSTART;TZID=America/Chicago:20271211T110000
DTEND;TZID=America/Chicago:20271211T235900
DTSTAMP:20260423T161311
CREATED:20240110T235242Z
LAST-MODIFIED:20240313T170456Z
UID:10009857-1828522800-1828569540@thequarrythornton.com
SUMMARY:Kitchen open 11-9 Tavern open 11-12. Live Music every Saturday 7-10
DESCRIPTION:
URL:https://thequarrythornton.com/event/kitchen-tavern-open-11-12-live-music-every-saturday/2027-12-11/
END:VEVENT
BEGIN:VEVENT
DTSTART;TZID=America/Chicago:20271212T110000
DTEND;TZID=America/Chicago:20271212T230000
DTSTAMP:20260423T161311
CREATED:20240110T235336Z
LAST-MODIFIED:20260113T182408Z
UID:10010118-1828609200-1828652400@thequarrythornton.com
SUMMARY:Kitchen open 11-7 Tavern open 11-11.
DESCRIPTION:
URL:https://thequarrythornton.com/event/kitchen-open-11-7-tavern-open-11-11/2027-12-12/
END:VEVENT
BEGIN:VEVENT
DTSTART;TZID=America/Chicago:20271213T110000
DTEND;TZID=America/Chicago:20271213T230000
DTSTAMP:20260423T161311
CREATED:20240110T235437Z
LAST-MODIFIED:20250510T191022Z
UID:10011023-1828695600-1828738800@thequarrythornton.com
SUMMARY:Kitchen open 11-9 Tavern open 11-11. 1/2 price pizza. Dine in only.
DESCRIPTION:
URL:https://thequarrythornton.com/event/kitchen-open-3-9-tavern-open-3-11/2027-12-13/
END:VEVENT
BEGIN:VEVENT
DTSTART;TZID=America/Chicago:20271214T110000
DTEND;TZID=America/Chicago:20271214T230000
DTSTAMP:20260423T161311
CREATED:20240110T235532Z
LAST-MODIFIED:20250325T221155Z
UID:10011582-1828782000-1828825200@thequarrythornton.com
SUMMARY:Kitchen open 11-9 Tavern open 11-11. Taco Tuesday! 3 beef\, pork or chicken $7.50
DESCRIPTION:
URL:https://thequarrythornton.com/event/kitchen-open-3-9-tavern-open-3-11-2/2027-12-14/
END:VEVENT
BEGIN:VEVENT
DTSTART;TZID=America/Chicago:20271215T110000
DTEND;TZID=America/Chicago:20271215T230000
DTSTAMP:20260423T161311
CREATED:20240110T233647Z
LAST-MODIFIED:20250510T190409Z
UID:10011303-1828868400-1828911600@thequarrythornton.com
SUMMARY:Kitchen open 11-9 Tavern open 11-11. Wing Wednesday 1/2 price traditional wings. Dine in only.
DESCRIPTION:
URL:https://thequarrythornton.com/event/kitchen-open-3-9-tavern-open-3-11-free-bingo-every-wednesday-7-9/2027-12-15/
END:VEVENT
BEGIN:VEVENT
DTSTART;TZID=America/Chicago:20271216T110000
DTEND;TZID=America/Chicago:20271216T235900
DTSTAMP:20260423T161311
CREATED:20240110T233826Z
LAST-MODIFIED:20250510T190549Z
UID:10011862-1828954800-1829001540@thequarrythornton.com
SUMMARY:Kitchen open 11-9 Tavern open 11-11. 1/2 price hot dogs or chili cheese dogs. Dine in only.
DESCRIPTION:
URL:https://thequarrythornton.com/event/kitchen-open-11-9-tavern-open-11-12-open-mic-7-10/2027-12-16/
END:VEVENT
BEGIN:VEVENT
DTSTART;TZID=America/Chicago:20271217T110000
DTEND;TZID=America/Chicago:20271217T235900
DTSTAMP:20260423T161311
CREATED:20240110T234444Z
LAST-MODIFIED:20260123T151734Z
UID:10009597-1829041200-1829087940@thequarrythornton.com
SUMMARY:Kitchen open 11-9 Tavern open 11-12.
DESCRIPTION:
URL:https://thequarrythornton.com/event/kitchen-taven-open-11-12-live-music-every-friday-100-winner-karaoke-every-other/2027-12-17/
END:VEVENT
BEGIN:VEVENT
DTSTART;TZID=America/Chicago:20271218T110000
DTEND;TZID=America/Chicago:20271218T235900
DTSTAMP:20260423T161311
CREATED:20240110T235242Z
LAST-MODIFIED:20240313T170456Z
UID:10009858-1829127600-1829174340@thequarrythornton.com
SUMMARY:Kitchen open 11-9 Tavern open 11-12. Live Music every Saturday 7-10
DESCRIPTION:
URL:https://thequarrythornton.com/event/kitchen-tavern-open-11-12-live-music-every-saturday/2027-12-18/
END:VEVENT
BEGIN:VEVENT
DTSTART;TZID=America/Chicago:20271219T110000
DTEND;TZID=America/Chicago:20271219T230000
DTSTAMP:20260423T161311
CREATED:20240110T235336Z
LAST-MODIFIED:20260113T182408Z
UID:10010119-1829214000-1829257200@thequarrythornton.com
SUMMARY:Kitchen open 11-7 Tavern open 11-11.
DESCRIPTION:
URL:https://thequarrythornton.com/event/kitchen-open-11-7-tavern-open-11-11/2027-12-19/
END:VEVENT
BEGIN:VEVENT
DTSTART;TZID=America/Chicago:20271220T110000
DTEND;TZID=America/Chicago:20271220T230000
DTSTAMP:20260423T161311
CREATED:20240110T235437Z
LAST-MODIFIED:20250510T191022Z
UID:10011024-1829300400-1829343600@thequarrythornton.com
SUMMARY:Kitchen open 11-9 Tavern open 11-11. 1/2 price pizza. Dine in only.
DESCRIPTION:
URL:https://thequarrythornton.com/event/kitchen-open-3-9-tavern-open-3-11/2027-12-20/
END:VEVENT
BEGIN:VEVENT
DTSTART;TZID=America/Chicago:20271221T110000
DTEND;TZID=America/Chicago:20271221T230000
DTSTAMP:20260423T161311
CREATED:20240110T235532Z
LAST-MODIFIED:20250325T221155Z
UID:10011583-1829386800-1829430000@thequarrythornton.com
SUMMARY:Kitchen open 11-9 Tavern open 11-11. Taco Tuesday! 3 beef\, pork or chicken $7.50
DESCRIPTION:
URL:https://thequarrythornton.com/event/kitchen-open-3-9-tavern-open-3-11-2/2027-12-21/
END:VEVENT
BEGIN:VEVENT
DTSTART;TZID=America/Chicago:20271222T110000
DTEND;TZID=America/Chicago:20271222T230000
DTSTAMP:20260423T161311
CREATED:20240110T233647Z
LAST-MODIFIED:20250510T190409Z
UID:10011304-1829473200-1829516400@thequarrythornton.com
SUMMARY:Kitchen open 11-9 Tavern open 11-11. Wing Wednesday 1/2 price traditional wings. Dine in only.
DESCRIPTION:
URL:https://thequarrythornton.com/event/kitchen-open-3-9-tavern-open-3-11-free-bingo-every-wednesday-7-9/2027-12-22/
END:VEVENT
BEGIN:VEVENT
DTSTART;TZID=America/Chicago:20271223T110000
DTEND;TZID=America/Chicago:20271223T235900
DTSTAMP:20260423T161311
CREATED:20240110T233826Z
LAST-MODIFIED:20250510T190549Z
UID:10011863-1829559600-1829606340@thequarrythornton.com
SUMMARY:Kitchen open 11-9 Tavern open 11-11. 1/2 price hot dogs or chili cheese dogs. Dine in only.
DESCRIPTION:
URL:https://thequarrythornton.com/event/kitchen-open-11-9-tavern-open-11-12-open-mic-7-10/2027-12-23/
END:VEVENT
BEGIN:VEVENT
DTSTART;TZID=America/Chicago:20271224T110000
DTEND;TZID=America/Chicago:20271224T235900
DTSTAMP:20260423T161311
CREATED:20240110T234444Z
LAST-MODIFIED:20260123T151734Z
UID:10009598-1829646000-1829692740@thequarrythornton.com
SUMMARY:Kitchen open 11-9 Tavern open 11-12.
DESCRIPTION:
URL:https://thequarrythornton.com/event/kitchen-taven-open-11-12-live-music-every-friday-100-winner-karaoke-every-other/2027-12-24/
END:VEVENT
BEGIN:VEVENT
DTSTART;TZID=America/Chicago:20271225T110000
DTEND;TZID=America/Chicago:20271225T235900
DTSTAMP:20260423T161311
CREATED:20240110T235242Z
LAST-MODIFIED:20240313T170456Z
UID:10009859-1829732400-1829779140@thequarrythornton.com
SUMMARY:Kitchen open 11-9 Tavern open 11-12. Live Music every Saturday 7-10
DESCRIPTION:
URL:https://thequarrythornton.com/event/kitchen-tavern-open-11-12-live-music-every-saturday/2027-12-25/
END:VEVENT
BEGIN:VEVENT
DTSTART;TZID=America/Chicago:20271226T110000
DTEND;TZID=America/Chicago:20271226T230000
DTSTAMP:20260423T161311
CREATED:20240110T235336Z
LAST-MODIFIED:20260113T182408Z
UID:10010120-1829818800-1829862000@thequarrythornton.com
SUMMARY:Kitchen open 11-7 Tavern open 11-11.
DESCRIPTION:
URL:https://thequarrythornton.com/event/kitchen-open-11-7-tavern-open-11-11/2027-12-26/
END:VEVENT
BEGIN:VEVENT
DTSTART;TZID=America/Chicago:20271227T110000
DTEND;TZID=America/Chicago:20271227T230000
DTSTAMP:20260423T161311
CREATED:20240110T235437Z
LAST-MODIFIED:20250510T191022Z
UID:10011025-1829905200-1829948400@thequarrythornton.com
SUMMARY:Kitchen open 11-9 Tavern open 11-11. 1/2 price pizza. Dine in only.
DESCRIPTION:
URL:https://thequarrythornton.com/event/kitchen-open-3-9-tavern-open-3-11/2027-12-27/
END:VEVENT
BEGIN:VEVENT
DTSTART;TZID=America/Chicago:20271228T110000
DTEND;TZID=America/Chicago:20271228T230000
DTSTAMP:20260423T161311
CREATED:20240110T235532Z
LAST-MODIFIED:20250325T221155Z
UID:10011584-1829991600-1830034800@thequarrythornton.com
SUMMARY:Kitchen open 11-9 Tavern open 11-11. Taco Tuesday! 3 beef\, pork or chicken $7.50
DESCRIPTION:
URL:https://thequarrythornton.com/event/kitchen-open-3-9-tavern-open-3-11-2/2027-12-28/
END:VEVENT
BEGIN:VEVENT
DTSTART;TZID=America/Chicago:20271229T110000
DTEND;TZID=America/Chicago:20271229T230000
DTSTAMP:20260423T161311
CREATED:20240110T233647Z
LAST-MODIFIED:20250510T190409Z
UID:10011305-1830078000-1830121200@thequarrythornton.com
SUMMARY:Kitchen open 11-9 Tavern open 11-11. Wing Wednesday 1/2 price traditional wings. Dine in only.
DESCRIPTION:
URL:https://thequarrythornton.com/event/kitchen-open-3-9-tavern-open-3-11-free-bingo-every-wednesday-7-9/2027-12-29/
END:VEVENT
BEGIN:VEVENT
DTSTART;TZID=America/Chicago:20271230T110000
DTEND;TZID=America/Chicago:20271230T235900
DTSTAMP:20260423T161311
CREATED:20240110T233826Z
LAST-MODIFIED:20250510T190549Z
UID:10011864-1830164400-1830211140@thequarrythornton.com
SUMMARY:Kitchen open 11-9 Tavern open 11-11. 1/2 price hot dogs or chili cheese dogs. Dine in only.
DESCRIPTION:
URL:https://thequarrythornton.com/event/kitchen-open-11-9-tavern-open-11-12-open-mic-7-10/2027-12-30/
END:VEVENT
BEGIN:VEVENT
DTSTART;TZID=America/Chicago:20271231T110000
DTEND;TZID=America/Chicago:20271231T235900
DTSTAMP:20260423T161311
CREATED:20240110T234444Z
LAST-MODIFIED:20260123T151734Z
UID:10009599-1830250800-1830297540@thequarrythornton.com
SUMMARY:Kitchen open 11-9 Tavern open 11-12.
DESCRIPTION:
URL:https://thequarrythornton.com/event/kitchen-taven-open-11-12-live-music-every-friday-100-winner-karaoke-every-other/2027-12-31/
END:VEVENT
BEGIN:VEVENT
DTSTART;TZID=America/Chicago:20280101T110000
DTEND;TZID=America/Chicago:20280101T235900
DTSTAMP:20260423T161311
CREATED:20240110T235242Z
LAST-MODIFIED:20240313T170456Z
UID:10009860-1830337200-1830383940@thequarrythornton.com
SUMMARY:Kitchen open 11-9 Tavern open 11-12. Live Music every Saturday 7-10
DESCRIPTION:
URL:https://thequarrythornton.com/event/kitchen-tavern-open-11-12-live-music-every-saturday/2028-01-01/
END:VEVENT
END:VCALENDAR