BEGIN:VCALENDAR
VERSION:2.0
PRODID:-//The Quarry Ballroom - ECPv6.15.20//NONSGML v1.0//EN
CALSCALE:GREGORIAN
METHOD:PUBLISH
X-ORIGINAL-URL:https://thequarrythornton.com
X-WR-CALDESC:Events for The Quarry Ballroom
REFRESH-INTERVAL;VALUE=DURATION:PT1H
X-Robots-Tag:noindex
X-PUBLISHED-TTL:PT1H
BEGIN:VTIMEZONE
TZID:America/Chicago
BEGIN:DAYLIGHT
TZOFFSETFROM:-0600
TZOFFSETTO:-0500
TZNAME:CDT
DTSTART:20260308T080000
END:DAYLIGHT
BEGIN:STANDARD
TZOFFSETFROM:-0500
TZOFFSETTO:-0600
TZNAME:CST
DTSTART:20261101T070000
END:STANDARD
BEGIN:DAYLIGHT
TZOFFSETFROM:-0600
TZOFFSETTO:-0500
TZNAME:CDT
DTSTART:20270314T080000
END:DAYLIGHT
BEGIN:STANDARD
TZOFFSETFROM:-0500
TZOFFSETTO:-0600
TZNAME:CST
DTSTART:20271107T070000
END:STANDARD
BEGIN:DAYLIGHT
TZOFFSETFROM:-0600
TZOFFSETTO:-0500
TZNAME:CDT
DTSTART:20280312T080000
END:DAYLIGHT
BEGIN:STANDARD
TZOFFSETFROM:-0500
TZOFFSETTO:-0600
TZNAME:CST
DTSTART:20281105T070000
END:STANDARD
END:VTIMEZONE
BEGIN:VEVENT
DTSTART;TZID=America/Chicago:20271004T110000
DTEND;TZID=America/Chicago:20271004T230000
DTSTAMP:20260423T084006
CREATED:20240110T235437Z
LAST-MODIFIED:20250510T191022Z
UID:10011013-1822647600-1822690800@thequarrythornton.com
SUMMARY:Kitchen open 11-9 Tavern open 11-11. 1/2 price pizza. Dine in only.
DESCRIPTION:
URL:https://thequarrythornton.com/event/kitchen-open-3-9-tavern-open-3-11/2027-10-04/
END:VEVENT
BEGIN:VEVENT
DTSTART;TZID=America/Chicago:20271005T110000
DTEND;TZID=America/Chicago:20271005T230000
DTSTAMP:20260423T084006
CREATED:20240110T235532Z
LAST-MODIFIED:20250325T221155Z
UID:10011572-1822734000-1822777200@thequarrythornton.com
SUMMARY:Kitchen open 11-9 Tavern open 11-11. Taco Tuesday! 3 beef\, pork or chicken $7.50
DESCRIPTION:
URL:https://thequarrythornton.com/event/kitchen-open-3-9-tavern-open-3-11-2/2027-10-05/
END:VEVENT
BEGIN:VEVENT
DTSTART;TZID=America/Chicago:20271006T110000
DTEND;TZID=America/Chicago:20271006T230000
DTSTAMP:20260423T084006
CREATED:20240110T233647Z
LAST-MODIFIED:20250510T190409Z
UID:10011293-1822820400-1822863600@thequarrythornton.com
SUMMARY:Kitchen open 11-9 Tavern open 11-11. Wing Wednesday 1/2 price traditional wings. Dine in only.
DESCRIPTION:
URL:https://thequarrythornton.com/event/kitchen-open-3-9-tavern-open-3-11-free-bingo-every-wednesday-7-9/2027-10-06/
END:VEVENT
BEGIN:VEVENT
DTSTART;TZID=America/Chicago:20271007T110000
DTEND;TZID=America/Chicago:20271007T235900
DTSTAMP:20260423T084006
CREATED:20240110T233826Z
LAST-MODIFIED:20250510T190549Z
UID:10011852-1822906800-1822953540@thequarrythornton.com
SUMMARY:Kitchen open 11-9 Tavern open 11-11. 1/2 price hot dogs or chili cheese dogs. Dine in only.
DESCRIPTION:
URL:https://thequarrythornton.com/event/kitchen-open-11-9-tavern-open-11-12-open-mic-7-10/2027-10-07/
END:VEVENT
BEGIN:VEVENT
DTSTART;TZID=America/Chicago:20271008T110000
DTEND;TZID=America/Chicago:20271008T235900
DTSTAMP:20260423T084006
CREATED:20240110T234444Z
LAST-MODIFIED:20260123T151734Z
UID:10009587-1822993200-1823039940@thequarrythornton.com
SUMMARY:Kitchen open 11-9 Tavern open 11-12.
DESCRIPTION:
URL:https://thequarrythornton.com/event/kitchen-taven-open-11-12-live-music-every-friday-100-winner-karaoke-every-other/2027-10-08/
END:VEVENT
BEGIN:VEVENT
DTSTART;TZID=America/Chicago:20271009T110000
DTEND;TZID=America/Chicago:20271009T235900
DTSTAMP:20260423T084006
CREATED:20240110T235242Z
LAST-MODIFIED:20240313T170456Z
UID:10009848-1823079600-1823126340@thequarrythornton.com
SUMMARY:Kitchen open 11-9 Tavern open 11-12. Live Music every Saturday 7-10
DESCRIPTION:
URL:https://thequarrythornton.com/event/kitchen-tavern-open-11-12-live-music-every-saturday/2027-10-09/
END:VEVENT
BEGIN:VEVENT
DTSTART;TZID=America/Chicago:20271010T110000
DTEND;TZID=America/Chicago:20271010T230000
DTSTAMP:20260423T084006
CREATED:20240110T235336Z
LAST-MODIFIED:20260113T182408Z
UID:10010109-1823166000-1823209200@thequarrythornton.com
SUMMARY:Kitchen open 11-7 Tavern open 11-11.
DESCRIPTION:
URL:https://thequarrythornton.com/event/kitchen-open-11-7-tavern-open-11-11/2027-10-10/
END:VEVENT
BEGIN:VEVENT
DTSTART;TZID=America/Chicago:20271011T110000
DTEND;TZID=America/Chicago:20271011T230000
DTSTAMP:20260423T084006
CREATED:20240110T235437Z
LAST-MODIFIED:20250510T191022Z
UID:10011014-1823252400-1823295600@thequarrythornton.com
SUMMARY:Kitchen open 11-9 Tavern open 11-11. 1/2 price pizza. Dine in only.
DESCRIPTION:
URL:https://thequarrythornton.com/event/kitchen-open-3-9-tavern-open-3-11/2027-10-11/
END:VEVENT
BEGIN:VEVENT
DTSTART;TZID=America/Chicago:20271012T110000
DTEND;TZID=America/Chicago:20271012T230000
DTSTAMP:20260423T084006
CREATED:20240110T235532Z
LAST-MODIFIED:20250325T221155Z
UID:10011573-1823338800-1823382000@thequarrythornton.com
SUMMARY:Kitchen open 11-9 Tavern open 11-11. Taco Tuesday! 3 beef\, pork or chicken $7.50
DESCRIPTION:
URL:https://thequarrythornton.com/event/kitchen-open-3-9-tavern-open-3-11-2/2027-10-12/
END:VEVENT
BEGIN:VEVENT
DTSTART;TZID=America/Chicago:20271013T110000
DTEND;TZID=America/Chicago:20271013T230000
DTSTAMP:20260423T084006
CREATED:20240110T233647Z
LAST-MODIFIED:20250510T190409Z
UID:10011294-1823425200-1823468400@thequarrythornton.com
SUMMARY:Kitchen open 11-9 Tavern open 11-11. Wing Wednesday 1/2 price traditional wings. Dine in only.
DESCRIPTION:
URL:https://thequarrythornton.com/event/kitchen-open-3-9-tavern-open-3-11-free-bingo-every-wednesday-7-9/2027-10-13/
END:VEVENT
BEGIN:VEVENT
DTSTART;TZID=America/Chicago:20271014T110000
DTEND;TZID=America/Chicago:20271014T235900
DTSTAMP:20260423T084006
CREATED:20240110T233826Z
LAST-MODIFIED:20250510T190549Z
UID:10011853-1823511600-1823558340@thequarrythornton.com
SUMMARY:Kitchen open 11-9 Tavern open 11-11. 1/2 price hot dogs or chili cheese dogs. Dine in only.
DESCRIPTION:
URL:https://thequarrythornton.com/event/kitchen-open-11-9-tavern-open-11-12-open-mic-7-10/2027-10-14/
END:VEVENT
BEGIN:VEVENT
DTSTART;TZID=America/Chicago:20271015T110000
DTEND;TZID=America/Chicago:20271015T235900
DTSTAMP:20260423T084006
CREATED:20240110T234444Z
LAST-MODIFIED:20260123T151734Z
UID:10009588-1823598000-1823644740@thequarrythornton.com
SUMMARY:Kitchen open 11-9 Tavern open 11-12.
DESCRIPTION:
URL:https://thequarrythornton.com/event/kitchen-taven-open-11-12-live-music-every-friday-100-winner-karaoke-every-other/2027-10-15/
END:VEVENT
BEGIN:VEVENT
DTSTART;TZID=America/Chicago:20271016T110000
DTEND;TZID=America/Chicago:20271016T235900
DTSTAMP:20260423T084006
CREATED:20240110T235242Z
LAST-MODIFIED:20240313T170456Z
UID:10009849-1823684400-1823731140@thequarrythornton.com
SUMMARY:Kitchen open 11-9 Tavern open 11-12. Live Music every Saturday 7-10
DESCRIPTION:
URL:https://thequarrythornton.com/event/kitchen-tavern-open-11-12-live-music-every-saturday/2027-10-16/
END:VEVENT
BEGIN:VEVENT
DTSTART;TZID=America/Chicago:20271017T110000
DTEND;TZID=America/Chicago:20271017T230000
DTSTAMP:20260423T084006
CREATED:20240110T235336Z
LAST-MODIFIED:20260113T182408Z
UID:10010110-1823770800-1823814000@thequarrythornton.com
SUMMARY:Kitchen open 11-7 Tavern open 11-11.
DESCRIPTION:
URL:https://thequarrythornton.com/event/kitchen-open-11-7-tavern-open-11-11/2027-10-17/
END:VEVENT
BEGIN:VEVENT
DTSTART;TZID=America/Chicago:20271018T110000
DTEND;TZID=America/Chicago:20271018T230000
DTSTAMP:20260423T084006
CREATED:20240110T235437Z
LAST-MODIFIED:20250510T191022Z
UID:10011015-1823857200-1823900400@thequarrythornton.com
SUMMARY:Kitchen open 11-9 Tavern open 11-11. 1/2 price pizza. Dine in only.
DESCRIPTION:
URL:https://thequarrythornton.com/event/kitchen-open-3-9-tavern-open-3-11/2027-10-18/
END:VEVENT
BEGIN:VEVENT
DTSTART;TZID=America/Chicago:20271019T110000
DTEND;TZID=America/Chicago:20271019T230000
DTSTAMP:20260423T084006
CREATED:20240110T235532Z
LAST-MODIFIED:20250325T221155Z
UID:10011574-1823943600-1823986800@thequarrythornton.com
SUMMARY:Kitchen open 11-9 Tavern open 11-11. Taco Tuesday! 3 beef\, pork or chicken $7.50
DESCRIPTION:
URL:https://thequarrythornton.com/event/kitchen-open-3-9-tavern-open-3-11-2/2027-10-19/
END:VEVENT
BEGIN:VEVENT
DTSTART;TZID=America/Chicago:20271020T110000
DTEND;TZID=America/Chicago:20271020T230000
DTSTAMP:20260423T084006
CREATED:20240110T233647Z
LAST-MODIFIED:20250510T190409Z
UID:10011295-1824030000-1824073200@thequarrythornton.com
SUMMARY:Kitchen open 11-9 Tavern open 11-11. Wing Wednesday 1/2 price traditional wings. Dine in only.
DESCRIPTION:
URL:https://thequarrythornton.com/event/kitchen-open-3-9-tavern-open-3-11-free-bingo-every-wednesday-7-9/2027-10-20/
END:VEVENT
BEGIN:VEVENT
DTSTART;TZID=America/Chicago:20271021T110000
DTEND;TZID=America/Chicago:20271021T235900
DTSTAMP:20260423T084006
CREATED:20240110T233826Z
LAST-MODIFIED:20250510T190549Z
UID:10011854-1824116400-1824163140@thequarrythornton.com
SUMMARY:Kitchen open 11-9 Tavern open 11-11. 1/2 price hot dogs or chili cheese dogs. Dine in only.
DESCRIPTION:
URL:https://thequarrythornton.com/event/kitchen-open-11-9-tavern-open-11-12-open-mic-7-10/2027-10-21/
END:VEVENT
BEGIN:VEVENT
DTSTART;TZID=America/Chicago:20271022T110000
DTEND;TZID=America/Chicago:20271022T235900
DTSTAMP:20260423T084006
CREATED:20240110T234444Z
LAST-MODIFIED:20260123T151734Z
UID:10009589-1824202800-1824249540@thequarrythornton.com
SUMMARY:Kitchen open 11-9 Tavern open 11-12.
DESCRIPTION:
URL:https://thequarrythornton.com/event/kitchen-taven-open-11-12-live-music-every-friday-100-winner-karaoke-every-other/2027-10-22/
END:VEVENT
BEGIN:VEVENT
DTSTART;TZID=America/Chicago:20271023T110000
DTEND;TZID=America/Chicago:20271023T235900
DTSTAMP:20260423T084006
CREATED:20240110T235242Z
LAST-MODIFIED:20240313T170456Z
UID:10009850-1824289200-1824335940@thequarrythornton.com
SUMMARY:Kitchen open 11-9 Tavern open 11-12. Live Music every Saturday 7-10
DESCRIPTION:
URL:https://thequarrythornton.com/event/kitchen-tavern-open-11-12-live-music-every-saturday/2027-10-23/
END:VEVENT
BEGIN:VEVENT
DTSTART;TZID=America/Chicago:20271024T110000
DTEND;TZID=America/Chicago:20271024T230000
DTSTAMP:20260423T084006
CREATED:20240110T235336Z
LAST-MODIFIED:20260113T182408Z
UID:10010111-1824375600-1824418800@thequarrythornton.com
SUMMARY:Kitchen open 11-7 Tavern open 11-11.
DESCRIPTION:
URL:https://thequarrythornton.com/event/kitchen-open-11-7-tavern-open-11-11/2027-10-24/
END:VEVENT
BEGIN:VEVENT
DTSTART;TZID=America/Chicago:20271025T110000
DTEND;TZID=America/Chicago:20271025T230000
DTSTAMP:20260423T084006
CREATED:20240110T235437Z
LAST-MODIFIED:20250510T191022Z
UID:10011016-1824462000-1824505200@thequarrythornton.com
SUMMARY:Kitchen open 11-9 Tavern open 11-11. 1/2 price pizza. Dine in only.
DESCRIPTION:
URL:https://thequarrythornton.com/event/kitchen-open-3-9-tavern-open-3-11/2027-10-25/
END:VEVENT
BEGIN:VEVENT
DTSTART;TZID=America/Chicago:20271026T110000
DTEND;TZID=America/Chicago:20271026T230000
DTSTAMP:20260423T084006
CREATED:20240110T235532Z
LAST-MODIFIED:20250325T221155Z
UID:10011575-1824548400-1824591600@thequarrythornton.com
SUMMARY:Kitchen open 11-9 Tavern open 11-11. Taco Tuesday! 3 beef\, pork or chicken $7.50
DESCRIPTION:
URL:https://thequarrythornton.com/event/kitchen-open-3-9-tavern-open-3-11-2/2027-10-26/
END:VEVENT
BEGIN:VEVENT
DTSTART;TZID=America/Chicago:20271027T110000
DTEND;TZID=America/Chicago:20271027T230000
DTSTAMP:20260423T084006
CREATED:20240110T233647Z
LAST-MODIFIED:20250510T190409Z
UID:10011296-1824634800-1824678000@thequarrythornton.com
SUMMARY:Kitchen open 11-9 Tavern open 11-11. Wing Wednesday 1/2 price traditional wings. Dine in only.
DESCRIPTION:
URL:https://thequarrythornton.com/event/kitchen-open-3-9-tavern-open-3-11-free-bingo-every-wednesday-7-9/2027-10-27/
END:VEVENT
BEGIN:VEVENT
DTSTART;TZID=America/Chicago:20271028T110000
DTEND;TZID=America/Chicago:20271028T235900
DTSTAMP:20260423T084006
CREATED:20240110T233826Z
LAST-MODIFIED:20250510T190549Z
UID:10011855-1824721200-1824767940@thequarrythornton.com
SUMMARY:Kitchen open 11-9 Tavern open 11-11. 1/2 price hot dogs or chili cheese dogs. Dine in only.
DESCRIPTION:
URL:https://thequarrythornton.com/event/kitchen-open-11-9-tavern-open-11-12-open-mic-7-10/2027-10-28/
END:VEVENT
BEGIN:VEVENT
DTSTART;TZID=America/Chicago:20271029T110000
DTEND;TZID=America/Chicago:20271029T235900
DTSTAMP:20260423T084006
CREATED:20240110T234444Z
LAST-MODIFIED:20260123T151734Z
UID:10009590-1824807600-1824854340@thequarrythornton.com
SUMMARY:Kitchen open 11-9 Tavern open 11-12.
DESCRIPTION:
URL:https://thequarrythornton.com/event/kitchen-taven-open-11-12-live-music-every-friday-100-winner-karaoke-every-other/2027-10-29/
END:VEVENT
BEGIN:VEVENT
DTSTART;TZID=America/Chicago:20271030T110000
DTEND;TZID=America/Chicago:20271030T235900
DTSTAMP:20260423T084006
CREATED:20240110T235242Z
LAST-MODIFIED:20240313T170456Z
UID:10009851-1824894000-1824940740@thequarrythornton.com
SUMMARY:Kitchen open 11-9 Tavern open 11-12. Live Music every Saturday 7-10
DESCRIPTION:
URL:https://thequarrythornton.com/event/kitchen-tavern-open-11-12-live-music-every-saturday/2027-10-30/
END:VEVENT
BEGIN:VEVENT
DTSTART;TZID=America/Chicago:20271031T110000
DTEND;TZID=America/Chicago:20271031T230000
DTSTAMP:20260423T084006
CREATED:20240110T235336Z
LAST-MODIFIED:20260113T182408Z
UID:10010112-1824980400-1825023600@thequarrythornton.com
SUMMARY:Kitchen open 11-7 Tavern open 11-11.
DESCRIPTION:
URL:https://thequarrythornton.com/event/kitchen-open-11-7-tavern-open-11-11/2027-10-31/
END:VEVENT
BEGIN:VEVENT
DTSTART;TZID=America/Chicago:20271101T110000
DTEND;TZID=America/Chicago:20271101T230000
DTSTAMP:20260423T084006
CREATED:20240110T235437Z
LAST-MODIFIED:20250510T191022Z
UID:10011017-1825066800-1825110000@thequarrythornton.com
SUMMARY:Kitchen open 11-9 Tavern open 11-11. 1/2 price pizza. Dine in only.
DESCRIPTION:
URL:https://thequarrythornton.com/event/kitchen-open-3-9-tavern-open-3-11/2027-11-01/
END:VEVENT
BEGIN:VEVENT
DTSTART;TZID=America/Chicago:20271102T110000
DTEND;TZID=America/Chicago:20271102T230000
DTSTAMP:20260423T084006
CREATED:20240110T235532Z
LAST-MODIFIED:20250325T221155Z
UID:10011576-1825153200-1825196400@thequarrythornton.com
SUMMARY:Kitchen open 11-9 Tavern open 11-11. Taco Tuesday! 3 beef\, pork or chicken $7.50
DESCRIPTION:
URL:https://thequarrythornton.com/event/kitchen-open-3-9-tavern-open-3-11-2/2027-11-02/
END:VEVENT
END:VCALENDAR