BEGIN:VCALENDAR
VERSION:2.0
PRODID:-//The Quarry Ballroom - ECPv6.15.20//NONSGML v1.0//EN
CALSCALE:GREGORIAN
METHOD:PUBLISH
X-WR-CALNAME:The Quarry Ballroom
X-ORIGINAL-URL:https://thequarrythornton.com
X-WR-CALDESC:Events for The Quarry Ballroom
REFRESH-INTERVAL;VALUE=DURATION:PT1H
X-Robots-Tag:noindex
X-PUBLISHED-TTL:PT1H
BEGIN:VTIMEZONE
TZID:America/Chicago
BEGIN:DAYLIGHT
TZOFFSETFROM:-0600
TZOFFSETTO:-0500
TZNAME:CDT
DTSTART:20260308T080000
END:DAYLIGHT
BEGIN:STANDARD
TZOFFSETFROM:-0500
TZOFFSETTO:-0600
TZNAME:CST
DTSTART:20261101T070000
END:STANDARD
BEGIN:DAYLIGHT
TZOFFSETFROM:-0600
TZOFFSETTO:-0500
TZNAME:CDT
DTSTART:20270314T080000
END:DAYLIGHT
BEGIN:STANDARD
TZOFFSETFROM:-0500
TZOFFSETTO:-0600
TZNAME:CST
DTSTART:20271107T070000
END:STANDARD
BEGIN:DAYLIGHT
TZOFFSETFROM:-0600
TZOFFSETTO:-0500
TZNAME:CDT
DTSTART:20280312T080000
END:DAYLIGHT
BEGIN:STANDARD
TZOFFSETFROM:-0500
TZOFFSETTO:-0600
TZNAME:CST
DTSTART:20281105T070000
END:STANDARD
END:VTIMEZONE
BEGIN:VEVENT
DTSTART;TZID=America/Chicago:20270805T110000
DTEND;TZID=America/Chicago:20270805T235900
DTSTAMP:20260423T010755
CREATED:20240110T233826Z
LAST-MODIFIED:20250510T190549Z
UID:10011843-1817463600-1817510340@thequarrythornton.com
SUMMARY:Kitchen open 11-9 Tavern open 11-11. 1/2 price hot dogs or chili cheese dogs. Dine in only.
DESCRIPTION:
URL:https://thequarrythornton.com/event/kitchen-open-11-9-tavern-open-11-12-open-mic-7-10/2027-08-05/
END:VEVENT
BEGIN:VEVENT
DTSTART;TZID=America/Chicago:20270806T110000
DTEND;TZID=America/Chicago:20270806T235900
DTSTAMP:20260423T010755
CREATED:20240110T234444Z
LAST-MODIFIED:20260123T151734Z
UID:10009578-1817550000-1817596740@thequarrythornton.com
SUMMARY:Kitchen open 11-9 Tavern open 11-12.
DESCRIPTION:
URL:https://thequarrythornton.com/event/kitchen-taven-open-11-12-live-music-every-friday-100-winner-karaoke-every-other/2027-08-06/
END:VEVENT
BEGIN:VEVENT
DTSTART;TZID=America/Chicago:20270807T110000
DTEND;TZID=America/Chicago:20270807T235900
DTSTAMP:20260423T010755
CREATED:20240110T235242Z
LAST-MODIFIED:20240313T170456Z
UID:10009839-1817636400-1817683140@thequarrythornton.com
SUMMARY:Kitchen open 11-9 Tavern open 11-12. Live Music every Saturday 7-10
DESCRIPTION:
URL:https://thequarrythornton.com/event/kitchen-tavern-open-11-12-live-music-every-saturday/2027-08-07/
END:VEVENT
BEGIN:VEVENT
DTSTART;TZID=America/Chicago:20270808T110000
DTEND;TZID=America/Chicago:20270808T230000
DTSTAMP:20260423T010755
CREATED:20240110T235336Z
LAST-MODIFIED:20260113T182408Z
UID:10010100-1817722800-1817766000@thequarrythornton.com
SUMMARY:Kitchen open 11-7 Tavern open 11-11.
DESCRIPTION:
URL:https://thequarrythornton.com/event/kitchen-open-11-7-tavern-open-11-11/2027-08-08/
END:VEVENT
BEGIN:VEVENT
DTSTART;TZID=America/Chicago:20270809T110000
DTEND;TZID=America/Chicago:20270809T230000
DTSTAMP:20260423T010755
CREATED:20240110T235437Z
LAST-MODIFIED:20250510T191022Z
UID:10011005-1817809200-1817852400@thequarrythornton.com
SUMMARY:Kitchen open 11-9 Tavern open 11-11. 1/2 price pizza. Dine in only.
DESCRIPTION:
URL:https://thequarrythornton.com/event/kitchen-open-3-9-tavern-open-3-11/2027-08-09/
END:VEVENT
BEGIN:VEVENT
DTSTART;TZID=America/Chicago:20270810T110000
DTEND;TZID=America/Chicago:20270810T230000
DTSTAMP:20260423T010755
CREATED:20240110T235532Z
LAST-MODIFIED:20250325T221155Z
UID:10011564-1817895600-1817938800@thequarrythornton.com
SUMMARY:Kitchen open 11-9 Tavern open 11-11. Taco Tuesday! 3 beef\, pork or chicken $7.50
DESCRIPTION:
URL:https://thequarrythornton.com/event/kitchen-open-3-9-tavern-open-3-11-2/2027-08-10/
END:VEVENT
BEGIN:VEVENT
DTSTART;TZID=America/Chicago:20270811T110000
DTEND;TZID=America/Chicago:20270811T230000
DTSTAMP:20260423T010755
CREATED:20240110T233647Z
LAST-MODIFIED:20250510T190409Z
UID:10011285-1817982000-1818025200@thequarrythornton.com
SUMMARY:Kitchen open 11-9 Tavern open 11-11. Wing Wednesday 1/2 price traditional wings. Dine in only.
DESCRIPTION:
URL:https://thequarrythornton.com/event/kitchen-open-3-9-tavern-open-3-11-free-bingo-every-wednesday-7-9/2027-08-11/
END:VEVENT
BEGIN:VEVENT
DTSTART;TZID=America/Chicago:20270812T110000
DTEND;TZID=America/Chicago:20270812T235900
DTSTAMP:20260423T010755
CREATED:20240110T233826Z
LAST-MODIFIED:20250510T190549Z
UID:10011844-1818068400-1818115140@thequarrythornton.com
SUMMARY:Kitchen open 11-9 Tavern open 11-11. 1/2 price hot dogs or chili cheese dogs. Dine in only.
DESCRIPTION:
URL:https://thequarrythornton.com/event/kitchen-open-11-9-tavern-open-11-12-open-mic-7-10/2027-08-12/
END:VEVENT
BEGIN:VEVENT
DTSTART;TZID=America/Chicago:20270813T110000
DTEND;TZID=America/Chicago:20270813T235900
DTSTAMP:20260423T010755
CREATED:20240110T234444Z
LAST-MODIFIED:20260123T151734Z
UID:10009579-1818154800-1818201540@thequarrythornton.com
SUMMARY:Kitchen open 11-9 Tavern open 11-12.
DESCRIPTION:
URL:https://thequarrythornton.com/event/kitchen-taven-open-11-12-live-music-every-friday-100-winner-karaoke-every-other/2027-08-13/
END:VEVENT
BEGIN:VEVENT
DTSTART;TZID=America/Chicago:20270814T110000
DTEND;TZID=America/Chicago:20270814T235900
DTSTAMP:20260423T010755
CREATED:20240110T235242Z
LAST-MODIFIED:20240313T170456Z
UID:10009840-1818241200-1818287940@thequarrythornton.com
SUMMARY:Kitchen open 11-9 Tavern open 11-12. Live Music every Saturday 7-10
DESCRIPTION:
URL:https://thequarrythornton.com/event/kitchen-tavern-open-11-12-live-music-every-saturday/2027-08-14/
END:VEVENT
BEGIN:VEVENT
DTSTART;TZID=America/Chicago:20270815T110000
DTEND;TZID=America/Chicago:20270815T230000
DTSTAMP:20260423T010755
CREATED:20240110T235336Z
LAST-MODIFIED:20260113T182408Z
UID:10010101-1818327600-1818370800@thequarrythornton.com
SUMMARY:Kitchen open 11-7 Tavern open 11-11.
DESCRIPTION:
URL:https://thequarrythornton.com/event/kitchen-open-11-7-tavern-open-11-11/2027-08-15/
END:VEVENT
BEGIN:VEVENT
DTSTART;TZID=America/Chicago:20270816T110000
DTEND;TZID=America/Chicago:20270816T230000
DTSTAMP:20260423T010755
CREATED:20240110T235437Z
LAST-MODIFIED:20250510T191022Z
UID:10011006-1818414000-1818457200@thequarrythornton.com
SUMMARY:Kitchen open 11-9 Tavern open 11-11. 1/2 price pizza. Dine in only.
DESCRIPTION:
URL:https://thequarrythornton.com/event/kitchen-open-3-9-tavern-open-3-11/2027-08-16/
END:VEVENT
BEGIN:VEVENT
DTSTART;TZID=America/Chicago:20270817T110000
DTEND;TZID=America/Chicago:20270817T230000
DTSTAMP:20260423T010755
CREATED:20240110T235532Z
LAST-MODIFIED:20250325T221155Z
UID:10011565-1818500400-1818543600@thequarrythornton.com
SUMMARY:Kitchen open 11-9 Tavern open 11-11. Taco Tuesday! 3 beef\, pork or chicken $7.50
DESCRIPTION:
URL:https://thequarrythornton.com/event/kitchen-open-3-9-tavern-open-3-11-2/2027-08-17/
END:VEVENT
BEGIN:VEVENT
DTSTART;TZID=America/Chicago:20270818T110000
DTEND;TZID=America/Chicago:20270818T230000
DTSTAMP:20260423T010755
CREATED:20240110T233647Z
LAST-MODIFIED:20250510T190409Z
UID:10011286-1818586800-1818630000@thequarrythornton.com
SUMMARY:Kitchen open 11-9 Tavern open 11-11. Wing Wednesday 1/2 price traditional wings. Dine in only.
DESCRIPTION:
URL:https://thequarrythornton.com/event/kitchen-open-3-9-tavern-open-3-11-free-bingo-every-wednesday-7-9/2027-08-18/
END:VEVENT
BEGIN:VEVENT
DTSTART;TZID=America/Chicago:20270819T110000
DTEND;TZID=America/Chicago:20270819T235900
DTSTAMP:20260423T010755
CREATED:20240110T233826Z
LAST-MODIFIED:20250510T190549Z
UID:10011845-1818673200-1818719940@thequarrythornton.com
SUMMARY:Kitchen open 11-9 Tavern open 11-11. 1/2 price hot dogs or chili cheese dogs. Dine in only.
DESCRIPTION:
URL:https://thequarrythornton.com/event/kitchen-open-11-9-tavern-open-11-12-open-mic-7-10/2027-08-19/
END:VEVENT
BEGIN:VEVENT
DTSTART;TZID=America/Chicago:20270820T110000
DTEND;TZID=America/Chicago:20270820T235900
DTSTAMP:20260423T010755
CREATED:20240110T234444Z
LAST-MODIFIED:20260123T151734Z
UID:10009580-1818759600-1818806340@thequarrythornton.com
SUMMARY:Kitchen open 11-9 Tavern open 11-12.
DESCRIPTION:
URL:https://thequarrythornton.com/event/kitchen-taven-open-11-12-live-music-every-friday-100-winner-karaoke-every-other/2027-08-20/
END:VEVENT
BEGIN:VEVENT
DTSTART;TZID=America/Chicago:20270821T110000
DTEND;TZID=America/Chicago:20270821T235900
DTSTAMP:20260423T010755
CREATED:20240110T235242Z
LAST-MODIFIED:20240313T170456Z
UID:10009841-1818846000-1818892740@thequarrythornton.com
SUMMARY:Kitchen open 11-9 Tavern open 11-12. Live Music every Saturday 7-10
DESCRIPTION:
URL:https://thequarrythornton.com/event/kitchen-tavern-open-11-12-live-music-every-saturday/2027-08-21/
END:VEVENT
BEGIN:VEVENT
DTSTART;TZID=America/Chicago:20270822T110000
DTEND;TZID=America/Chicago:20270822T230000
DTSTAMP:20260423T010755
CREATED:20240110T235336Z
LAST-MODIFIED:20260113T182408Z
UID:10010102-1818932400-1818975600@thequarrythornton.com
SUMMARY:Kitchen open 11-7 Tavern open 11-11.
DESCRIPTION:
URL:https://thequarrythornton.com/event/kitchen-open-11-7-tavern-open-11-11/2027-08-22/
END:VEVENT
BEGIN:VEVENT
DTSTART;TZID=America/Chicago:20270823T110000
DTEND;TZID=America/Chicago:20270823T230000
DTSTAMP:20260423T010755
CREATED:20240110T235437Z
LAST-MODIFIED:20250510T191022Z
UID:10011007-1819018800-1819062000@thequarrythornton.com
SUMMARY:Kitchen open 11-9 Tavern open 11-11. 1/2 price pizza. Dine in only.
DESCRIPTION:
URL:https://thequarrythornton.com/event/kitchen-open-3-9-tavern-open-3-11/2027-08-23/
END:VEVENT
BEGIN:VEVENT
DTSTART;TZID=America/Chicago:20270824T110000
DTEND;TZID=America/Chicago:20270824T230000
DTSTAMP:20260423T010755
CREATED:20240110T235532Z
LAST-MODIFIED:20250325T221155Z
UID:10011566-1819105200-1819148400@thequarrythornton.com
SUMMARY:Kitchen open 11-9 Tavern open 11-11. Taco Tuesday! 3 beef\, pork or chicken $7.50
DESCRIPTION:
URL:https://thequarrythornton.com/event/kitchen-open-3-9-tavern-open-3-11-2/2027-08-24/
END:VEVENT
BEGIN:VEVENT
DTSTART;TZID=America/Chicago:20270825T110000
DTEND;TZID=America/Chicago:20270825T230000
DTSTAMP:20260423T010755
CREATED:20240110T233647Z
LAST-MODIFIED:20250510T190409Z
UID:10011287-1819191600-1819234800@thequarrythornton.com
SUMMARY:Kitchen open 11-9 Tavern open 11-11. Wing Wednesday 1/2 price traditional wings. Dine in only.
DESCRIPTION:
URL:https://thequarrythornton.com/event/kitchen-open-3-9-tavern-open-3-11-free-bingo-every-wednesday-7-9/2027-08-25/
END:VEVENT
BEGIN:VEVENT
DTSTART;TZID=America/Chicago:20270826T110000
DTEND;TZID=America/Chicago:20270826T235900
DTSTAMP:20260423T010755
CREATED:20240110T233826Z
LAST-MODIFIED:20250510T190549Z
UID:10011846-1819278000-1819324740@thequarrythornton.com
SUMMARY:Kitchen open 11-9 Tavern open 11-11. 1/2 price hot dogs or chili cheese dogs. Dine in only.
DESCRIPTION:
URL:https://thequarrythornton.com/event/kitchen-open-11-9-tavern-open-11-12-open-mic-7-10/2027-08-26/
END:VEVENT
BEGIN:VEVENT
DTSTART;TZID=America/Chicago:20270827T110000
DTEND;TZID=America/Chicago:20270827T235900
DTSTAMP:20260423T010755
CREATED:20240110T234444Z
LAST-MODIFIED:20260123T151734Z
UID:10009581-1819364400-1819411140@thequarrythornton.com
SUMMARY:Kitchen open 11-9 Tavern open 11-12.
DESCRIPTION:
URL:https://thequarrythornton.com/event/kitchen-taven-open-11-12-live-music-every-friday-100-winner-karaoke-every-other/2027-08-27/
END:VEVENT
BEGIN:VEVENT
DTSTART;TZID=America/Chicago:20270828T110000
DTEND;TZID=America/Chicago:20270828T235900
DTSTAMP:20260423T010755
CREATED:20240110T235242Z
LAST-MODIFIED:20240313T170456Z
UID:10009842-1819450800-1819497540@thequarrythornton.com
SUMMARY:Kitchen open 11-9 Tavern open 11-12. Live Music every Saturday 7-10
DESCRIPTION:
URL:https://thequarrythornton.com/event/kitchen-tavern-open-11-12-live-music-every-saturday/2027-08-28/
END:VEVENT
BEGIN:VEVENT
DTSTART;TZID=America/Chicago:20270829T110000
DTEND;TZID=America/Chicago:20270829T230000
DTSTAMP:20260423T010755
CREATED:20240110T235336Z
LAST-MODIFIED:20260113T182408Z
UID:10010103-1819537200-1819580400@thequarrythornton.com
SUMMARY:Kitchen open 11-7 Tavern open 11-11.
DESCRIPTION:
URL:https://thequarrythornton.com/event/kitchen-open-11-7-tavern-open-11-11/2027-08-29/
END:VEVENT
BEGIN:VEVENT
DTSTART;TZID=America/Chicago:20270830T110000
DTEND;TZID=America/Chicago:20270830T230000
DTSTAMP:20260423T010755
CREATED:20240110T235437Z
LAST-MODIFIED:20250510T191022Z
UID:10011008-1819623600-1819666800@thequarrythornton.com
SUMMARY:Kitchen open 11-9 Tavern open 11-11. 1/2 price pizza. Dine in only.
DESCRIPTION:
URL:https://thequarrythornton.com/event/kitchen-open-3-9-tavern-open-3-11/2027-08-30/
END:VEVENT
BEGIN:VEVENT
DTSTART;TZID=America/Chicago:20270831T110000
DTEND;TZID=America/Chicago:20270831T230000
DTSTAMP:20260423T010755
CREATED:20240110T235532Z
LAST-MODIFIED:20250325T221155Z
UID:10011567-1819710000-1819753200@thequarrythornton.com
SUMMARY:Kitchen open 11-9 Tavern open 11-11. Taco Tuesday! 3 beef\, pork or chicken $7.50
DESCRIPTION:
URL:https://thequarrythornton.com/event/kitchen-open-3-9-tavern-open-3-11-2/2027-08-31/
END:VEVENT
BEGIN:VEVENT
DTSTART;TZID=America/Chicago:20270901T110000
DTEND;TZID=America/Chicago:20270901T230000
DTSTAMP:20260423T010755
CREATED:20240110T233647Z
LAST-MODIFIED:20250510T190409Z
UID:10011288-1819796400-1819839600@thequarrythornton.com
SUMMARY:Kitchen open 11-9 Tavern open 11-11. Wing Wednesday 1/2 price traditional wings. Dine in only.
DESCRIPTION:
URL:https://thequarrythornton.com/event/kitchen-open-3-9-tavern-open-3-11-free-bingo-every-wednesday-7-9/2027-09-01/
END:VEVENT
BEGIN:VEVENT
DTSTART;TZID=America/Chicago:20270902T110000
DTEND;TZID=America/Chicago:20270902T235900
DTSTAMP:20260423T010755
CREATED:20240110T233826Z
LAST-MODIFIED:20250510T190549Z
UID:10011847-1819882800-1819929540@thequarrythornton.com
SUMMARY:Kitchen open 11-9 Tavern open 11-11. 1/2 price hot dogs or chili cheese dogs. Dine in only.
DESCRIPTION:
URL:https://thequarrythornton.com/event/kitchen-open-11-9-tavern-open-11-12-open-mic-7-10/2027-09-02/
END:VEVENT
BEGIN:VEVENT
DTSTART;TZID=America/Chicago:20270903T110000
DTEND;TZID=America/Chicago:20270903T235900
DTSTAMP:20260423T010755
CREATED:20240110T234444Z
LAST-MODIFIED:20260123T151734Z
UID:10009582-1819969200-1820015940@thequarrythornton.com
SUMMARY:Kitchen open 11-9 Tavern open 11-12.
DESCRIPTION:
URL:https://thequarrythornton.com/event/kitchen-taven-open-11-12-live-music-every-friday-100-winner-karaoke-every-other/2027-09-03/
END:VEVENT
END:VCALENDAR