BEGIN:VCALENDAR
VERSION:2.0
PRODID:-//The Quarry Ballroom - ECPv6.15.20//NONSGML v1.0//EN
CALSCALE:GREGORIAN
METHOD:PUBLISH
X-WR-CALNAME:The Quarry Ballroom
X-ORIGINAL-URL:https://thequarrythornton.com
X-WR-CALDESC:Events for The Quarry Ballroom
REFRESH-INTERVAL;VALUE=DURATION:PT1H
X-Robots-Tag:noindex
X-PUBLISHED-TTL:PT1H
BEGIN:VTIMEZONE
TZID:America/Chicago
BEGIN:DAYLIGHT
TZOFFSETFROM:-0600
TZOFFSETTO:-0500
TZNAME:CDT
DTSTART:20230312T080000
END:DAYLIGHT
BEGIN:STANDARD
TZOFFSETFROM:-0500
TZOFFSETTO:-0600
TZNAME:CST
DTSTART:20231105T070000
END:STANDARD
BEGIN:DAYLIGHT
TZOFFSETFROM:-0600
TZOFFSETTO:-0500
TZNAME:CDT
DTSTART:20240310T080000
END:DAYLIGHT
BEGIN:STANDARD
TZOFFSETFROM:-0500
TZOFFSETTO:-0600
TZNAME:CST
DTSTART:20241103T070000
END:STANDARD
BEGIN:DAYLIGHT
TZOFFSETFROM:-0600
TZOFFSETTO:-0500
TZNAME:CDT
DTSTART:20250309T080000
END:DAYLIGHT
BEGIN:STANDARD
TZOFFSETFROM:-0500
TZOFFSETTO:-0600
TZNAME:CST
DTSTART:20251102T070000
END:STANDARD
END:VTIMEZONE
BEGIN:VEVENT
DTSTART;TZID=America/Chicago:20240215T110000
DTEND;TZID=America/Chicago:20240215T235900
DTSTAMP:20260423T043613
CREATED:20240110T233826Z
LAST-MODIFIED:20250510T190549Z
UID:10011662-1707994800-1708041540@thequarrythornton.com
SUMMARY:Kitchen open 11-9 Tavern open 11-11. 1/2 price hot dogs or chili cheese dogs. Dine in only.
DESCRIPTION:
URL:https://thequarrythornton.com/event/kitchen-open-11-9-tavern-open-11-12-open-mic-7-10/2024-02-15/
END:VEVENT
BEGIN:VEVENT
DTSTART;TZID=America/Chicago:20240214T110000
DTEND;TZID=America/Chicago:20240214T230000
DTSTAMP:20260423T043613
CREATED:20240110T233647Z
LAST-MODIFIED:20250510T190409Z
UID:10011103-1707908400-1707951600@thequarrythornton.com
SUMMARY:Kitchen open 11-9 Tavern open 11-11. Wing Wednesday 1/2 price traditional wings. Dine in only.
DESCRIPTION:
URL:https://thequarrythornton.com/event/kitchen-open-3-9-tavern-open-3-11-free-bingo-every-wednesday-7-9/2024-02-14/
END:VEVENT
BEGIN:VEVENT
DTSTART;TZID=America/Chicago:20240213T110000
DTEND;TZID=America/Chicago:20240213T230000
DTSTAMP:20260423T043613
CREATED:20240110T235532Z
LAST-MODIFIED:20250325T221155Z
UID:10011382-1707822000-1707865200@thequarrythornton.com
SUMMARY:Kitchen open 11-9 Tavern open 11-11. Taco Tuesday! 3 beef\, pork or chicken $7.50
DESCRIPTION:
URL:https://thequarrythornton.com/event/kitchen-open-3-9-tavern-open-3-11-2/2024-02-13/
END:VEVENT
BEGIN:VEVENT
DTSTART;TZID=America/Chicago:20240212T110000
DTEND;TZID=America/Chicago:20240212T230000
DTSTAMP:20260423T043613
CREATED:20240110T235437Z
LAST-MODIFIED:20250510T191022Z
UID:10010823-1707735600-1707778800@thequarrythornton.com
SUMMARY:Kitchen open 11-9 Tavern open 11-11. 1/2 price pizza. Dine in only.
DESCRIPTION:
URL:https://thequarrythornton.com/event/kitchen-open-3-9-tavern-open-3-11/2024-02-12/
END:VEVENT
BEGIN:VEVENT
DTSTART;TZID=America/Chicago:20240211T110000
DTEND;TZID=America/Chicago:20240211T230000
DTSTAMP:20260423T043613
CREATED:20240110T235336Z
LAST-MODIFIED:20260113T182408Z
UID:10009918-1707649200-1707692400@thequarrythornton.com
SUMMARY:Kitchen open 11-7 Tavern open 11-11.
DESCRIPTION:
URL:https://thequarrythornton.com/event/kitchen-open-11-7-tavern-open-11-11/2024-02-11/
END:VEVENT
BEGIN:VEVENT
DTSTART;TZID=America/Chicago:20240210T190000
DTEND;TZID=America/Chicago:20240210T220000
DTSTAMP:20260423T043613
CREATED:20231031T170119Z
LAST-MODIFIED:20231031T170333Z
UID:10007539-1707591600-1707602400@thequarrythornton.com
SUMMARY:Bongo Chief- rock n' roll
DESCRIPTION:
URL:https://thequarrythornton.com/event/bongo-cheif-rock-n-roll/
END:VEVENT
BEGIN:VEVENT
DTSTART;TZID=America/Chicago:20240210T110000
DTEND;TZID=America/Chicago:20240210T235900
DTSTAMP:20260423T043613
CREATED:20240110T235242Z
LAST-MODIFIED:20240313T170456Z
UID:10009657-1707562800-1707609540@thequarrythornton.com
SUMMARY:Kitchen open 11-9 Tavern open 11-12. Live Music every Saturday 7-10
DESCRIPTION:
URL:https://thequarrythornton.com/event/kitchen-tavern-open-11-12-live-music-every-saturday/2024-02-10/
END:VEVENT
BEGIN:VEVENT
DTSTART;TZID=America/Chicago:20240209T190000
DTEND;TZID=America/Chicago:20240209T220000
DTSTAMP:20260423T043613
CREATED:20231128T194457Z
LAST-MODIFIED:20231128T194457Z
UID:10007560-1707505200-1707516000@thequarrythornton.com
SUMMARY:South Side Boogie- smooth classics
DESCRIPTION:
URL:https://thequarrythornton.com/event/south-side-boogie-smooth-classics/
END:VEVENT
BEGIN:VEVENT
DTSTART;TZID=America/Chicago:20240209T190000
DTEND;TZID=America/Chicago:20240209T220000
DTSTAMP:20260423T043613
CREATED:20231115T195246Z
LAST-MODIFIED:20231115T195246Z
UID:10007547-1707505200-1707516000@thequarrythornton.com
SUMMARY:Fabulous Fabtones- 60's rock n' roll
DESCRIPTION:
URL:https://thequarrythornton.com/event/fabulous-fabtones-60s-rock-n-roll/
END:VEVENT
BEGIN:VEVENT
DTSTART;TZID=America/Chicago:20240209T110000
DTEND;TZID=America/Chicago:20240209T235900
DTSTAMP:20260423T043613
CREATED:20240110T234444Z
LAST-MODIFIED:20260123T151734Z
UID:10009396-1707476400-1707523140@thequarrythornton.com
SUMMARY:Kitchen open 11-9 Tavern open 11-12.
DESCRIPTION:
URL:https://thequarrythornton.com/event/kitchen-taven-open-11-12-live-music-every-friday-100-winner-karaoke-every-other/2024-02-09/
END:VEVENT
BEGIN:VEVENT
DTSTART;TZID=America/Chicago:20240208T110000
DTEND;TZID=America/Chicago:20240208T235900
DTSTAMP:20260423T043613
CREATED:20240110T233826Z
LAST-MODIFIED:20250510T190549Z
UID:10011661-1707390000-1707436740@thequarrythornton.com
SUMMARY:Kitchen open 11-9 Tavern open 11-11. 1/2 price hot dogs or chili cheese dogs. Dine in only.
DESCRIPTION:
URL:https://thequarrythornton.com/event/kitchen-open-11-9-tavern-open-11-12-open-mic-7-10/2024-02-08/
END:VEVENT
BEGIN:VEVENT
DTSTART;TZID=America/Chicago:20240207T110000
DTEND;TZID=America/Chicago:20240207T230000
DTSTAMP:20260423T043613
CREATED:20240110T233647Z
LAST-MODIFIED:20250510T190409Z
UID:10011102-1707303600-1707346800@thequarrythornton.com
SUMMARY:Kitchen open 11-9 Tavern open 11-11. Wing Wednesday 1/2 price traditional wings. Dine in only.
DESCRIPTION:
URL:https://thequarrythornton.com/event/kitchen-open-3-9-tavern-open-3-11-free-bingo-every-wednesday-7-9/2024-02-07/
END:VEVENT
BEGIN:VEVENT
DTSTART;TZID=America/Chicago:20240206T110000
DTEND;TZID=America/Chicago:20240206T230000
DTSTAMP:20260423T043613
CREATED:20240110T235532Z
LAST-MODIFIED:20250325T221155Z
UID:10011381-1707217200-1707260400@thequarrythornton.com
SUMMARY:Kitchen open 11-9 Tavern open 11-11. Taco Tuesday! 3 beef\, pork or chicken $7.50
DESCRIPTION:
URL:https://thequarrythornton.com/event/kitchen-open-3-9-tavern-open-3-11-2/2024-02-06/
END:VEVENT
BEGIN:VEVENT
DTSTART;TZID=America/Chicago:20240205T110000
DTEND;TZID=America/Chicago:20240205T230000
DTSTAMP:20260423T043613
CREATED:20240110T235437Z
LAST-MODIFIED:20250510T191022Z
UID:10010822-1707130800-1707174000@thequarrythornton.com
SUMMARY:Kitchen open 11-9 Tavern open 11-11. 1/2 price pizza. Dine in only.
DESCRIPTION:
URL:https://thequarrythornton.com/event/kitchen-open-3-9-tavern-open-3-11/2024-02-05/
END:VEVENT
BEGIN:VEVENT
DTSTART;TZID=America/Chicago:20240204T110000
DTEND;TZID=America/Chicago:20240204T230000
DTSTAMP:20260423T043613
CREATED:20240110T235336Z
LAST-MODIFIED:20260113T182408Z
UID:10009917-1707044400-1707087600@thequarrythornton.com
SUMMARY:Kitchen open 11-7 Tavern open 11-11.
DESCRIPTION:
URL:https://thequarrythornton.com/event/kitchen-open-11-7-tavern-open-11-11/2024-02-04/
END:VEVENT
BEGIN:VEVENT
DTSTART;TZID=America/Chicago:20240203T190000
DTEND;TZID=America/Chicago:20240203T220000
DTSTAMP:20260423T043613
CREATED:20231129T163857Z
LAST-MODIFIED:20231129T163857Z
UID:10007565-1706986800-1706997600@thequarrythornton.com
SUMMARY:Side Effects- rock n' roll
DESCRIPTION:
URL:https://thequarrythornton.com/event/side-effects-rock-n-roll-2/
END:VEVENT
BEGIN:VEVENT
DTSTART;TZID=America/Chicago:20240203T110000
DTEND;TZID=America/Chicago:20240203T235900
DTSTAMP:20260423T043613
CREATED:20240110T235242Z
LAST-MODIFIED:20240313T170456Z
UID:10009656-1706958000-1707004740@thequarrythornton.com
SUMMARY:Kitchen open 11-9 Tavern open 11-12. Live Music every Saturday 7-10
DESCRIPTION:
URL:https://thequarrythornton.com/event/kitchen-tavern-open-11-12-live-music-every-saturday/2024-02-03/
END:VEVENT
BEGIN:VEVENT
DTSTART;TZID=America/Chicago:20240202T110000
DTEND;TZID=America/Chicago:20240202T235900
DTSTAMP:20260423T043613
CREATED:20240110T234444Z
LAST-MODIFIED:20260123T151734Z
UID:10009395-1706871600-1706918340@thequarrythornton.com
SUMMARY:Kitchen open 11-9 Tavern open 11-12.
DESCRIPTION:
URL:https://thequarrythornton.com/event/kitchen-taven-open-11-12-live-music-every-friday-100-winner-karaoke-every-other/2024-02-02/
END:VEVENT
BEGIN:VEVENT
DTSTART;TZID=America/Chicago:20240201T110000
DTEND;TZID=America/Chicago:20240201T235900
DTSTAMP:20260423T043613
CREATED:20240110T233826Z
LAST-MODIFIED:20250510T190549Z
UID:10011660-1706785200-1706831940@thequarrythornton.com
SUMMARY:Kitchen open 11-9 Tavern open 11-11. 1/2 price hot dogs or chili cheese dogs. Dine in only.
DESCRIPTION:
URL:https://thequarrythornton.com/event/kitchen-open-11-9-tavern-open-11-12-open-mic-7-10/2024-02-01/
END:VEVENT
BEGIN:VEVENT
DTSTART;TZID=America/Chicago:20240131T110000
DTEND;TZID=America/Chicago:20240131T230000
DTSTAMP:20260423T043613
CREATED:20240110T233647Z
LAST-MODIFIED:20250510T190409Z
UID:10011101-1706698800-1706742000@thequarrythornton.com
SUMMARY:Kitchen open 11-9 Tavern open 11-11. Wing Wednesday 1/2 price traditional wings. Dine in only.
DESCRIPTION:
URL:https://thequarrythornton.com/event/kitchen-open-3-9-tavern-open-3-11-free-bingo-every-wednesday-7-9/2024-01-31/
END:VEVENT
BEGIN:VEVENT
DTSTART;TZID=America/Chicago:20240130T110000
DTEND;TZID=America/Chicago:20240130T230000
DTSTAMP:20260423T043613
CREATED:20240110T235532Z
LAST-MODIFIED:20250325T221155Z
UID:10011380-1706612400-1706655600@thequarrythornton.com
SUMMARY:Kitchen open 11-9 Tavern open 11-11. Taco Tuesday! 3 beef\, pork or chicken $7.50
DESCRIPTION:
URL:https://thequarrythornton.com/event/kitchen-open-3-9-tavern-open-3-11-2/2024-01-30/
END:VEVENT
BEGIN:VEVENT
DTSTART;TZID=America/Chicago:20240129T110000
DTEND;TZID=America/Chicago:20240129T230000
DTSTAMP:20260423T043613
CREATED:20240110T235437Z
LAST-MODIFIED:20250510T191022Z
UID:10010821-1706526000-1706569200@thequarrythornton.com
SUMMARY:Kitchen open 11-9 Tavern open 11-11. 1/2 price pizza. Dine in only.
DESCRIPTION:
URL:https://thequarrythornton.com/event/kitchen-open-3-9-tavern-open-3-11/2024-01-29/
END:VEVENT
BEGIN:VEVENT
DTSTART;TZID=America/Chicago:20240128T110000
DTEND;TZID=America/Chicago:20240128T230000
DTSTAMP:20260423T043613
CREATED:20240110T235336Z
LAST-MODIFIED:20260113T182408Z
UID:10009916-1706439600-1706482800@thequarrythornton.com
SUMMARY:Kitchen open 11-7 Tavern open 11-11.
DESCRIPTION:
URL:https://thequarrythornton.com/event/kitchen-open-11-7-tavern-open-11-11/2024-01-28/
END:VEVENT
BEGIN:VEVENT
DTSTART;TZID=America/Chicago:20240127T190000
DTEND;TZID=America/Chicago:20240127T220000
DTSTAMP:20260423T043613
CREATED:20231003T203752Z
LAST-MODIFIED:20231003T203752Z
UID:10007514-1706382000-1706392800@thequarrythornton.com
SUMMARY:Hendrix Effect- Jimi Hendrix Tribute
DESCRIPTION:
URL:https://thequarrythornton.com/event/hendrix-effect-jimi-hendrix-tribute/
END:VEVENT
BEGIN:VEVENT
DTSTART;TZID=America/Chicago:20240127T110000
DTEND;TZID=America/Chicago:20240127T235900
DTSTAMP:20260423T043613
CREATED:20240110T235242Z
LAST-MODIFIED:20240313T170456Z
UID:10009655-1706353200-1706399940@thequarrythornton.com
SUMMARY:Kitchen open 11-9 Tavern open 11-12. Live Music every Saturday 7-10
DESCRIPTION:
URL:https://thequarrythornton.com/event/kitchen-tavern-open-11-12-live-music-every-saturday/2024-01-27/
END:VEVENT
BEGIN:VEVENT
DTSTART;TZID=America/Chicago:20240126T190000
DTEND;TZID=America/Chicago:20240126T220000
DTSTAMP:20260423T043613
CREATED:20231019T224055Z
LAST-MODIFIED:20231019T224055Z
UID:10007521-1706295600-1706306400@thequarrythornton.com
SUMMARY:The Dig 3 Duo- award winning blues
DESCRIPTION:
URL:https://thequarrythornton.com/event/the-dig-3-duo-award-winning-blues/
END:VEVENT
BEGIN:VEVENT
DTSTART;TZID=America/Chicago:20240126T110000
DTEND;TZID=America/Chicago:20240126T235900
DTSTAMP:20260423T043613
CREATED:20240110T234444Z
LAST-MODIFIED:20260123T151734Z
UID:10009394-1706266800-1706313540@thequarrythornton.com
SUMMARY:Kitchen open 11-9 Tavern open 11-12.
DESCRIPTION:
URL:https://thequarrythornton.com/event/kitchen-taven-open-11-12-live-music-every-friday-100-winner-karaoke-every-other/2024-01-26/
END:VEVENT
BEGIN:VEVENT
DTSTART;TZID=America/Chicago:20240125T110000
DTEND;TZID=America/Chicago:20240125T235900
DTSTAMP:20260423T043613
CREATED:20240110T233826Z
LAST-MODIFIED:20250510T190549Z
UID:10011659-1706180400-1706227140@thequarrythornton.com
SUMMARY:Kitchen open 11-9 Tavern open 11-11. 1/2 price hot dogs or chili cheese dogs. Dine in only.
DESCRIPTION:
URL:https://thequarrythornton.com/event/kitchen-open-11-9-tavern-open-11-12-open-mic-7-10/2024-01-25/
END:VEVENT
BEGIN:VEVENT
DTSTART;TZID=America/Chicago:20240124T110000
DTEND;TZID=America/Chicago:20240124T230000
DTSTAMP:20260423T043613
CREATED:20240110T233647Z
LAST-MODIFIED:20250510T190409Z
UID:10011100-1706094000-1706137200@thequarrythornton.com
SUMMARY:Kitchen open 11-9 Tavern open 11-11. Wing Wednesday 1/2 price traditional wings. Dine in only.
DESCRIPTION:
URL:https://thequarrythornton.com/event/kitchen-open-3-9-tavern-open-3-11-free-bingo-every-wednesday-7-9/2024-01-24/
END:VEVENT
BEGIN:VEVENT
DTSTART;TZID=America/Chicago:20240123T110000
DTEND;TZID=America/Chicago:20240123T230000
DTSTAMP:20260423T043613
CREATED:20240110T235532Z
LAST-MODIFIED:20250325T221155Z
UID:10011379-1706007600-1706050800@thequarrythornton.com
SUMMARY:Kitchen open 11-9 Tavern open 11-11. Taco Tuesday! 3 beef\, pork or chicken $7.50
DESCRIPTION:
URL:https://thequarrythornton.com/event/kitchen-open-3-9-tavern-open-3-11-2/2024-01-23/
END:VEVENT
END:VCALENDAR