BEGIN:VCALENDAR
VERSION:2.0
PRODID:-//The Quarry Ballroom - ECPv6.15.20//NONSGML v1.0//EN
CALSCALE:GREGORIAN
METHOD:PUBLISH
X-WR-CALNAME:The Quarry Ballroom
X-ORIGINAL-URL:https://thequarrythornton.com
X-WR-CALDESC:Events for The Quarry Ballroom
REFRESH-INTERVAL;VALUE=DURATION:PT1H
X-Robots-Tag:noindex
X-PUBLISHED-TTL:PT1H
BEGIN:VTIMEZONE
TZID:America/Chicago
BEGIN:DAYLIGHT
TZOFFSETFROM:-0600
TZOFFSETTO:-0500
TZNAME:CDT
DTSTART:20260308T080000
END:DAYLIGHT
BEGIN:STANDARD
TZOFFSETFROM:-0500
TZOFFSETTO:-0600
TZNAME:CST
DTSTART:20261101T070000
END:STANDARD
BEGIN:DAYLIGHT
TZOFFSETFROM:-0600
TZOFFSETTO:-0500
TZNAME:CDT
DTSTART:20270314T080000
END:DAYLIGHT
BEGIN:STANDARD
TZOFFSETFROM:-0500
TZOFFSETTO:-0600
TZNAME:CST
DTSTART:20271107T070000
END:STANDARD
BEGIN:DAYLIGHT
TZOFFSETFROM:-0600
TZOFFSETTO:-0500
TZNAME:CDT
DTSTART:20280312T080000
END:DAYLIGHT
BEGIN:STANDARD
TZOFFSETFROM:-0500
TZOFFSETTO:-0600
TZNAME:CST
DTSTART:20281105T070000
END:STANDARD
END:VTIMEZONE
BEGIN:VEVENT
DTSTART;TZID=America/Chicago:20270617T110000
DTEND;TZID=America/Chicago:20270617T235900
DTSTAMP:20260422T181418
CREATED:20240110T233826Z
LAST-MODIFIED:20250510T190549Z
UID:10011836-1813230000-1813276740@thequarrythornton.com
SUMMARY:Kitchen open 11-9 Tavern open 11-11. 1/2 price hot dogs or chili cheese dogs. Dine in only.
DESCRIPTION:
URL:https://thequarrythornton.com/event/kitchen-open-11-9-tavern-open-11-12-open-mic-7-10/2027-06-17/
END:VEVENT
BEGIN:VEVENT
DTSTART;TZID=America/Chicago:20270618T110000
DTEND;TZID=America/Chicago:20270618T235900
DTSTAMP:20260422T181418
CREATED:20240110T234444Z
LAST-MODIFIED:20260123T151734Z
UID:10009571-1813316400-1813363140@thequarrythornton.com
SUMMARY:Kitchen open 11-9 Tavern open 11-12.
DESCRIPTION:
URL:https://thequarrythornton.com/event/kitchen-taven-open-11-12-live-music-every-friday-100-winner-karaoke-every-other/2027-06-18/
END:VEVENT
BEGIN:VEVENT
DTSTART;TZID=America/Chicago:20270619T110000
DTEND;TZID=America/Chicago:20270619T235900
DTSTAMP:20260422T181418
CREATED:20240110T235242Z
LAST-MODIFIED:20240313T170456Z
UID:10009832-1813402800-1813449540@thequarrythornton.com
SUMMARY:Kitchen open 11-9 Tavern open 11-12. Live Music every Saturday 7-10
DESCRIPTION:
URL:https://thequarrythornton.com/event/kitchen-tavern-open-11-12-live-music-every-saturday/2027-06-19/
END:VEVENT
BEGIN:VEVENT
DTSTART;TZID=America/Chicago:20270620T110000
DTEND;TZID=America/Chicago:20270620T230000
DTSTAMP:20260422T181418
CREATED:20240110T235336Z
LAST-MODIFIED:20260113T182408Z
UID:10010093-1813489200-1813532400@thequarrythornton.com
SUMMARY:Kitchen open 11-7 Tavern open 11-11.
DESCRIPTION:
URL:https://thequarrythornton.com/event/kitchen-open-11-7-tavern-open-11-11/2027-06-20/
END:VEVENT
BEGIN:VEVENT
DTSTART;TZID=America/Chicago:20270621T110000
DTEND;TZID=America/Chicago:20270621T230000
DTSTAMP:20260422T181418
CREATED:20240110T235437Z
LAST-MODIFIED:20250510T191022Z
UID:10010998-1813575600-1813618800@thequarrythornton.com
SUMMARY:Kitchen open 11-9 Tavern open 11-11. 1/2 price pizza. Dine in only.
DESCRIPTION:
URL:https://thequarrythornton.com/event/kitchen-open-3-9-tavern-open-3-11/2027-06-21/
END:VEVENT
BEGIN:VEVENT
DTSTART;TZID=America/Chicago:20270622T110000
DTEND;TZID=America/Chicago:20270622T230000
DTSTAMP:20260422T181418
CREATED:20240110T235532Z
LAST-MODIFIED:20250325T221155Z
UID:10011557-1813662000-1813705200@thequarrythornton.com
SUMMARY:Kitchen open 11-9 Tavern open 11-11. Taco Tuesday! 3 beef\, pork or chicken $7.50
DESCRIPTION:
URL:https://thequarrythornton.com/event/kitchen-open-3-9-tavern-open-3-11-2/2027-06-22/
END:VEVENT
BEGIN:VEVENT
DTSTART;TZID=America/Chicago:20270623T110000
DTEND;TZID=America/Chicago:20270623T230000
DTSTAMP:20260422T181418
CREATED:20240110T233647Z
LAST-MODIFIED:20250510T190409Z
UID:10011278-1813748400-1813791600@thequarrythornton.com
SUMMARY:Kitchen open 11-9 Tavern open 11-11. Wing Wednesday 1/2 price traditional wings. Dine in only.
DESCRIPTION:
URL:https://thequarrythornton.com/event/kitchen-open-3-9-tavern-open-3-11-free-bingo-every-wednesday-7-9/2027-06-23/
END:VEVENT
BEGIN:VEVENT
DTSTART;TZID=America/Chicago:20270624T110000
DTEND;TZID=America/Chicago:20270624T235900
DTSTAMP:20260422T181418
CREATED:20240110T233826Z
LAST-MODIFIED:20250510T190549Z
UID:10011837-1813834800-1813881540@thequarrythornton.com
SUMMARY:Kitchen open 11-9 Tavern open 11-11. 1/2 price hot dogs or chili cheese dogs. Dine in only.
DESCRIPTION:
URL:https://thequarrythornton.com/event/kitchen-open-11-9-tavern-open-11-12-open-mic-7-10/2027-06-24/
END:VEVENT
BEGIN:VEVENT
DTSTART;TZID=America/Chicago:20270625T110000
DTEND;TZID=America/Chicago:20270625T235900
DTSTAMP:20260422T181418
CREATED:20240110T234444Z
LAST-MODIFIED:20260123T151734Z
UID:10009572-1813921200-1813967940@thequarrythornton.com
SUMMARY:Kitchen open 11-9 Tavern open 11-12.
DESCRIPTION:
URL:https://thequarrythornton.com/event/kitchen-taven-open-11-12-live-music-every-friday-100-winner-karaoke-every-other/2027-06-25/
END:VEVENT
BEGIN:VEVENT
DTSTART;TZID=America/Chicago:20270626T110000
DTEND;TZID=America/Chicago:20270626T235900
DTSTAMP:20260422T181418
CREATED:20240110T235242Z
LAST-MODIFIED:20240313T170456Z
UID:10009833-1814007600-1814054340@thequarrythornton.com
SUMMARY:Kitchen open 11-9 Tavern open 11-12. Live Music every Saturday 7-10
DESCRIPTION:
URL:https://thequarrythornton.com/event/kitchen-tavern-open-11-12-live-music-every-saturday/2027-06-26/
END:VEVENT
BEGIN:VEVENT
DTSTART;TZID=America/Chicago:20270627T110000
DTEND;TZID=America/Chicago:20270627T230000
DTSTAMP:20260422T181418
CREATED:20240110T235336Z
LAST-MODIFIED:20260113T182408Z
UID:10010094-1814094000-1814137200@thequarrythornton.com
SUMMARY:Kitchen open 11-7 Tavern open 11-11.
DESCRIPTION:
URL:https://thequarrythornton.com/event/kitchen-open-11-7-tavern-open-11-11/2027-06-27/
END:VEVENT
BEGIN:VEVENT
DTSTART;TZID=America/Chicago:20270628T110000
DTEND;TZID=America/Chicago:20270628T230000
DTSTAMP:20260422T181418
CREATED:20240110T235437Z
LAST-MODIFIED:20250510T191022Z
UID:10010999-1814180400-1814223600@thequarrythornton.com
SUMMARY:Kitchen open 11-9 Tavern open 11-11. 1/2 price pizza. Dine in only.
DESCRIPTION:
URL:https://thequarrythornton.com/event/kitchen-open-3-9-tavern-open-3-11/2027-06-28/
END:VEVENT
BEGIN:VEVENT
DTSTART;TZID=America/Chicago:20270629T110000
DTEND;TZID=America/Chicago:20270629T230000
DTSTAMP:20260422T181418
CREATED:20240110T235532Z
LAST-MODIFIED:20250325T221155Z
UID:10011558-1814266800-1814310000@thequarrythornton.com
SUMMARY:Kitchen open 11-9 Tavern open 11-11. Taco Tuesday! 3 beef\, pork or chicken $7.50
DESCRIPTION:
URL:https://thequarrythornton.com/event/kitchen-open-3-9-tavern-open-3-11-2/2027-06-29/
END:VEVENT
BEGIN:VEVENT
DTSTART;TZID=America/Chicago:20270630T110000
DTEND;TZID=America/Chicago:20270630T230000
DTSTAMP:20260422T181418
CREATED:20240110T233647Z
LAST-MODIFIED:20250510T190409Z
UID:10011279-1814353200-1814396400@thequarrythornton.com
SUMMARY:Kitchen open 11-9 Tavern open 11-11. Wing Wednesday 1/2 price traditional wings. Dine in only.
DESCRIPTION:
URL:https://thequarrythornton.com/event/kitchen-open-3-9-tavern-open-3-11-free-bingo-every-wednesday-7-9/2027-06-30/
END:VEVENT
BEGIN:VEVENT
DTSTART;TZID=America/Chicago:20270701T110000
DTEND;TZID=America/Chicago:20270701T235900
DTSTAMP:20260422T181418
CREATED:20240110T233826Z
LAST-MODIFIED:20250510T190549Z
UID:10011838-1814439600-1814486340@thequarrythornton.com
SUMMARY:Kitchen open 11-9 Tavern open 11-11. 1/2 price hot dogs or chili cheese dogs. Dine in only.
DESCRIPTION:
URL:https://thequarrythornton.com/event/kitchen-open-11-9-tavern-open-11-12-open-mic-7-10/2027-07-01/
END:VEVENT
BEGIN:VEVENT
DTSTART;TZID=America/Chicago:20270702T110000
DTEND;TZID=America/Chicago:20270702T235900
DTSTAMP:20260422T181418
CREATED:20240110T234444Z
LAST-MODIFIED:20260123T151734Z
UID:10009573-1814526000-1814572740@thequarrythornton.com
SUMMARY:Kitchen open 11-9 Tavern open 11-12.
DESCRIPTION:
URL:https://thequarrythornton.com/event/kitchen-taven-open-11-12-live-music-every-friday-100-winner-karaoke-every-other/2027-07-02/
END:VEVENT
BEGIN:VEVENT
DTSTART;TZID=America/Chicago:20270703T110000
DTEND;TZID=America/Chicago:20270703T235900
DTSTAMP:20260422T181418
CREATED:20240110T235242Z
LAST-MODIFIED:20240313T170456Z
UID:10009834-1814612400-1814659140@thequarrythornton.com
SUMMARY:Kitchen open 11-9 Tavern open 11-12. Live Music every Saturday 7-10
DESCRIPTION:
URL:https://thequarrythornton.com/event/kitchen-tavern-open-11-12-live-music-every-saturday/2027-07-03/
END:VEVENT
BEGIN:VEVENT
DTSTART;TZID=America/Chicago:20270704T110000
DTEND;TZID=America/Chicago:20270704T230000
DTSTAMP:20260422T181418
CREATED:20240110T235336Z
LAST-MODIFIED:20260113T182408Z
UID:10010095-1814698800-1814742000@thequarrythornton.com
SUMMARY:Kitchen open 11-7 Tavern open 11-11.
DESCRIPTION:
URL:https://thequarrythornton.com/event/kitchen-open-11-7-tavern-open-11-11/2027-07-04/
END:VEVENT
BEGIN:VEVENT
DTSTART;TZID=America/Chicago:20270705T110000
DTEND;TZID=America/Chicago:20270705T230000
DTSTAMP:20260422T181418
CREATED:20240110T235437Z
LAST-MODIFIED:20250510T191022Z
UID:10011000-1814785200-1814828400@thequarrythornton.com
SUMMARY:Kitchen open 11-9 Tavern open 11-11. 1/2 price pizza. Dine in only.
DESCRIPTION:
URL:https://thequarrythornton.com/event/kitchen-open-3-9-tavern-open-3-11/2027-07-05/
END:VEVENT
BEGIN:VEVENT
DTSTART;TZID=America/Chicago:20270706T110000
DTEND;TZID=America/Chicago:20270706T230000
DTSTAMP:20260422T181418
CREATED:20240110T235532Z
LAST-MODIFIED:20250325T221155Z
UID:10011559-1814871600-1814914800@thequarrythornton.com
SUMMARY:Kitchen open 11-9 Tavern open 11-11. Taco Tuesday! 3 beef\, pork or chicken $7.50
DESCRIPTION:
URL:https://thequarrythornton.com/event/kitchen-open-3-9-tavern-open-3-11-2/2027-07-06/
END:VEVENT
BEGIN:VEVENT
DTSTART;TZID=America/Chicago:20270707T110000
DTEND;TZID=America/Chicago:20270707T230000
DTSTAMP:20260422T181418
CREATED:20240110T233647Z
LAST-MODIFIED:20250510T190409Z
UID:10011280-1814958000-1815001200@thequarrythornton.com
SUMMARY:Kitchen open 11-9 Tavern open 11-11. Wing Wednesday 1/2 price traditional wings. Dine in only.
DESCRIPTION:
URL:https://thequarrythornton.com/event/kitchen-open-3-9-tavern-open-3-11-free-bingo-every-wednesday-7-9/2027-07-07/
END:VEVENT
BEGIN:VEVENT
DTSTART;TZID=America/Chicago:20270708T110000
DTEND;TZID=America/Chicago:20270708T235900
DTSTAMP:20260422T181418
CREATED:20240110T233826Z
LAST-MODIFIED:20250510T190549Z
UID:10011839-1815044400-1815091140@thequarrythornton.com
SUMMARY:Kitchen open 11-9 Tavern open 11-11. 1/2 price hot dogs or chili cheese dogs. Dine in only.
DESCRIPTION:
URL:https://thequarrythornton.com/event/kitchen-open-11-9-tavern-open-11-12-open-mic-7-10/2027-07-08/
END:VEVENT
BEGIN:VEVENT
DTSTART;TZID=America/Chicago:20270709T110000
DTEND;TZID=America/Chicago:20270709T235900
DTSTAMP:20260422T181418
CREATED:20240110T234444Z
LAST-MODIFIED:20260123T151734Z
UID:10009574-1815130800-1815177540@thequarrythornton.com
SUMMARY:Kitchen open 11-9 Tavern open 11-12.
DESCRIPTION:
URL:https://thequarrythornton.com/event/kitchen-taven-open-11-12-live-music-every-friday-100-winner-karaoke-every-other/2027-07-09/
END:VEVENT
BEGIN:VEVENT
DTSTART;TZID=America/Chicago:20270710T110000
DTEND;TZID=America/Chicago:20270710T235900
DTSTAMP:20260422T181418
CREATED:20240110T235242Z
LAST-MODIFIED:20240313T170456Z
UID:10009835-1815217200-1815263940@thequarrythornton.com
SUMMARY:Kitchen open 11-9 Tavern open 11-12. Live Music every Saturday 7-10
DESCRIPTION:
URL:https://thequarrythornton.com/event/kitchen-tavern-open-11-12-live-music-every-saturday/2027-07-10/
END:VEVENT
BEGIN:VEVENT
DTSTART;TZID=America/Chicago:20270711T110000
DTEND;TZID=America/Chicago:20270711T230000
DTSTAMP:20260422T181418
CREATED:20240110T235336Z
LAST-MODIFIED:20260113T182408Z
UID:10010096-1815303600-1815346800@thequarrythornton.com
SUMMARY:Kitchen open 11-7 Tavern open 11-11.
DESCRIPTION:
URL:https://thequarrythornton.com/event/kitchen-open-11-7-tavern-open-11-11/2027-07-11/
END:VEVENT
BEGIN:VEVENT
DTSTART;TZID=America/Chicago:20270712T110000
DTEND;TZID=America/Chicago:20270712T230000
DTSTAMP:20260422T181418
CREATED:20240110T235437Z
LAST-MODIFIED:20250510T191022Z
UID:10011001-1815390000-1815433200@thequarrythornton.com
SUMMARY:Kitchen open 11-9 Tavern open 11-11. 1/2 price pizza. Dine in only.
DESCRIPTION:
URL:https://thequarrythornton.com/event/kitchen-open-3-9-tavern-open-3-11/2027-07-12/
END:VEVENT
BEGIN:VEVENT
DTSTART;TZID=America/Chicago:20270713T110000
DTEND;TZID=America/Chicago:20270713T230000
DTSTAMP:20260422T181418
CREATED:20240110T235532Z
LAST-MODIFIED:20250325T221155Z
UID:10011560-1815476400-1815519600@thequarrythornton.com
SUMMARY:Kitchen open 11-9 Tavern open 11-11. Taco Tuesday! 3 beef\, pork or chicken $7.50
DESCRIPTION:
URL:https://thequarrythornton.com/event/kitchen-open-3-9-tavern-open-3-11-2/2027-07-13/
END:VEVENT
BEGIN:VEVENT
DTSTART;TZID=America/Chicago:20270714T110000
DTEND;TZID=America/Chicago:20270714T230000
DTSTAMP:20260422T181418
CREATED:20240110T233647Z
LAST-MODIFIED:20250510T190409Z
UID:10011281-1815562800-1815606000@thequarrythornton.com
SUMMARY:Kitchen open 11-9 Tavern open 11-11. Wing Wednesday 1/2 price traditional wings. Dine in only.
DESCRIPTION:
URL:https://thequarrythornton.com/event/kitchen-open-3-9-tavern-open-3-11-free-bingo-every-wednesday-7-9/2027-07-14/
END:VEVENT
BEGIN:VEVENT
DTSTART;TZID=America/Chicago:20270715T110000
DTEND;TZID=America/Chicago:20270715T235900
DTSTAMP:20260422T181418
CREATED:20240110T233826Z
LAST-MODIFIED:20250510T190549Z
UID:10011840-1815649200-1815695940@thequarrythornton.com
SUMMARY:Kitchen open 11-9 Tavern open 11-11. 1/2 price hot dogs or chili cheese dogs. Dine in only.
DESCRIPTION:
URL:https://thequarrythornton.com/event/kitchen-open-11-9-tavern-open-11-12-open-mic-7-10/2027-07-15/
END:VEVENT
BEGIN:VEVENT
DTSTART;TZID=America/Chicago:20270716T110000
DTEND;TZID=America/Chicago:20270716T235900
DTSTAMP:20260422T181418
CREATED:20240110T234444Z
LAST-MODIFIED:20260123T151734Z
UID:10009575-1815735600-1815782340@thequarrythornton.com
SUMMARY:Kitchen open 11-9 Tavern open 11-12.
DESCRIPTION:
URL:https://thequarrythornton.com/event/kitchen-taven-open-11-12-live-music-every-friday-100-winner-karaoke-every-other/2027-07-16/
END:VEVENT
END:VCALENDAR