BEGIN:VCALENDAR
VERSION:2.0
PRODID:-//The Quarry Ballroom - ECPv6.15.20//NONSGML v1.0//EN
CALSCALE:GREGORIAN
METHOD:PUBLISH
X-WR-CALNAME:The Quarry Ballroom
X-ORIGINAL-URL:https://thequarrythornton.com
X-WR-CALDESC:Events for The Quarry Ballroom
REFRESH-INTERVAL;VALUE=DURATION:PT1H
X-Robots-Tag:noindex
X-PUBLISHED-TTL:PT1H
BEGIN:VTIMEZONE
TZID:America/Chicago
BEGIN:DAYLIGHT
TZOFFSETFROM:-0600
TZOFFSETTO:-0500
TZNAME:CDT
DTSTART:20230312T080000
END:DAYLIGHT
BEGIN:STANDARD
TZOFFSETFROM:-0500
TZOFFSETTO:-0600
TZNAME:CST
DTSTART:20231105T070000
END:STANDARD
BEGIN:DAYLIGHT
TZOFFSETFROM:-0600
TZOFFSETTO:-0500
TZNAME:CDT
DTSTART:20240310T080000
END:DAYLIGHT
BEGIN:STANDARD
TZOFFSETFROM:-0500
TZOFFSETTO:-0600
TZNAME:CST
DTSTART:20241103T070000
END:STANDARD
BEGIN:DAYLIGHT
TZOFFSETFROM:-0600
TZOFFSETTO:-0500
TZNAME:CDT
DTSTART:20250309T080000
END:DAYLIGHT
BEGIN:STANDARD
TZOFFSETFROM:-0500
TZOFFSETTO:-0600
TZNAME:CST
DTSTART:20251102T070000
END:STANDARD
END:VTIMEZONE
BEGIN:VEVENT
DTSTART;TZID=America/Chicago:20240316T110000
DTEND;TZID=America/Chicago:20240316T235900
DTSTAMP:20260422T235419
CREATED:20240110T235242Z
LAST-MODIFIED:20240313T170456Z
UID:10009662-1710586800-1710633540@thequarrythornton.com
SUMMARY:Kitchen open 11-9 Tavern open 11-12. Live Music every Saturday 7-10
DESCRIPTION:
URL:https://thequarrythornton.com/event/kitchen-tavern-open-11-12-live-music-every-saturday/2024-03-16/
END:VEVENT
BEGIN:VEVENT
DTSTART;TZID=America/Chicago:20240315T110000
DTEND;TZID=America/Chicago:20240315T235900
DTSTAMP:20260422T235419
CREATED:20240110T234444Z
LAST-MODIFIED:20260123T151734Z
UID:10009401-1710500400-1710547140@thequarrythornton.com
SUMMARY:Kitchen open 11-9 Tavern open 11-12.
DESCRIPTION:
URL:https://thequarrythornton.com/event/kitchen-taven-open-11-12-live-music-every-friday-100-winner-karaoke-every-other/2024-03-15/
END:VEVENT
BEGIN:VEVENT
DTSTART;TZID=America/Chicago:20240314T110000
DTEND;TZID=America/Chicago:20240314T235900
DTSTAMP:20260422T235419
CREATED:20240110T233826Z
LAST-MODIFIED:20250510T190549Z
UID:10011666-1710414000-1710460740@thequarrythornton.com
SUMMARY:Kitchen open 11-9 Tavern open 11-11. 1/2 price hot dogs or chili cheese dogs. Dine in only.
DESCRIPTION:
URL:https://thequarrythornton.com/event/kitchen-open-11-9-tavern-open-11-12-open-mic-7-10/2024-03-14/
END:VEVENT
BEGIN:VEVENT
DTSTART;TZID=America/Chicago:20240313T110000
DTEND;TZID=America/Chicago:20240313T230000
DTSTAMP:20260422T235419
CREATED:20240110T233647Z
LAST-MODIFIED:20250510T190409Z
UID:10011107-1710327600-1710370800@thequarrythornton.com
SUMMARY:Kitchen open 11-9 Tavern open 11-11. Wing Wednesday 1/2 price traditional wings. Dine in only.
DESCRIPTION:
URL:https://thequarrythornton.com/event/kitchen-open-3-9-tavern-open-3-11-free-bingo-every-wednesday-7-9/2024-03-13/
END:VEVENT
BEGIN:VEVENT
DTSTART;TZID=America/Chicago:20240312T110000
DTEND;TZID=America/Chicago:20240312T230000
DTSTAMP:20260422T235419
CREATED:20240110T235532Z
LAST-MODIFIED:20250325T221155Z
UID:10011386-1710241200-1710284400@thequarrythornton.com
SUMMARY:Kitchen open 11-9 Tavern open 11-11. Taco Tuesday! 3 beef\, pork or chicken $7.50
DESCRIPTION:
URL:https://thequarrythornton.com/event/kitchen-open-3-9-tavern-open-3-11-2/2024-03-12/
END:VEVENT
BEGIN:VEVENT
DTSTART;TZID=America/Chicago:20240311T110000
DTEND;TZID=America/Chicago:20240311T230000
DTSTAMP:20260422T235419
CREATED:20240110T235437Z
LAST-MODIFIED:20250510T191022Z
UID:10010827-1710154800-1710198000@thequarrythornton.com
SUMMARY:Kitchen open 11-9 Tavern open 11-11. 1/2 price pizza. Dine in only.
DESCRIPTION:
URL:https://thequarrythornton.com/event/kitchen-open-3-9-tavern-open-3-11/2024-03-11/
END:VEVENT
BEGIN:VEVENT
DTSTART;TZID=America/Chicago:20240310T110000
DTEND;TZID=America/Chicago:20240310T230000
DTSTAMP:20260422T235419
CREATED:20240110T235336Z
LAST-MODIFIED:20260113T182408Z
UID:10009922-1710068400-1710111600@thequarrythornton.com
SUMMARY:Kitchen open 11-7 Tavern open 11-11.
DESCRIPTION:
URL:https://thequarrythornton.com/event/kitchen-open-11-7-tavern-open-11-11/2024-03-10/
END:VEVENT
BEGIN:VEVENT
DTSTART;TZID=America/Chicago:20240309T190000
DTEND;TZID=America/Chicago:20240309T220000
DTSTAMP:20260422T235419
CREATED:20231128T192252Z
LAST-MODIFIED:20231128T192252Z
UID:10007558-1710010800-1710021600@thequarrythornton.com
SUMMARY:Return II Soul- r&b
DESCRIPTION:
URL:https://thequarrythornton.com/event/return-ii-soul-rb/
END:VEVENT
BEGIN:VEVENT
DTSTART;TZID=America/Chicago:20240309T110000
DTEND;TZID=America/Chicago:20240309T235900
DTSTAMP:20260422T235419
CREATED:20240110T235242Z
LAST-MODIFIED:20240313T170456Z
UID:10009661-1709982000-1710028740@thequarrythornton.com
SUMMARY:Kitchen open 11-9 Tavern open 11-12. Live Music every Saturday 7-10
DESCRIPTION:
URL:https://thequarrythornton.com/event/kitchen-tavern-open-11-12-live-music-every-saturday/2024-03-09/
END:VEVENT
BEGIN:VEVENT
DTSTART;TZID=America/Chicago:20240308T190000
DTEND;TZID=America/Chicago:20240308T220000
DTSTAMP:20260422T235419
CREATED:20230830T162750Z
LAST-MODIFIED:20230830T162750Z
UID:10007506-1709924400-1709935200@thequarrythornton.com
SUMMARY:Susan Williams
DESCRIPTION:
URL:https://thequarrythornton.com/event/susan-williams-3/
END:VEVENT
BEGIN:VEVENT
DTSTART;TZID=America/Chicago:20240308T110000
DTEND;TZID=America/Chicago:20240308T235900
DTSTAMP:20260422T235419
CREATED:20240110T234444Z
LAST-MODIFIED:20260123T151734Z
UID:10009400-1709895600-1709942340@thequarrythornton.com
SUMMARY:Kitchen open 11-9 Tavern open 11-12.
DESCRIPTION:
URL:https://thequarrythornton.com/event/kitchen-taven-open-11-12-live-music-every-friday-100-winner-karaoke-every-other/2024-03-08/
END:VEVENT
BEGIN:VEVENT
DTSTART;TZID=America/Chicago:20240307T110000
DTEND;TZID=America/Chicago:20240307T235900
DTSTAMP:20260422T235419
CREATED:20240110T233826Z
LAST-MODIFIED:20250510T190549Z
UID:10011665-1709809200-1709855940@thequarrythornton.com
SUMMARY:Kitchen open 11-9 Tavern open 11-11. 1/2 price hot dogs or chili cheese dogs. Dine in only.
DESCRIPTION:
URL:https://thequarrythornton.com/event/kitchen-open-11-9-tavern-open-11-12-open-mic-7-10/2024-03-07/
END:VEVENT
BEGIN:VEVENT
DTSTART;TZID=America/Chicago:20240306T110000
DTEND;TZID=America/Chicago:20240306T230000
DTSTAMP:20260422T235419
CREATED:20240110T233647Z
LAST-MODIFIED:20250510T190409Z
UID:10011106-1709722800-1709766000@thequarrythornton.com
SUMMARY:Kitchen open 11-9 Tavern open 11-11. Wing Wednesday 1/2 price traditional wings. Dine in only.
DESCRIPTION:
URL:https://thequarrythornton.com/event/kitchen-open-3-9-tavern-open-3-11-free-bingo-every-wednesday-7-9/2024-03-06/
END:VEVENT
BEGIN:VEVENT
DTSTART;TZID=America/Chicago:20240305T110000
DTEND;TZID=America/Chicago:20240305T230000
DTSTAMP:20260422T235419
CREATED:20240110T235532Z
LAST-MODIFIED:20250325T221155Z
UID:10011385-1709636400-1709679600@thequarrythornton.com
SUMMARY:Kitchen open 11-9 Tavern open 11-11. Taco Tuesday! 3 beef\, pork or chicken $7.50
DESCRIPTION:
URL:https://thequarrythornton.com/event/kitchen-open-3-9-tavern-open-3-11-2/2024-03-05/
END:VEVENT
BEGIN:VEVENT
DTSTART;TZID=America/Chicago:20240304T110000
DTEND;TZID=America/Chicago:20240304T230000
DTSTAMP:20260422T235419
CREATED:20240110T235437Z
LAST-MODIFIED:20250510T191022Z
UID:10010826-1709550000-1709593200@thequarrythornton.com
SUMMARY:Kitchen open 11-9 Tavern open 11-11. 1/2 price pizza. Dine in only.
DESCRIPTION:
URL:https://thequarrythornton.com/event/kitchen-open-3-9-tavern-open-3-11/2024-03-04/
END:VEVENT
BEGIN:VEVENT
DTSTART;TZID=America/Chicago:20240303T110000
DTEND;TZID=America/Chicago:20240303T230000
DTSTAMP:20260422T235419
CREATED:20240110T235336Z
LAST-MODIFIED:20260113T182408Z
UID:10009921-1709463600-1709506800@thequarrythornton.com
SUMMARY:Kitchen open 11-7 Tavern open 11-11.
DESCRIPTION:
URL:https://thequarrythornton.com/event/kitchen-open-11-7-tavern-open-11-11/2024-03-03/
END:VEVENT
BEGIN:VEVENT
DTSTART;TZID=America/Chicago:20240302T190000
DTEND;TZID=America/Chicago:20240302T220000
DTSTAMP:20260422T235419
CREATED:20231128T192119Z
LAST-MODIFIED:20231128T192119Z
UID:10007557-1709406000-1709416800@thequarrythornton.com
SUMMARY:Silver Eagle Band- classics
DESCRIPTION:
URL:https://thequarrythornton.com/event/silver-eagle-band-classics/
END:VEVENT
BEGIN:VEVENT
DTSTART;TZID=America/Chicago:20240302T110000
DTEND;TZID=America/Chicago:20240302T235900
DTSTAMP:20260422T235419
CREATED:20240110T235242Z
LAST-MODIFIED:20240313T170456Z
UID:10009660-1709377200-1709423940@thequarrythornton.com
SUMMARY:Kitchen open 11-9 Tavern open 11-12. Live Music every Saturday 7-10
DESCRIPTION:
URL:https://thequarrythornton.com/event/kitchen-tavern-open-11-12-live-music-every-saturday/2024-03-02/
END:VEVENT
BEGIN:VEVENT
DTSTART;TZID=America/Chicago:20240301T110000
DTEND;TZID=America/Chicago:20240301T235900
DTSTAMP:20260422T235419
CREATED:20240110T234444Z
LAST-MODIFIED:20260123T151734Z
UID:10009399-1709290800-1709337540@thequarrythornton.com
SUMMARY:Kitchen open 11-9 Tavern open 11-12.
DESCRIPTION:
URL:https://thequarrythornton.com/event/kitchen-taven-open-11-12-live-music-every-friday-100-winner-karaoke-every-other/2024-03-01/
END:VEVENT
BEGIN:VEVENT
DTSTART;TZID=America/Chicago:20240229T110000
DTEND;TZID=America/Chicago:20240229T235900
DTSTAMP:20260422T235419
CREATED:20240110T233826Z
LAST-MODIFIED:20250510T190549Z
UID:10011664-1709204400-1709251140@thequarrythornton.com
SUMMARY:Kitchen open 11-9 Tavern open 11-11. 1/2 price hot dogs or chili cheese dogs. Dine in only.
DESCRIPTION:
URL:https://thequarrythornton.com/event/kitchen-open-11-9-tavern-open-11-12-open-mic-7-10/2024-02-29/
END:VEVENT
BEGIN:VEVENT
DTSTART;TZID=America/Chicago:20240228T110000
DTEND;TZID=America/Chicago:20240228T230000
DTSTAMP:20260422T235419
CREATED:20240110T233647Z
LAST-MODIFIED:20250510T190409Z
UID:10011105-1709118000-1709161200@thequarrythornton.com
SUMMARY:Kitchen open 11-9 Tavern open 11-11. Wing Wednesday 1/2 price traditional wings. Dine in only.
DESCRIPTION:
URL:https://thequarrythornton.com/event/kitchen-open-3-9-tavern-open-3-11-free-bingo-every-wednesday-7-9/2024-02-28/
END:VEVENT
BEGIN:VEVENT
DTSTART;TZID=America/Chicago:20240227T110000
DTEND;TZID=America/Chicago:20240227T230000
DTSTAMP:20260422T235419
CREATED:20240110T235532Z
LAST-MODIFIED:20250325T221155Z
UID:10011384-1709031600-1709074800@thequarrythornton.com
SUMMARY:Kitchen open 11-9 Tavern open 11-11. Taco Tuesday! 3 beef\, pork or chicken $7.50
DESCRIPTION:
URL:https://thequarrythornton.com/event/kitchen-open-3-9-tavern-open-3-11-2/2024-02-27/
END:VEVENT
BEGIN:VEVENT
DTSTART;TZID=America/Chicago:20240226T110000
DTEND;TZID=America/Chicago:20240226T230000
DTSTAMP:20260422T235419
CREATED:20240110T235437Z
LAST-MODIFIED:20250510T191022Z
UID:10010825-1708945200-1708988400@thequarrythornton.com
SUMMARY:Kitchen open 11-9 Tavern open 11-11. 1/2 price pizza. Dine in only.
DESCRIPTION:
URL:https://thequarrythornton.com/event/kitchen-open-3-9-tavern-open-3-11/2024-02-26/
END:VEVENT
BEGIN:VEVENT
DTSTART;TZID=America/Chicago:20240225T110000
DTEND;TZID=America/Chicago:20240225T230000
DTSTAMP:20260422T235419
CREATED:20240110T235336Z
LAST-MODIFIED:20260113T182408Z
UID:10009920-1708858800-1708902000@thequarrythornton.com
SUMMARY:Kitchen open 11-7 Tavern open 11-11.
DESCRIPTION:
URL:https://thequarrythornton.com/event/kitchen-open-11-7-tavern-open-11-11/2024-02-25/
END:VEVENT
BEGIN:VEVENT
DTSTART;TZID=America/Chicago:20240224T190000
DTEND;TZID=America/Chicago:20240224T220000
DTSTAMP:20260422T235419
CREATED:20231117T185719Z
LAST-MODIFIED:20231117T185719Z
UID:10007550-1708801200-1708812000@thequarrythornton.com
SUMMARY:Raw Dawgs- classics\, motown\, blues\, soul
DESCRIPTION:
URL:https://thequarrythornton.com/event/raw-dawgs-classics-motown-blues-soul/
END:VEVENT
BEGIN:VEVENT
DTSTART;TZID=America/Chicago:20240224T110000
DTEND;TZID=America/Chicago:20240224T235900
DTSTAMP:20260422T235419
CREATED:20240110T235242Z
LAST-MODIFIED:20240313T170456Z
UID:10009659-1708772400-1708819140@thequarrythornton.com
SUMMARY:Kitchen open 11-9 Tavern open 11-12. Live Music every Saturday 7-10
DESCRIPTION:
URL:https://thequarrythornton.com/event/kitchen-tavern-open-11-12-live-music-every-saturday/2024-02-24/
END:VEVENT
BEGIN:VEVENT
DTSTART;TZID=America/Chicago:20240223T190000
DTEND;TZID=America/Chicago:20240223T220000
DTSTAMP:20260422T235419
CREATED:20231128T194813Z
LAST-MODIFIED:20231128T194813Z
UID:10007562-1708714800-1708725600@thequarrythornton.com
SUMMARY:R&L Rhythm Review- smooth tunes\, exciting harmonies
DESCRIPTION:
URL:https://thequarrythornton.com/event/rl-rhythm-review-smooth-tunes-exciting-harmonies/
END:VEVENT
BEGIN:VEVENT
DTSTART;TZID=America/Chicago:20240223T110000
DTEND;TZID=America/Chicago:20240223T235900
DTSTAMP:20260422T235419
CREATED:20240110T234444Z
LAST-MODIFIED:20260123T151734Z
UID:10009398-1708686000-1708732740@thequarrythornton.com
SUMMARY:Kitchen open 11-9 Tavern open 11-12.
DESCRIPTION:
URL:https://thequarrythornton.com/event/kitchen-taven-open-11-12-live-music-every-friday-100-winner-karaoke-every-other/2024-02-23/
END:VEVENT
BEGIN:VEVENT
DTSTART;TZID=America/Chicago:20240222T110000
DTEND;TZID=America/Chicago:20240222T235900
DTSTAMP:20260422T235419
CREATED:20240110T233826Z
LAST-MODIFIED:20250510T190549Z
UID:10011663-1708599600-1708646340@thequarrythornton.com
SUMMARY:Kitchen open 11-9 Tavern open 11-11. 1/2 price hot dogs or chili cheese dogs. Dine in only.
DESCRIPTION:
URL:https://thequarrythornton.com/event/kitchen-open-11-9-tavern-open-11-12-open-mic-7-10/2024-02-22/
END:VEVENT
BEGIN:VEVENT
DTSTART;TZID=America/Chicago:20240221T110000
DTEND;TZID=America/Chicago:20240221T230000
DTSTAMP:20260422T235419
CREATED:20240110T233647Z
LAST-MODIFIED:20250510T190409Z
UID:10011104-1708513200-1708556400@thequarrythornton.com
SUMMARY:Kitchen open 11-9 Tavern open 11-11. Wing Wednesday 1/2 price traditional wings. Dine in only.
DESCRIPTION:
URL:https://thequarrythornton.com/event/kitchen-open-3-9-tavern-open-3-11-free-bingo-every-wednesday-7-9/2024-02-21/
END:VEVENT
END:VCALENDAR