BEGIN:VCALENDAR
VERSION:2.0
PRODID:-//The Quarry Ballroom - ECPv6.15.17.1//NONSGML v1.0//EN
CALSCALE:GREGORIAN
METHOD:PUBLISH
X-WR-CALNAME:The Quarry Ballroom
X-ORIGINAL-URL:https://thequarrythornton.com
X-WR-CALDESC:Events for The Quarry Ballroom
REFRESH-INTERVAL;VALUE=DURATION:PT1H
X-Robots-Tag:noindex
X-PUBLISHED-TTL:PT1H
BEGIN:VTIMEZONE
TZID:America/Chicago
BEGIN:DAYLIGHT
TZOFFSETFROM:-0600
TZOFFSETTO:-0500
TZNAME:CDT
DTSTART:20260308T080000
END:DAYLIGHT
BEGIN:STANDARD
TZOFFSETFROM:-0500
TZOFFSETTO:-0600
TZNAME:CST
DTSTART:20261101T070000
END:STANDARD
BEGIN:DAYLIGHT
TZOFFSETFROM:-0600
TZOFFSETTO:-0500
TZNAME:CDT
DTSTART:20270314T080000
END:DAYLIGHT
BEGIN:STANDARD
TZOFFSETFROM:-0500
TZOFFSETTO:-0600
TZNAME:CST
DTSTART:20271107T070000
END:STANDARD
BEGIN:DAYLIGHT
TZOFFSETFROM:-0600
TZOFFSETTO:-0500
TZNAME:CDT
DTSTART:20280312T080000
END:DAYLIGHT
BEGIN:STANDARD
TZOFFSETFROM:-0500
TZOFFSETTO:-0600
TZNAME:CST
DTSTART:20281105T070000
END:STANDARD
END:VTIMEZONE
BEGIN:VEVENT
DTSTART;TZID=America/Chicago:20270524T110000
DTEND;TZID=America/Chicago:20270524T230000
DTSTAMP:20260422T142449
CREATED:20240110T235437Z
LAST-MODIFIED:20250510T191022Z
UID:10010994-1811156400-1811199600@thequarrythornton.com
SUMMARY:Kitchen open 11-9 Tavern open 11-11. 1/2 price pizza. Dine in only.
DESCRIPTION:
URL:https://thequarrythornton.com/event/kitchen-open-3-9-tavern-open-3-11/2027-05-24/
END:VEVENT
BEGIN:VEVENT
DTSTART;TZID=America/Chicago:20270525T110000
DTEND;TZID=America/Chicago:20270525T230000
DTSTAMP:20260422T142449
CREATED:20240110T235532Z
LAST-MODIFIED:20250325T221155Z
UID:10011553-1811242800-1811286000@thequarrythornton.com
SUMMARY:Kitchen open 11-9 Tavern open 11-11. Taco Tuesday! 3 beef\, pork or chicken $7.50
DESCRIPTION:
URL:https://thequarrythornton.com/event/kitchen-open-3-9-tavern-open-3-11-2/2027-05-25/
END:VEVENT
BEGIN:VEVENT
DTSTART;TZID=America/Chicago:20270526T110000
DTEND;TZID=America/Chicago:20270526T230000
DTSTAMP:20260422T142449
CREATED:20240110T233647Z
LAST-MODIFIED:20250510T190409Z
UID:10011274-1811329200-1811372400@thequarrythornton.com
SUMMARY:Kitchen open 11-9 Tavern open 11-11. Wing Wednesday 1/2 price traditional wings. Dine in only.
DESCRIPTION:
URL:https://thequarrythornton.com/event/kitchen-open-3-9-tavern-open-3-11-free-bingo-every-wednesday-7-9/2027-05-26/
END:VEVENT
BEGIN:VEVENT
DTSTART;TZID=America/Chicago:20270527T110000
DTEND;TZID=America/Chicago:20270527T235900
DTSTAMP:20260422T142449
CREATED:20240110T233826Z
LAST-MODIFIED:20250510T190549Z
UID:10011833-1811415600-1811462340@thequarrythornton.com
SUMMARY:Kitchen open 11-9 Tavern open 11-11. 1/2 price hot dogs or chili cheese dogs. Dine in only.
DESCRIPTION:
URL:https://thequarrythornton.com/event/kitchen-open-11-9-tavern-open-11-12-open-mic-7-10/2027-05-27/
END:VEVENT
BEGIN:VEVENT
DTSTART;TZID=America/Chicago:20270528T110000
DTEND;TZID=America/Chicago:20270528T235900
DTSTAMP:20260422T142449
CREATED:20240110T234444Z
LAST-MODIFIED:20260123T151734Z
UID:10009568-1811502000-1811548740@thequarrythornton.com
SUMMARY:Kitchen open 11-9 Tavern open 11-12.
DESCRIPTION:
URL:https://thequarrythornton.com/event/kitchen-taven-open-11-12-live-music-every-friday-100-winner-karaoke-every-other/2027-05-28/
END:VEVENT
BEGIN:VEVENT
DTSTART;TZID=America/Chicago:20270529T110000
DTEND;TZID=America/Chicago:20270529T235900
DTSTAMP:20260422T142449
CREATED:20240110T235242Z
LAST-MODIFIED:20240313T170456Z
UID:10009829-1811588400-1811635140@thequarrythornton.com
SUMMARY:Kitchen open 11-9 Tavern open 11-12. Live Music every Saturday 7-10
DESCRIPTION:
URL:https://thequarrythornton.com/event/kitchen-tavern-open-11-12-live-music-every-saturday/2027-05-29/
END:VEVENT
BEGIN:VEVENT
DTSTART;TZID=America/Chicago:20270530T110000
DTEND;TZID=America/Chicago:20270530T230000
DTSTAMP:20260422T142449
CREATED:20240110T235336Z
LAST-MODIFIED:20260113T182408Z
UID:10010090-1811674800-1811718000@thequarrythornton.com
SUMMARY:Kitchen open 11-7 Tavern open 11-11.
DESCRIPTION:
URL:https://thequarrythornton.com/event/kitchen-open-11-7-tavern-open-11-11/2027-05-30/
END:VEVENT
BEGIN:VEVENT
DTSTART;TZID=America/Chicago:20270531T110000
DTEND;TZID=America/Chicago:20270531T230000
DTSTAMP:20260422T142449
CREATED:20240110T235437Z
LAST-MODIFIED:20250510T191022Z
UID:10010995-1811761200-1811804400@thequarrythornton.com
SUMMARY:Kitchen open 11-9 Tavern open 11-11. 1/2 price pizza. Dine in only.
DESCRIPTION:
URL:https://thequarrythornton.com/event/kitchen-open-3-9-tavern-open-3-11/2027-05-31/
END:VEVENT
BEGIN:VEVENT
DTSTART;TZID=America/Chicago:20270601T110000
DTEND;TZID=America/Chicago:20270601T230000
DTSTAMP:20260422T142449
CREATED:20240110T235532Z
LAST-MODIFIED:20250325T221155Z
UID:10011554-1811847600-1811890800@thequarrythornton.com
SUMMARY:Kitchen open 11-9 Tavern open 11-11. Taco Tuesday! 3 beef\, pork or chicken $7.50
DESCRIPTION:
URL:https://thequarrythornton.com/event/kitchen-open-3-9-tavern-open-3-11-2/2027-06-01/
END:VEVENT
BEGIN:VEVENT
DTSTART;TZID=America/Chicago:20270602T110000
DTEND;TZID=America/Chicago:20270602T230000
DTSTAMP:20260422T142449
CREATED:20240110T233647Z
LAST-MODIFIED:20250510T190409Z
UID:10011275-1811934000-1811977200@thequarrythornton.com
SUMMARY:Kitchen open 11-9 Tavern open 11-11. Wing Wednesday 1/2 price traditional wings. Dine in only.
DESCRIPTION:
URL:https://thequarrythornton.com/event/kitchen-open-3-9-tavern-open-3-11-free-bingo-every-wednesday-7-9/2027-06-02/
END:VEVENT
BEGIN:VEVENT
DTSTART;TZID=America/Chicago:20270603T110000
DTEND;TZID=America/Chicago:20270603T235900
DTSTAMP:20260422T142449
CREATED:20240110T233826Z
LAST-MODIFIED:20250510T190549Z
UID:10011834-1812020400-1812067140@thequarrythornton.com
SUMMARY:Kitchen open 11-9 Tavern open 11-11. 1/2 price hot dogs or chili cheese dogs. Dine in only.
DESCRIPTION:
URL:https://thequarrythornton.com/event/kitchen-open-11-9-tavern-open-11-12-open-mic-7-10/2027-06-03/
END:VEVENT
BEGIN:VEVENT
DTSTART;TZID=America/Chicago:20270604T110000
DTEND;TZID=America/Chicago:20270604T235900
DTSTAMP:20260422T142449
CREATED:20240110T234444Z
LAST-MODIFIED:20260123T151734Z
UID:10009569-1812106800-1812153540@thequarrythornton.com
SUMMARY:Kitchen open 11-9 Tavern open 11-12.
DESCRIPTION:
URL:https://thequarrythornton.com/event/kitchen-taven-open-11-12-live-music-every-friday-100-winner-karaoke-every-other/2027-06-04/
END:VEVENT
BEGIN:VEVENT
DTSTART;TZID=America/Chicago:20270605T110000
DTEND;TZID=America/Chicago:20270605T235900
DTSTAMP:20260422T142449
CREATED:20240110T235242Z
LAST-MODIFIED:20240313T170456Z
UID:10009830-1812193200-1812239940@thequarrythornton.com
SUMMARY:Kitchen open 11-9 Tavern open 11-12. Live Music every Saturday 7-10
DESCRIPTION:
URL:https://thequarrythornton.com/event/kitchen-tavern-open-11-12-live-music-every-saturday/2027-06-05/
END:VEVENT
BEGIN:VEVENT
DTSTART;TZID=America/Chicago:20270606T110000
DTEND;TZID=America/Chicago:20270606T230000
DTSTAMP:20260422T142449
CREATED:20240110T235336Z
LAST-MODIFIED:20260113T182408Z
UID:10010091-1812279600-1812322800@thequarrythornton.com
SUMMARY:Kitchen open 11-7 Tavern open 11-11.
DESCRIPTION:
URL:https://thequarrythornton.com/event/kitchen-open-11-7-tavern-open-11-11/2027-06-06/
END:VEVENT
BEGIN:VEVENT
DTSTART;TZID=America/Chicago:20270607T110000
DTEND;TZID=America/Chicago:20270607T230000
DTSTAMP:20260422T142449
CREATED:20240110T235437Z
LAST-MODIFIED:20250510T191022Z
UID:10010996-1812366000-1812409200@thequarrythornton.com
SUMMARY:Kitchen open 11-9 Tavern open 11-11. 1/2 price pizza. Dine in only.
DESCRIPTION:
URL:https://thequarrythornton.com/event/kitchen-open-3-9-tavern-open-3-11/2027-06-07/
END:VEVENT
BEGIN:VEVENT
DTSTART;TZID=America/Chicago:20270608T110000
DTEND;TZID=America/Chicago:20270608T230000
DTSTAMP:20260422T142449
CREATED:20240110T235532Z
LAST-MODIFIED:20250325T221155Z
UID:10011555-1812452400-1812495600@thequarrythornton.com
SUMMARY:Kitchen open 11-9 Tavern open 11-11. Taco Tuesday! 3 beef\, pork or chicken $7.50
DESCRIPTION:
URL:https://thequarrythornton.com/event/kitchen-open-3-9-tavern-open-3-11-2/2027-06-08/
END:VEVENT
BEGIN:VEVENT
DTSTART;TZID=America/Chicago:20270609T110000
DTEND;TZID=America/Chicago:20270609T230000
DTSTAMP:20260422T142449
CREATED:20240110T233647Z
LAST-MODIFIED:20250510T190409Z
UID:10011276-1812538800-1812582000@thequarrythornton.com
SUMMARY:Kitchen open 11-9 Tavern open 11-11. Wing Wednesday 1/2 price traditional wings. Dine in only.
DESCRIPTION:
URL:https://thequarrythornton.com/event/kitchen-open-3-9-tavern-open-3-11-free-bingo-every-wednesday-7-9/2027-06-09/
END:VEVENT
BEGIN:VEVENT
DTSTART;TZID=America/Chicago:20270610T110000
DTEND;TZID=America/Chicago:20270610T235900
DTSTAMP:20260422T142449
CREATED:20240110T233826Z
LAST-MODIFIED:20250510T190549Z
UID:10011835-1812625200-1812671940@thequarrythornton.com
SUMMARY:Kitchen open 11-9 Tavern open 11-11. 1/2 price hot dogs or chili cheese dogs. Dine in only.
DESCRIPTION:
URL:https://thequarrythornton.com/event/kitchen-open-11-9-tavern-open-11-12-open-mic-7-10/2027-06-10/
END:VEVENT
BEGIN:VEVENT
DTSTART;TZID=America/Chicago:20270611T110000
DTEND;TZID=America/Chicago:20270611T235900
DTSTAMP:20260422T142449
CREATED:20240110T234444Z
LAST-MODIFIED:20260123T151734Z
UID:10009570-1812711600-1812758340@thequarrythornton.com
SUMMARY:Kitchen open 11-9 Tavern open 11-12.
DESCRIPTION:
URL:https://thequarrythornton.com/event/kitchen-taven-open-11-12-live-music-every-friday-100-winner-karaoke-every-other/2027-06-11/
END:VEVENT
BEGIN:VEVENT
DTSTART;TZID=America/Chicago:20270612T110000
DTEND;TZID=America/Chicago:20270612T235900
DTSTAMP:20260422T142449
CREATED:20240110T235242Z
LAST-MODIFIED:20240313T170456Z
UID:10009831-1812798000-1812844740@thequarrythornton.com
SUMMARY:Kitchen open 11-9 Tavern open 11-12. Live Music every Saturday 7-10
DESCRIPTION:
URL:https://thequarrythornton.com/event/kitchen-tavern-open-11-12-live-music-every-saturday/2027-06-12/
END:VEVENT
BEGIN:VEVENT
DTSTART;TZID=America/Chicago:20270613T110000
DTEND;TZID=America/Chicago:20270613T230000
DTSTAMP:20260422T142449
CREATED:20240110T235336Z
LAST-MODIFIED:20260113T182408Z
UID:10010092-1812884400-1812927600@thequarrythornton.com
SUMMARY:Kitchen open 11-7 Tavern open 11-11.
DESCRIPTION:
URL:https://thequarrythornton.com/event/kitchen-open-11-7-tavern-open-11-11/2027-06-13/
END:VEVENT
BEGIN:VEVENT
DTSTART;TZID=America/Chicago:20270614T110000
DTEND;TZID=America/Chicago:20270614T230000
DTSTAMP:20260422T142449
CREATED:20240110T235437Z
LAST-MODIFIED:20250510T191022Z
UID:10010997-1812970800-1813014000@thequarrythornton.com
SUMMARY:Kitchen open 11-9 Tavern open 11-11. 1/2 price pizza. Dine in only.
DESCRIPTION:
URL:https://thequarrythornton.com/event/kitchen-open-3-9-tavern-open-3-11/2027-06-14/
END:VEVENT
BEGIN:VEVENT
DTSTART;TZID=America/Chicago:20270615T110000
DTEND;TZID=America/Chicago:20270615T230000
DTSTAMP:20260422T142449
CREATED:20240110T235532Z
LAST-MODIFIED:20250325T221155Z
UID:10011556-1813057200-1813100400@thequarrythornton.com
SUMMARY:Kitchen open 11-9 Tavern open 11-11. Taco Tuesday! 3 beef\, pork or chicken $7.50
DESCRIPTION:
URL:https://thequarrythornton.com/event/kitchen-open-3-9-tavern-open-3-11-2/2027-06-15/
END:VEVENT
BEGIN:VEVENT
DTSTART;TZID=America/Chicago:20270616T110000
DTEND;TZID=America/Chicago:20270616T230000
DTSTAMP:20260422T142449
CREATED:20240110T233647Z
LAST-MODIFIED:20250510T190409Z
UID:10011277-1813143600-1813186800@thequarrythornton.com
SUMMARY:Kitchen open 11-9 Tavern open 11-11. Wing Wednesday 1/2 price traditional wings. Dine in only.
DESCRIPTION:
URL:https://thequarrythornton.com/event/kitchen-open-3-9-tavern-open-3-11-free-bingo-every-wednesday-7-9/2027-06-16/
END:VEVENT
BEGIN:VEVENT
DTSTART;TZID=America/Chicago:20270617T110000
DTEND;TZID=America/Chicago:20270617T235900
DTSTAMP:20260422T142449
CREATED:20240110T233826Z
LAST-MODIFIED:20250510T190549Z
UID:10011836-1813230000-1813276740@thequarrythornton.com
SUMMARY:Kitchen open 11-9 Tavern open 11-11. 1/2 price hot dogs or chili cheese dogs. Dine in only.
DESCRIPTION:
URL:https://thequarrythornton.com/event/kitchen-open-11-9-tavern-open-11-12-open-mic-7-10/2027-06-17/
END:VEVENT
BEGIN:VEVENT
DTSTART;TZID=America/Chicago:20270618T110000
DTEND;TZID=America/Chicago:20270618T235900
DTSTAMP:20260422T142449
CREATED:20240110T234444Z
LAST-MODIFIED:20260123T151734Z
UID:10009571-1813316400-1813363140@thequarrythornton.com
SUMMARY:Kitchen open 11-9 Tavern open 11-12.
DESCRIPTION:
URL:https://thequarrythornton.com/event/kitchen-taven-open-11-12-live-music-every-friday-100-winner-karaoke-every-other/2027-06-18/
END:VEVENT
BEGIN:VEVENT
DTSTART;TZID=America/Chicago:20270619T110000
DTEND;TZID=America/Chicago:20270619T235900
DTSTAMP:20260422T142449
CREATED:20240110T235242Z
LAST-MODIFIED:20240313T170456Z
UID:10009832-1813402800-1813449540@thequarrythornton.com
SUMMARY:Kitchen open 11-9 Tavern open 11-12. Live Music every Saturday 7-10
DESCRIPTION:
URL:https://thequarrythornton.com/event/kitchen-tavern-open-11-12-live-music-every-saturday/2027-06-19/
END:VEVENT
BEGIN:VEVENT
DTSTART;TZID=America/Chicago:20270620T110000
DTEND;TZID=America/Chicago:20270620T230000
DTSTAMP:20260422T142449
CREATED:20240110T235336Z
LAST-MODIFIED:20260113T182408Z
UID:10010093-1813489200-1813532400@thequarrythornton.com
SUMMARY:Kitchen open 11-7 Tavern open 11-11.
DESCRIPTION:
URL:https://thequarrythornton.com/event/kitchen-open-11-7-tavern-open-11-11/2027-06-20/
END:VEVENT
BEGIN:VEVENT
DTSTART;TZID=America/Chicago:20270621T110000
DTEND;TZID=America/Chicago:20270621T230000
DTSTAMP:20260422T142449
CREATED:20240110T235437Z
LAST-MODIFIED:20250510T191022Z
UID:10010998-1813575600-1813618800@thequarrythornton.com
SUMMARY:Kitchen open 11-9 Tavern open 11-11. 1/2 price pizza. Dine in only.
DESCRIPTION:
URL:https://thequarrythornton.com/event/kitchen-open-3-9-tavern-open-3-11/2027-06-21/
END:VEVENT
BEGIN:VEVENT
DTSTART;TZID=America/Chicago:20270622T110000
DTEND;TZID=America/Chicago:20270622T230000
DTSTAMP:20260422T142449
CREATED:20240110T235532Z
LAST-MODIFIED:20250325T221155Z
UID:10011557-1813662000-1813705200@thequarrythornton.com
SUMMARY:Kitchen open 11-9 Tavern open 11-11. Taco Tuesday! 3 beef\, pork or chicken $7.50
DESCRIPTION:
URL:https://thequarrythornton.com/event/kitchen-open-3-9-tavern-open-3-11-2/2027-06-22/
END:VEVENT
END:VCALENDAR