BEGIN:VCALENDAR
VERSION:2.0
PRODID:-//The Quarry Ballroom - ECPv6.15.20//NONSGML v1.0//EN
CALSCALE:GREGORIAN
METHOD:PUBLISH
X-WR-CALNAME:The Quarry Ballroom
X-ORIGINAL-URL:https://thequarrythornton.com
X-WR-CALDESC:Events for The Quarry Ballroom
REFRESH-INTERVAL;VALUE=DURATION:PT1H
X-Robots-Tag:noindex
X-PUBLISHED-TTL:PT1H
BEGIN:VTIMEZONE
TZID:America/Chicago
BEGIN:DAYLIGHT
TZOFFSETFROM:-0600
TZOFFSETTO:-0500
TZNAME:CDT
DTSTART:20230312T080000
END:DAYLIGHT
BEGIN:STANDARD
TZOFFSETFROM:-0500
TZOFFSETTO:-0600
TZNAME:CST
DTSTART:20231105T070000
END:STANDARD
BEGIN:DAYLIGHT
TZOFFSETFROM:-0600
TZOFFSETTO:-0500
TZNAME:CDT
DTSTART:20240310T080000
END:DAYLIGHT
BEGIN:STANDARD
TZOFFSETFROM:-0500
TZOFFSETTO:-0600
TZNAME:CST
DTSTART:20241103T070000
END:STANDARD
BEGIN:DAYLIGHT
TZOFFSETFROM:-0600
TZOFFSETTO:-0500
TZNAME:CDT
DTSTART:20250309T080000
END:DAYLIGHT
BEGIN:STANDARD
TZOFFSETFROM:-0500
TZOFFSETTO:-0600
TZNAME:CST
DTSTART:20251102T070000
END:STANDARD
END:VTIMEZONE
BEGIN:VEVENT
DTSTART;TZID=America/Chicago:20240511T110000
DTEND;TZID=America/Chicago:20240511T235900
DTSTAMP:20260423T025956
CREATED:20240110T235242Z
LAST-MODIFIED:20240313T170456Z
UID:10009670-1715425200-1715471940@thequarrythornton.com
SUMMARY:Kitchen open 11-9 Tavern open 11-12. Live Music every Saturday 7-10
DESCRIPTION:
URL:https://thequarrythornton.com/event/kitchen-tavern-open-11-12-live-music-every-saturday/2024-05-11/
END:VEVENT
BEGIN:VEVENT
DTSTART;TZID=America/Chicago:20240510T110000
DTEND;TZID=America/Chicago:20240510T235900
DTSTAMP:20260423T025956
CREATED:20240110T234444Z
LAST-MODIFIED:20260123T151734Z
UID:10009409-1715338800-1715385540@thequarrythornton.com
SUMMARY:Kitchen open 11-9 Tavern open 11-12.
DESCRIPTION:
URL:https://thequarrythornton.com/event/kitchen-taven-open-11-12-live-music-every-friday-100-winner-karaoke-every-other/2024-05-10/
END:VEVENT
BEGIN:VEVENT
DTSTART;TZID=America/Chicago:20240509T110000
DTEND;TZID=America/Chicago:20240509T235900
DTSTAMP:20260423T025956
CREATED:20240110T233826Z
LAST-MODIFIED:20250510T190549Z
UID:10011674-1715252400-1715299140@thequarrythornton.com
SUMMARY:Kitchen open 11-9 Tavern open 11-11. 1/2 price hot dogs or chili cheese dogs. Dine in only.
DESCRIPTION:
URL:https://thequarrythornton.com/event/kitchen-open-11-9-tavern-open-11-12-open-mic-7-10/2024-05-09/
END:VEVENT
BEGIN:VEVENT
DTSTART;TZID=America/Chicago:20240508T110000
DTEND;TZID=America/Chicago:20240508T230000
DTSTAMP:20260423T025956
CREATED:20240110T233647Z
LAST-MODIFIED:20250510T190409Z
UID:10011115-1715166000-1715209200@thequarrythornton.com
SUMMARY:Kitchen open 11-9 Tavern open 11-11. Wing Wednesday 1/2 price traditional wings. Dine in only.
DESCRIPTION:
URL:https://thequarrythornton.com/event/kitchen-open-3-9-tavern-open-3-11-free-bingo-every-wednesday-7-9/2024-05-08/
END:VEVENT
BEGIN:VEVENT
DTSTART;TZID=America/Chicago:20240507T110000
DTEND;TZID=America/Chicago:20240507T230000
DTSTAMP:20260423T025956
CREATED:20240110T235532Z
LAST-MODIFIED:20250325T221155Z
UID:10011394-1715079600-1715122800@thequarrythornton.com
SUMMARY:Kitchen open 11-9 Tavern open 11-11. Taco Tuesday! 3 beef\, pork or chicken $7.50
DESCRIPTION:
URL:https://thequarrythornton.com/event/kitchen-open-3-9-tavern-open-3-11-2/2024-05-07/
END:VEVENT
BEGIN:VEVENT
DTSTART;TZID=America/Chicago:20240506T110000
DTEND;TZID=America/Chicago:20240506T230000
DTSTAMP:20260423T025956
CREATED:20240110T235437Z
LAST-MODIFIED:20250510T191022Z
UID:10010835-1714993200-1715036400@thequarrythornton.com
SUMMARY:Kitchen open 11-9 Tavern open 11-11. 1/2 price pizza. Dine in only.
DESCRIPTION:
URL:https://thequarrythornton.com/event/kitchen-open-3-9-tavern-open-3-11/2024-05-06/
END:VEVENT
BEGIN:VEVENT
DTSTART;TZID=America/Chicago:20240505T110000
DTEND;TZID=America/Chicago:20240505T230000
DTSTAMP:20260423T025956
CREATED:20240110T235336Z
LAST-MODIFIED:20260113T182408Z
UID:10009930-1714906800-1714950000@thequarrythornton.com
SUMMARY:Kitchen open 11-7 Tavern open 11-11.
DESCRIPTION:
URL:https://thequarrythornton.com/event/kitchen-open-11-7-tavern-open-11-11/2024-05-05/
END:VEVENT
BEGIN:VEVENT
DTSTART;TZID=America/Chicago:20240504T190000
DTEND;TZID=America/Chicago:20240504T220000
DTSTAMP:20260423T025956
CREATED:20231129T163727Z
LAST-MODIFIED:20231223T194443Z
UID:10007564-1714849200-1714860000@thequarrythornton.com
SUMMARY:Raw Dawgs- rock n' roll
DESCRIPTION:
URL:https://thequarrythornton.com/event/raw-dawgs-rock-n-roll/
END:VEVENT
BEGIN:VEVENT
DTSTART;TZID=America/Chicago:20240504T110000
DTEND;TZID=America/Chicago:20240504T235900
DTSTAMP:20260423T025956
CREATED:20240110T235242Z
LAST-MODIFIED:20240313T170456Z
UID:10009669-1714820400-1714867140@thequarrythornton.com
SUMMARY:Kitchen open 11-9 Tavern open 11-12. Live Music every Saturday 7-10
DESCRIPTION:
URL:https://thequarrythornton.com/event/kitchen-tavern-open-11-12-live-music-every-saturday/2024-05-04/
END:VEVENT
BEGIN:VEVENT
DTSTART;TZID=America/Chicago:20240503T190000
DTEND;TZID=America/Chicago:20240503T220000
DTSTAMP:20260423T025956
CREATED:20231018T173353Z
LAST-MODIFIED:20231223T194144Z
UID:10007519-1714762800-1714773600@thequarrythornton.com
SUMMARY:Larry Wayne Kent & Friends- classic country/ southern rock
DESCRIPTION:
URL:https://thequarrythornton.com/event/larry-wayne-kent-friends-classic-country-southern-rock/
END:VEVENT
BEGIN:VEVENT
DTSTART;TZID=America/Chicago:20240503T110000
DTEND;TZID=America/Chicago:20240503T235900
DTSTAMP:20260423T025956
CREATED:20240110T234444Z
LAST-MODIFIED:20260123T151734Z
UID:10009408-1714734000-1714780740@thequarrythornton.com
SUMMARY:Kitchen open 11-9 Tavern open 11-12.
DESCRIPTION:
URL:https://thequarrythornton.com/event/kitchen-taven-open-11-12-live-music-every-friday-100-winner-karaoke-every-other/2024-05-03/
END:VEVENT
BEGIN:VEVENT
DTSTART;TZID=America/Chicago:20240502T110000
DTEND;TZID=America/Chicago:20240502T235900
DTSTAMP:20260423T025956
CREATED:20240110T233826Z
LAST-MODIFIED:20250510T190549Z
UID:10011673-1714647600-1714694340@thequarrythornton.com
SUMMARY:Kitchen open 11-9 Tavern open 11-11. 1/2 price hot dogs or chili cheese dogs. Dine in only.
DESCRIPTION:
URL:https://thequarrythornton.com/event/kitchen-open-11-9-tavern-open-11-12-open-mic-7-10/2024-05-02/
END:VEVENT
BEGIN:VEVENT
DTSTART;TZID=America/Chicago:20240501T110000
DTEND;TZID=America/Chicago:20240501T230000
DTSTAMP:20260423T025956
CREATED:20240110T233647Z
LAST-MODIFIED:20250510T190409Z
UID:10011114-1714561200-1714604400@thequarrythornton.com
SUMMARY:Kitchen open 11-9 Tavern open 11-11. Wing Wednesday 1/2 price traditional wings. Dine in only.
DESCRIPTION:
URL:https://thequarrythornton.com/event/kitchen-open-3-9-tavern-open-3-11-free-bingo-every-wednesday-7-9/2024-05-01/
END:VEVENT
BEGIN:VEVENT
DTSTART;TZID=America/Chicago:20240430T110000
DTEND;TZID=America/Chicago:20240430T230000
DTSTAMP:20260423T025956
CREATED:20240110T235532Z
LAST-MODIFIED:20250325T221155Z
UID:10011393-1714474800-1714518000@thequarrythornton.com
SUMMARY:Kitchen open 11-9 Tavern open 11-11. Taco Tuesday! 3 beef\, pork or chicken $7.50
DESCRIPTION:
URL:https://thequarrythornton.com/event/kitchen-open-3-9-tavern-open-3-11-2/2024-04-30/
END:VEVENT
BEGIN:VEVENT
DTSTART;TZID=America/Chicago:20240429T110000
DTEND;TZID=America/Chicago:20240429T230000
DTSTAMP:20260423T025956
CREATED:20240110T235437Z
LAST-MODIFIED:20250510T191022Z
UID:10010834-1714388400-1714431600@thequarrythornton.com
SUMMARY:Kitchen open 11-9 Tavern open 11-11. 1/2 price pizza. Dine in only.
DESCRIPTION:
URL:https://thequarrythornton.com/event/kitchen-open-3-9-tavern-open-3-11/2024-04-29/
END:VEVENT
BEGIN:VEVENT
DTSTART;TZID=America/Chicago:20240428T110000
DTEND;TZID=America/Chicago:20240428T230000
DTSTAMP:20260423T025956
CREATED:20240110T235336Z
LAST-MODIFIED:20260113T182408Z
UID:10009929-1714302000-1714345200@thequarrythornton.com
SUMMARY:Kitchen open 11-7 Tavern open 11-11.
DESCRIPTION:
URL:https://thequarrythornton.com/event/kitchen-open-11-7-tavern-open-11-11/2024-04-28/
END:VEVENT
BEGIN:VEVENT
DTSTART;TZID=America/Chicago:20240427T190000
DTEND;TZID=America/Chicago:20240427T220000
DTSTAMP:20260423T025956
CREATED:20231121T173341Z
LAST-MODIFIED:20231121T173341Z
UID:10007552-1714244400-1714255200@thequarrythornton.com
SUMMARY:Classic- female fronted classic rock
DESCRIPTION:
URL:https://thequarrythornton.com/event/classic-female-fronted-classic-rock-3/
END:VEVENT
BEGIN:VEVENT
DTSTART;TZID=America/Chicago:20240427T110000
DTEND;TZID=America/Chicago:20240427T235900
DTSTAMP:20260423T025956
CREATED:20240110T235242Z
LAST-MODIFIED:20240313T170456Z
UID:10009668-1714215600-1714262340@thequarrythornton.com
SUMMARY:Kitchen open 11-9 Tavern open 11-12. Live Music every Saturday 7-10
DESCRIPTION:
URL:https://thequarrythornton.com/event/kitchen-tavern-open-11-12-live-music-every-saturday/2024-04-27/
END:VEVENT
BEGIN:VEVENT
DTSTART;TZID=America/Chicago:20240426T110000
DTEND;TZID=America/Chicago:20240426T235900
DTSTAMP:20260423T025956
CREATED:20240110T234444Z
LAST-MODIFIED:20260123T151734Z
UID:10009407-1714129200-1714175940@thequarrythornton.com
SUMMARY:Kitchen open 11-9 Tavern open 11-12.
DESCRIPTION:
URL:https://thequarrythornton.com/event/kitchen-taven-open-11-12-live-music-every-friday-100-winner-karaoke-every-other/2024-04-26/
END:VEVENT
BEGIN:VEVENT
DTSTART;TZID=America/Chicago:20240425T110000
DTEND;TZID=America/Chicago:20240425T235900
DTSTAMP:20260423T025956
CREATED:20240110T233826Z
LAST-MODIFIED:20250510T190549Z
UID:10011672-1714042800-1714089540@thequarrythornton.com
SUMMARY:Kitchen open 11-9 Tavern open 11-11. 1/2 price hot dogs or chili cheese dogs. Dine in only.
DESCRIPTION:
URL:https://thequarrythornton.com/event/kitchen-open-11-9-tavern-open-11-12-open-mic-7-10/2024-04-25/
END:VEVENT
BEGIN:VEVENT
DTSTART;TZID=America/Chicago:20240424T110000
DTEND;TZID=America/Chicago:20240424T230000
DTSTAMP:20260423T025956
CREATED:20240110T233647Z
LAST-MODIFIED:20250510T190409Z
UID:10011113-1713956400-1713999600@thequarrythornton.com
SUMMARY:Kitchen open 11-9 Tavern open 11-11. Wing Wednesday 1/2 price traditional wings. Dine in only.
DESCRIPTION:
URL:https://thequarrythornton.com/event/kitchen-open-3-9-tavern-open-3-11-free-bingo-every-wednesday-7-9/2024-04-24/
END:VEVENT
BEGIN:VEVENT
DTSTART;TZID=America/Chicago:20240423T110000
DTEND;TZID=America/Chicago:20240423T230000
DTSTAMP:20260423T025956
CREATED:20240110T235532Z
LAST-MODIFIED:20250325T221155Z
UID:10011392-1713870000-1713913200@thequarrythornton.com
SUMMARY:Kitchen open 11-9 Tavern open 11-11. Taco Tuesday! 3 beef\, pork or chicken $7.50
DESCRIPTION:
URL:https://thequarrythornton.com/event/kitchen-open-3-9-tavern-open-3-11-2/2024-04-23/
END:VEVENT
BEGIN:VEVENT
DTSTART;TZID=America/Chicago:20240422T110000
DTEND;TZID=America/Chicago:20240422T230000
DTSTAMP:20260423T025956
CREATED:20240110T235437Z
LAST-MODIFIED:20250510T191022Z
UID:10010833-1713783600-1713826800@thequarrythornton.com
SUMMARY:Kitchen open 11-9 Tavern open 11-11. 1/2 price pizza. Dine in only.
DESCRIPTION:
URL:https://thequarrythornton.com/event/kitchen-open-3-9-tavern-open-3-11/2024-04-22/
END:VEVENT
BEGIN:VEVENT
DTSTART;TZID=America/Chicago:20240421T110000
DTEND;TZID=America/Chicago:20240421T230000
DTSTAMP:20260423T025956
CREATED:20240110T235336Z
LAST-MODIFIED:20260113T182408Z
UID:10009928-1713697200-1713740400@thequarrythornton.com
SUMMARY:Kitchen open 11-7 Tavern open 11-11.
DESCRIPTION:
URL:https://thequarrythornton.com/event/kitchen-open-11-7-tavern-open-11-11/2024-04-21/
END:VEVENT
BEGIN:VEVENT
DTSTART;TZID=America/Chicago:20240420T190000
DTEND;TZID=America/Chicago:20240420T220000
DTSTAMP:20260423T025956
CREATED:20231018T173437Z
LAST-MODIFIED:20231223T194054Z
UID:10007520-1713639600-1713650400@thequarrythornton.com
SUMMARY:Speakeasy- soul/ rock
DESCRIPTION:
URL:https://thequarrythornton.com/event/speakeasy-soul-rock/
END:VEVENT
BEGIN:VEVENT
DTSTART;TZID=America/Chicago:20240420T110000
DTEND;TZID=America/Chicago:20240420T235900
DTSTAMP:20260423T025956
CREATED:20240110T235242Z
LAST-MODIFIED:20240313T170456Z
UID:10009667-1713610800-1713657540@thequarrythornton.com
SUMMARY:Kitchen open 11-9 Tavern open 11-12. Live Music every Saturday 7-10
DESCRIPTION:
URL:https://thequarrythornton.com/event/kitchen-tavern-open-11-12-live-music-every-saturday/2024-04-20/
END:VEVENT
BEGIN:VEVENT
DTSTART;TZID=America/Chicago:20240419T190000
DTEND;TZID=America/Chicago:20240419T220000
DTSTAMP:20260423T025956
CREATED:20230830T162645Z
LAST-MODIFIED:20231223T194222Z
UID:10007505-1713553200-1713564000@thequarrythornton.com
SUMMARY:Susan Williams
DESCRIPTION:
URL:https://thequarrythornton.com/event/susan-williams-2/
END:VEVENT
BEGIN:VEVENT
DTSTART;TZID=America/Chicago:20240419T110000
DTEND;TZID=America/Chicago:20240419T235900
DTSTAMP:20260423T025956
CREATED:20240110T234444Z
LAST-MODIFIED:20260123T151734Z
UID:10009406-1713524400-1713571140@thequarrythornton.com
SUMMARY:Kitchen open 11-9 Tavern open 11-12.
DESCRIPTION:
URL:https://thequarrythornton.com/event/kitchen-taven-open-11-12-live-music-every-friday-100-winner-karaoke-every-other/2024-04-19/
END:VEVENT
BEGIN:VEVENT
DTSTART;TZID=America/Chicago:20240418T110000
DTEND;TZID=America/Chicago:20240418T235900
DTSTAMP:20260423T025956
CREATED:20240110T233826Z
LAST-MODIFIED:20250510T190549Z
UID:10011671-1713438000-1713484740@thequarrythornton.com
SUMMARY:Kitchen open 11-9 Tavern open 11-11. 1/2 price hot dogs or chili cheese dogs. Dine in only.
DESCRIPTION:
URL:https://thequarrythornton.com/event/kitchen-open-11-9-tavern-open-11-12-open-mic-7-10/2024-04-18/
END:VEVENT
BEGIN:VEVENT
DTSTART;TZID=America/Chicago:20240417T110000
DTEND;TZID=America/Chicago:20240417T230000
DTSTAMP:20260423T025956
CREATED:20240110T233647Z
LAST-MODIFIED:20250510T190409Z
UID:10011112-1713351600-1713394800@thequarrythornton.com
SUMMARY:Kitchen open 11-9 Tavern open 11-11. Wing Wednesday 1/2 price traditional wings. Dine in only.
DESCRIPTION:
URL:https://thequarrythornton.com/event/kitchen-open-3-9-tavern-open-3-11-free-bingo-every-wednesday-7-9/2024-04-17/
END:VEVENT
END:VCALENDAR