BEGIN:VCALENDAR
VERSION:2.0
PRODID:-//The Quarry Ballroom - ECPv6.15.17.1//NONSGML v1.0//EN
CALSCALE:GREGORIAN
METHOD:PUBLISH
X-ORIGINAL-URL:https://thequarrythornton.com
X-WR-CALDESC:Events for The Quarry Ballroom
REFRESH-INTERVAL;VALUE=DURATION:PT1H
X-Robots-Tag:noindex
X-PUBLISHED-TTL:PT1H
BEGIN:VTIMEZONE
TZID:America/Chicago
BEGIN:DAYLIGHT
TZOFFSETFROM:-0600
TZOFFSETTO:-0500
TZNAME:CDT
DTSTART:20260308T080000
END:DAYLIGHT
BEGIN:STANDARD
TZOFFSETFROM:-0500
TZOFFSETTO:-0600
TZNAME:CST
DTSTART:20261101T070000
END:STANDARD
BEGIN:DAYLIGHT
TZOFFSETFROM:-0600
TZOFFSETTO:-0500
TZNAME:CDT
DTSTART:20270314T080000
END:DAYLIGHT
BEGIN:STANDARD
TZOFFSETFROM:-0500
TZOFFSETTO:-0600
TZNAME:CST
DTSTART:20271107T070000
END:STANDARD
BEGIN:DAYLIGHT
TZOFFSETFROM:-0600
TZOFFSETTO:-0500
TZNAME:CDT
DTSTART:20280312T080000
END:DAYLIGHT
BEGIN:STANDARD
TZOFFSETFROM:-0500
TZOFFSETTO:-0600
TZNAME:CST
DTSTART:20281105T070000
END:STANDARD
END:VTIMEZONE
BEGIN:VEVENT
DTSTART;TZID=America/Chicago:20270406T110000
DTEND;TZID=America/Chicago:20270406T230000
DTSTAMP:20260422T074505
CREATED:20240110T235532Z
LAST-MODIFIED:20250325T221155Z
UID:10011546-1807009200-1807052400@thequarrythornton.com
SUMMARY:Kitchen open 11-9 Tavern open 11-11. Taco Tuesday! 3 beef\, pork or chicken $7.50
DESCRIPTION:
URL:https://thequarrythornton.com/event/kitchen-open-3-9-tavern-open-3-11-2/2027-04-06/
END:VEVENT
BEGIN:VEVENT
DTSTART;TZID=America/Chicago:20270407T110000
DTEND;TZID=America/Chicago:20270407T230000
DTSTAMP:20260422T074505
CREATED:20240110T233647Z
LAST-MODIFIED:20250510T190409Z
UID:10011267-1807095600-1807138800@thequarrythornton.com
SUMMARY:Kitchen open 11-9 Tavern open 11-11. Wing Wednesday 1/2 price traditional wings. Dine in only.
DESCRIPTION:
URL:https://thequarrythornton.com/event/kitchen-open-3-9-tavern-open-3-11-free-bingo-every-wednesday-7-9/2027-04-07/
END:VEVENT
BEGIN:VEVENT
DTSTART;TZID=America/Chicago:20270408T110000
DTEND;TZID=America/Chicago:20270408T235900
DTSTAMP:20260422T074505
CREATED:20240110T233826Z
LAST-MODIFIED:20250510T190549Z
UID:10011826-1807182000-1807228740@thequarrythornton.com
SUMMARY:Kitchen open 11-9 Tavern open 11-11. 1/2 price hot dogs or chili cheese dogs. Dine in only.
DESCRIPTION:
URL:https://thequarrythornton.com/event/kitchen-open-11-9-tavern-open-11-12-open-mic-7-10/2027-04-08/
END:VEVENT
BEGIN:VEVENT
DTSTART;TZID=America/Chicago:20270409T110000
DTEND;TZID=America/Chicago:20270409T235900
DTSTAMP:20260422T074505
CREATED:20240110T234444Z
LAST-MODIFIED:20260123T151734Z
UID:10009561-1807268400-1807315140@thequarrythornton.com
SUMMARY:Kitchen open 11-9 Tavern open 11-12.
DESCRIPTION:
URL:https://thequarrythornton.com/event/kitchen-taven-open-11-12-live-music-every-friday-100-winner-karaoke-every-other/2027-04-09/
END:VEVENT
BEGIN:VEVENT
DTSTART;TZID=America/Chicago:20270410T110000
DTEND;TZID=America/Chicago:20270410T235900
DTSTAMP:20260422T074505
CREATED:20240110T235242Z
LAST-MODIFIED:20240313T170456Z
UID:10009822-1807354800-1807401540@thequarrythornton.com
SUMMARY:Kitchen open 11-9 Tavern open 11-12. Live Music every Saturday 7-10
DESCRIPTION:
URL:https://thequarrythornton.com/event/kitchen-tavern-open-11-12-live-music-every-saturday/2027-04-10/
END:VEVENT
BEGIN:VEVENT
DTSTART;TZID=America/Chicago:20270411T110000
DTEND;TZID=America/Chicago:20270411T230000
DTSTAMP:20260422T074505
CREATED:20240110T235336Z
LAST-MODIFIED:20260113T182408Z
UID:10010083-1807441200-1807484400@thequarrythornton.com
SUMMARY:Kitchen open 11-7 Tavern open 11-11.
DESCRIPTION:
URL:https://thequarrythornton.com/event/kitchen-open-11-7-tavern-open-11-11/2027-04-11/
END:VEVENT
BEGIN:VEVENT
DTSTART;TZID=America/Chicago:20270412T110000
DTEND;TZID=America/Chicago:20270412T230000
DTSTAMP:20260422T074505
CREATED:20240110T235437Z
LAST-MODIFIED:20250510T191022Z
UID:10010988-1807527600-1807570800@thequarrythornton.com
SUMMARY:Kitchen open 11-9 Tavern open 11-11. 1/2 price pizza. Dine in only.
DESCRIPTION:
URL:https://thequarrythornton.com/event/kitchen-open-3-9-tavern-open-3-11/2027-04-12/
END:VEVENT
BEGIN:VEVENT
DTSTART;TZID=America/Chicago:20270413T110000
DTEND;TZID=America/Chicago:20270413T230000
DTSTAMP:20260422T074505
CREATED:20240110T235532Z
LAST-MODIFIED:20250325T221155Z
UID:10011547-1807614000-1807657200@thequarrythornton.com
SUMMARY:Kitchen open 11-9 Tavern open 11-11. Taco Tuesday! 3 beef\, pork or chicken $7.50
DESCRIPTION:
URL:https://thequarrythornton.com/event/kitchen-open-3-9-tavern-open-3-11-2/2027-04-13/
END:VEVENT
BEGIN:VEVENT
DTSTART;TZID=America/Chicago:20270414T110000
DTEND;TZID=America/Chicago:20270414T230000
DTSTAMP:20260422T074505
CREATED:20240110T233647Z
LAST-MODIFIED:20250510T190409Z
UID:10011268-1807700400-1807743600@thequarrythornton.com
SUMMARY:Kitchen open 11-9 Tavern open 11-11. Wing Wednesday 1/2 price traditional wings. Dine in only.
DESCRIPTION:
URL:https://thequarrythornton.com/event/kitchen-open-3-9-tavern-open-3-11-free-bingo-every-wednesday-7-9/2027-04-14/
END:VEVENT
BEGIN:VEVENT
DTSTART;TZID=America/Chicago:20270415T110000
DTEND;TZID=America/Chicago:20270415T235900
DTSTAMP:20260422T074505
CREATED:20240110T233826Z
LAST-MODIFIED:20250510T190549Z
UID:10011827-1807786800-1807833540@thequarrythornton.com
SUMMARY:Kitchen open 11-9 Tavern open 11-11. 1/2 price hot dogs or chili cheese dogs. Dine in only.
DESCRIPTION:
URL:https://thequarrythornton.com/event/kitchen-open-11-9-tavern-open-11-12-open-mic-7-10/2027-04-15/
END:VEVENT
BEGIN:VEVENT
DTSTART;TZID=America/Chicago:20270416T110000
DTEND;TZID=America/Chicago:20270416T235900
DTSTAMP:20260422T074505
CREATED:20240110T234444Z
LAST-MODIFIED:20260123T151734Z
UID:10009562-1807873200-1807919940@thequarrythornton.com
SUMMARY:Kitchen open 11-9 Tavern open 11-12.
DESCRIPTION:
URL:https://thequarrythornton.com/event/kitchen-taven-open-11-12-live-music-every-friday-100-winner-karaoke-every-other/2027-04-16/
END:VEVENT
BEGIN:VEVENT
DTSTART;TZID=America/Chicago:20270417T110000
DTEND;TZID=America/Chicago:20270417T235900
DTSTAMP:20260422T074505
CREATED:20240110T235242Z
LAST-MODIFIED:20240313T170456Z
UID:10009823-1807959600-1808006340@thequarrythornton.com
SUMMARY:Kitchen open 11-9 Tavern open 11-12. Live Music every Saturday 7-10
DESCRIPTION:
URL:https://thequarrythornton.com/event/kitchen-tavern-open-11-12-live-music-every-saturday/2027-04-17/
END:VEVENT
BEGIN:VEVENT
DTSTART;TZID=America/Chicago:20270418T110000
DTEND;TZID=America/Chicago:20270418T230000
DTSTAMP:20260422T074505
CREATED:20240110T235336Z
LAST-MODIFIED:20260113T182408Z
UID:10010084-1808046000-1808089200@thequarrythornton.com
SUMMARY:Kitchen open 11-7 Tavern open 11-11.
DESCRIPTION:
URL:https://thequarrythornton.com/event/kitchen-open-11-7-tavern-open-11-11/2027-04-18/
END:VEVENT
BEGIN:VEVENT
DTSTART;TZID=America/Chicago:20270419T110000
DTEND;TZID=America/Chicago:20270419T230000
DTSTAMP:20260422T074505
CREATED:20240110T235437Z
LAST-MODIFIED:20250510T191022Z
UID:10010989-1808132400-1808175600@thequarrythornton.com
SUMMARY:Kitchen open 11-9 Tavern open 11-11. 1/2 price pizza. Dine in only.
DESCRIPTION:
URL:https://thequarrythornton.com/event/kitchen-open-3-9-tavern-open-3-11/2027-04-19/
END:VEVENT
BEGIN:VEVENT
DTSTART;TZID=America/Chicago:20270420T110000
DTEND;TZID=America/Chicago:20270420T230000
DTSTAMP:20260422T074505
CREATED:20240110T235532Z
LAST-MODIFIED:20250325T221155Z
UID:10011548-1808218800-1808262000@thequarrythornton.com
SUMMARY:Kitchen open 11-9 Tavern open 11-11. Taco Tuesday! 3 beef\, pork or chicken $7.50
DESCRIPTION:
URL:https://thequarrythornton.com/event/kitchen-open-3-9-tavern-open-3-11-2/2027-04-20/
END:VEVENT
BEGIN:VEVENT
DTSTART;TZID=America/Chicago:20270421T110000
DTEND;TZID=America/Chicago:20270421T230000
DTSTAMP:20260422T074505
CREATED:20240110T233647Z
LAST-MODIFIED:20250510T190409Z
UID:10011269-1808305200-1808348400@thequarrythornton.com
SUMMARY:Kitchen open 11-9 Tavern open 11-11. Wing Wednesday 1/2 price traditional wings. Dine in only.
DESCRIPTION:
URL:https://thequarrythornton.com/event/kitchen-open-3-9-tavern-open-3-11-free-bingo-every-wednesday-7-9/2027-04-21/
END:VEVENT
BEGIN:VEVENT
DTSTART;TZID=America/Chicago:20270422T110000
DTEND;TZID=America/Chicago:20270422T235900
DTSTAMP:20260422T074505
CREATED:20240110T233826Z
LAST-MODIFIED:20250510T190549Z
UID:10011828-1808391600-1808438340@thequarrythornton.com
SUMMARY:Kitchen open 11-9 Tavern open 11-11. 1/2 price hot dogs or chili cheese dogs. Dine in only.
DESCRIPTION:
URL:https://thequarrythornton.com/event/kitchen-open-11-9-tavern-open-11-12-open-mic-7-10/2027-04-22/
END:VEVENT
BEGIN:VEVENT
DTSTART;TZID=America/Chicago:20270423T110000
DTEND;TZID=America/Chicago:20270423T235900
DTSTAMP:20260422T074505
CREATED:20240110T234444Z
LAST-MODIFIED:20260123T151734Z
UID:10009563-1808478000-1808524740@thequarrythornton.com
SUMMARY:Kitchen open 11-9 Tavern open 11-12.
DESCRIPTION:
URL:https://thequarrythornton.com/event/kitchen-taven-open-11-12-live-music-every-friday-100-winner-karaoke-every-other/2027-04-23/
END:VEVENT
BEGIN:VEVENT
DTSTART;TZID=America/Chicago:20270424T110000
DTEND;TZID=America/Chicago:20270424T235900
DTSTAMP:20260422T074505
CREATED:20240110T235242Z
LAST-MODIFIED:20240313T170456Z
UID:10009824-1808564400-1808611140@thequarrythornton.com
SUMMARY:Kitchen open 11-9 Tavern open 11-12. Live Music every Saturday 7-10
DESCRIPTION:
URL:https://thequarrythornton.com/event/kitchen-tavern-open-11-12-live-music-every-saturday/2027-04-24/
END:VEVENT
BEGIN:VEVENT
DTSTART;TZID=America/Chicago:20270425T110000
DTEND;TZID=America/Chicago:20270425T230000
DTSTAMP:20260422T074505
CREATED:20240110T235336Z
LAST-MODIFIED:20260113T182408Z
UID:10010085-1808650800-1808694000@thequarrythornton.com
SUMMARY:Kitchen open 11-7 Tavern open 11-11.
DESCRIPTION:
URL:https://thequarrythornton.com/event/kitchen-open-11-7-tavern-open-11-11/2027-04-25/
END:VEVENT
BEGIN:VEVENT
DTSTART;TZID=America/Chicago:20270426T110000
DTEND;TZID=America/Chicago:20270426T230000
DTSTAMP:20260422T074505
CREATED:20240110T235437Z
LAST-MODIFIED:20250510T191022Z
UID:10010990-1808737200-1808780400@thequarrythornton.com
SUMMARY:Kitchen open 11-9 Tavern open 11-11. 1/2 price pizza. Dine in only.
DESCRIPTION:
URL:https://thequarrythornton.com/event/kitchen-open-3-9-tavern-open-3-11/2027-04-26/
END:VEVENT
BEGIN:VEVENT
DTSTART;TZID=America/Chicago:20270427T110000
DTEND;TZID=America/Chicago:20270427T230000
DTSTAMP:20260422T074505
CREATED:20240110T235532Z
LAST-MODIFIED:20250325T221155Z
UID:10011549-1808823600-1808866800@thequarrythornton.com
SUMMARY:Kitchen open 11-9 Tavern open 11-11. Taco Tuesday! 3 beef\, pork or chicken $7.50
DESCRIPTION:
URL:https://thequarrythornton.com/event/kitchen-open-3-9-tavern-open-3-11-2/2027-04-27/
END:VEVENT
BEGIN:VEVENT
DTSTART;TZID=America/Chicago:20270428T110000
DTEND;TZID=America/Chicago:20270428T230000
DTSTAMP:20260422T074505
CREATED:20240110T233647Z
LAST-MODIFIED:20250510T190409Z
UID:10011270-1808910000-1808953200@thequarrythornton.com
SUMMARY:Kitchen open 11-9 Tavern open 11-11. Wing Wednesday 1/2 price traditional wings. Dine in only.
DESCRIPTION:
URL:https://thequarrythornton.com/event/kitchen-open-3-9-tavern-open-3-11-free-bingo-every-wednesday-7-9/2027-04-28/
END:VEVENT
BEGIN:VEVENT
DTSTART;TZID=America/Chicago:20270429T110000
DTEND;TZID=America/Chicago:20270429T235900
DTSTAMP:20260422T074505
CREATED:20240110T233826Z
LAST-MODIFIED:20250510T190549Z
UID:10011829-1808996400-1809043140@thequarrythornton.com
SUMMARY:Kitchen open 11-9 Tavern open 11-11. 1/2 price hot dogs or chili cheese dogs. Dine in only.
DESCRIPTION:
URL:https://thequarrythornton.com/event/kitchen-open-11-9-tavern-open-11-12-open-mic-7-10/2027-04-29/
END:VEVENT
BEGIN:VEVENT
DTSTART;TZID=America/Chicago:20270430T110000
DTEND;TZID=America/Chicago:20270430T235900
DTSTAMP:20260422T074505
CREATED:20240110T234444Z
LAST-MODIFIED:20260123T151734Z
UID:10009564-1809082800-1809129540@thequarrythornton.com
SUMMARY:Kitchen open 11-9 Tavern open 11-12.
DESCRIPTION:
URL:https://thequarrythornton.com/event/kitchen-taven-open-11-12-live-music-every-friday-100-winner-karaoke-every-other/2027-04-30/
END:VEVENT
BEGIN:VEVENT
DTSTART;TZID=America/Chicago:20270501T110000
DTEND;TZID=America/Chicago:20270501T235900
DTSTAMP:20260422T074505
CREATED:20240110T235242Z
LAST-MODIFIED:20240313T170456Z
UID:10009825-1809169200-1809215940@thequarrythornton.com
SUMMARY:Kitchen open 11-9 Tavern open 11-12. Live Music every Saturday 7-10
DESCRIPTION:
URL:https://thequarrythornton.com/event/kitchen-tavern-open-11-12-live-music-every-saturday/2027-05-01/
END:VEVENT
BEGIN:VEVENT
DTSTART;TZID=America/Chicago:20270502T110000
DTEND;TZID=America/Chicago:20270502T230000
DTSTAMP:20260422T074505
CREATED:20240110T235336Z
LAST-MODIFIED:20260113T182408Z
UID:10010086-1809255600-1809298800@thequarrythornton.com
SUMMARY:Kitchen open 11-7 Tavern open 11-11.
DESCRIPTION:
URL:https://thequarrythornton.com/event/kitchen-open-11-7-tavern-open-11-11/2027-05-02/
END:VEVENT
BEGIN:VEVENT
DTSTART;TZID=America/Chicago:20270503T110000
DTEND;TZID=America/Chicago:20270503T230000
DTSTAMP:20260422T074505
CREATED:20240110T235437Z
LAST-MODIFIED:20250510T191022Z
UID:10010991-1809342000-1809385200@thequarrythornton.com
SUMMARY:Kitchen open 11-9 Tavern open 11-11. 1/2 price pizza. Dine in only.
DESCRIPTION:
URL:https://thequarrythornton.com/event/kitchen-open-3-9-tavern-open-3-11/2027-05-03/
END:VEVENT
BEGIN:VEVENT
DTSTART;TZID=America/Chicago:20270504T110000
DTEND;TZID=America/Chicago:20270504T230000
DTSTAMP:20260422T074505
CREATED:20240110T235532Z
LAST-MODIFIED:20250325T221155Z
UID:10011550-1809428400-1809471600@thequarrythornton.com
SUMMARY:Kitchen open 11-9 Tavern open 11-11. Taco Tuesday! 3 beef\, pork or chicken $7.50
DESCRIPTION:
URL:https://thequarrythornton.com/event/kitchen-open-3-9-tavern-open-3-11-2/2027-05-04/
END:VEVENT
BEGIN:VEVENT
DTSTART;TZID=America/Chicago:20270505T110000
DTEND;TZID=America/Chicago:20270505T230000
DTSTAMP:20260422T074505
CREATED:20240110T233647Z
LAST-MODIFIED:20250510T190409Z
UID:10011271-1809514800-1809558000@thequarrythornton.com
SUMMARY:Kitchen open 11-9 Tavern open 11-11. Wing Wednesday 1/2 price traditional wings. Dine in only.
DESCRIPTION:
URL:https://thequarrythornton.com/event/kitchen-open-3-9-tavern-open-3-11-free-bingo-every-wednesday-7-9/2027-05-05/
END:VEVENT
END:VCALENDAR