BEGIN:VCALENDAR
VERSION:2.0
PRODID:-//The Quarry Ballroom - ECPv6.15.17.1//NONSGML v1.0//EN
CALSCALE:GREGORIAN
METHOD:PUBLISH
X-WR-CALNAME:The Quarry Ballroom
X-ORIGINAL-URL:https://thequarrythornton.com
X-WR-CALDESC:Events for The Quarry Ballroom
REFRESH-INTERVAL;VALUE=DURATION:PT1H
X-Robots-Tag:noindex
X-PUBLISHED-TTL:PT1H
BEGIN:VTIMEZONE
TZID:America/Chicago
BEGIN:DAYLIGHT
TZOFFSETFROM:-0600
TZOFFSETTO:-0500
TZNAME:CDT
DTSTART:20260308T080000
END:DAYLIGHT
BEGIN:STANDARD
TZOFFSETFROM:-0500
TZOFFSETTO:-0600
TZNAME:CST
DTSTART:20261101T070000
END:STANDARD
BEGIN:DAYLIGHT
TZOFFSETFROM:-0600
TZOFFSETTO:-0500
TZNAME:CDT
DTSTART:20270314T080000
END:DAYLIGHT
BEGIN:STANDARD
TZOFFSETFROM:-0500
TZOFFSETTO:-0600
TZNAME:CST
DTSTART:20271107T070000
END:STANDARD
BEGIN:DAYLIGHT
TZOFFSETFROM:-0600
TZOFFSETTO:-0500
TZNAME:CDT
DTSTART:20280312T080000
END:DAYLIGHT
BEGIN:STANDARD
TZOFFSETFROM:-0500
TZOFFSETTO:-0600
TZNAME:CST
DTSTART:20281105T070000
END:STANDARD
END:VTIMEZONE
BEGIN:VEVENT
DTSTART;TZID=America/Chicago:20270301T110000
DTEND;TZID=America/Chicago:20270301T230000
DTSTAMP:20260422T014338
CREATED:20240110T235437Z
LAST-MODIFIED:20250510T191022Z
UID:10010982-1803898800-1803942000@thequarrythornton.com
SUMMARY:Kitchen open 11-9 Tavern open 11-11. 1/2 price pizza. Dine in only.
DESCRIPTION:
URL:https://thequarrythornton.com/event/kitchen-open-3-9-tavern-open-3-11/2027-03-01/
END:VEVENT
BEGIN:VEVENT
DTSTART;TZID=America/Chicago:20270302T110000
DTEND;TZID=America/Chicago:20270302T230000
DTSTAMP:20260422T014338
CREATED:20240110T235532Z
LAST-MODIFIED:20250325T221155Z
UID:10011541-1803985200-1804028400@thequarrythornton.com
SUMMARY:Kitchen open 11-9 Tavern open 11-11. Taco Tuesday! 3 beef\, pork or chicken $7.50
DESCRIPTION:
URL:https://thequarrythornton.com/event/kitchen-open-3-9-tavern-open-3-11-2/2027-03-02/
END:VEVENT
BEGIN:VEVENT
DTSTART;TZID=America/Chicago:20270303T110000
DTEND;TZID=America/Chicago:20270303T230000
DTSTAMP:20260422T014338
CREATED:20240110T233647Z
LAST-MODIFIED:20250510T190409Z
UID:10011262-1804071600-1804114800@thequarrythornton.com
SUMMARY:Kitchen open 11-9 Tavern open 11-11. Wing Wednesday 1/2 price traditional wings. Dine in only.
DESCRIPTION:
URL:https://thequarrythornton.com/event/kitchen-open-3-9-tavern-open-3-11-free-bingo-every-wednesday-7-9/2027-03-03/
END:VEVENT
BEGIN:VEVENT
DTSTART;TZID=America/Chicago:20270304T110000
DTEND;TZID=America/Chicago:20270304T235900
DTSTAMP:20260422T014338
CREATED:20240110T233826Z
LAST-MODIFIED:20250510T190549Z
UID:10011821-1804158000-1804204740@thequarrythornton.com
SUMMARY:Kitchen open 11-9 Tavern open 11-11. 1/2 price hot dogs or chili cheese dogs. Dine in only.
DESCRIPTION:
URL:https://thequarrythornton.com/event/kitchen-open-11-9-tavern-open-11-12-open-mic-7-10/2027-03-04/
END:VEVENT
BEGIN:VEVENT
DTSTART;TZID=America/Chicago:20270305T110000
DTEND;TZID=America/Chicago:20270305T235900
DTSTAMP:20260422T014338
CREATED:20240110T234444Z
LAST-MODIFIED:20260123T151734Z
UID:10009556-1804244400-1804291140@thequarrythornton.com
SUMMARY:Kitchen open 11-9 Tavern open 11-12.
DESCRIPTION:
URL:https://thequarrythornton.com/event/kitchen-taven-open-11-12-live-music-every-friday-100-winner-karaoke-every-other/2027-03-05/
END:VEVENT
BEGIN:VEVENT
DTSTART;TZID=America/Chicago:20270306T110000
DTEND;TZID=America/Chicago:20270306T235900
DTSTAMP:20260422T014338
CREATED:20240110T235242Z
LAST-MODIFIED:20240313T170456Z
UID:10009817-1804330800-1804377540@thequarrythornton.com
SUMMARY:Kitchen open 11-9 Tavern open 11-12. Live Music every Saturday 7-10
DESCRIPTION:
URL:https://thequarrythornton.com/event/kitchen-tavern-open-11-12-live-music-every-saturday/2027-03-06/
END:VEVENT
BEGIN:VEVENT
DTSTART;TZID=America/Chicago:20270307T110000
DTEND;TZID=America/Chicago:20270307T230000
DTSTAMP:20260422T014338
CREATED:20240110T235336Z
LAST-MODIFIED:20260113T182408Z
UID:10010078-1804417200-1804460400@thequarrythornton.com
SUMMARY:Kitchen open 11-7 Tavern open 11-11.
DESCRIPTION:
URL:https://thequarrythornton.com/event/kitchen-open-11-7-tavern-open-11-11/2027-03-07/
END:VEVENT
BEGIN:VEVENT
DTSTART;TZID=America/Chicago:20270308T110000
DTEND;TZID=America/Chicago:20270308T230000
DTSTAMP:20260422T014338
CREATED:20240110T235437Z
LAST-MODIFIED:20250510T191022Z
UID:10010983-1804503600-1804546800@thequarrythornton.com
SUMMARY:Kitchen open 11-9 Tavern open 11-11. 1/2 price pizza. Dine in only.
DESCRIPTION:
URL:https://thequarrythornton.com/event/kitchen-open-3-9-tavern-open-3-11/2027-03-08/
END:VEVENT
BEGIN:VEVENT
DTSTART;TZID=America/Chicago:20270309T110000
DTEND;TZID=America/Chicago:20270309T230000
DTSTAMP:20260422T014338
CREATED:20240110T235532Z
LAST-MODIFIED:20250325T221155Z
UID:10011542-1804590000-1804633200@thequarrythornton.com
SUMMARY:Kitchen open 11-9 Tavern open 11-11. Taco Tuesday! 3 beef\, pork or chicken $7.50
DESCRIPTION:
URL:https://thequarrythornton.com/event/kitchen-open-3-9-tavern-open-3-11-2/2027-03-09/
END:VEVENT
BEGIN:VEVENT
DTSTART;TZID=America/Chicago:20270310T110000
DTEND;TZID=America/Chicago:20270310T230000
DTSTAMP:20260422T014338
CREATED:20240110T233647Z
LAST-MODIFIED:20250510T190409Z
UID:10011263-1804676400-1804719600@thequarrythornton.com
SUMMARY:Kitchen open 11-9 Tavern open 11-11. Wing Wednesday 1/2 price traditional wings. Dine in only.
DESCRIPTION:
URL:https://thequarrythornton.com/event/kitchen-open-3-9-tavern-open-3-11-free-bingo-every-wednesday-7-9/2027-03-10/
END:VEVENT
BEGIN:VEVENT
DTSTART;TZID=America/Chicago:20270311T110000
DTEND;TZID=America/Chicago:20270311T235900
DTSTAMP:20260422T014338
CREATED:20240110T233826Z
LAST-MODIFIED:20250510T190549Z
UID:10011822-1804762800-1804809540@thequarrythornton.com
SUMMARY:Kitchen open 11-9 Tavern open 11-11. 1/2 price hot dogs or chili cheese dogs. Dine in only.
DESCRIPTION:
URL:https://thequarrythornton.com/event/kitchen-open-11-9-tavern-open-11-12-open-mic-7-10/2027-03-11/
END:VEVENT
BEGIN:VEVENT
DTSTART;TZID=America/Chicago:20270312T110000
DTEND;TZID=America/Chicago:20270312T235900
DTSTAMP:20260422T014338
CREATED:20240110T234444Z
LAST-MODIFIED:20260123T151734Z
UID:10009557-1804849200-1804895940@thequarrythornton.com
SUMMARY:Kitchen open 11-9 Tavern open 11-12.
DESCRIPTION:
URL:https://thequarrythornton.com/event/kitchen-taven-open-11-12-live-music-every-friday-100-winner-karaoke-every-other/2027-03-12/
END:VEVENT
BEGIN:VEVENT
DTSTART;TZID=America/Chicago:20270313T110000
DTEND;TZID=America/Chicago:20270313T235900
DTSTAMP:20260422T014338
CREATED:20240110T235242Z
LAST-MODIFIED:20240313T170456Z
UID:10009818-1804935600-1804982340@thequarrythornton.com
SUMMARY:Kitchen open 11-9 Tavern open 11-12. Live Music every Saturday 7-10
DESCRIPTION:
URL:https://thequarrythornton.com/event/kitchen-tavern-open-11-12-live-music-every-saturday/2027-03-13/
END:VEVENT
BEGIN:VEVENT
DTSTART;TZID=America/Chicago:20270314T110000
DTEND;TZID=America/Chicago:20270314T230000
DTSTAMP:20260422T014338
CREATED:20240110T235336Z
LAST-MODIFIED:20260113T182408Z
UID:10010079-1805022000-1805065200@thequarrythornton.com
SUMMARY:Kitchen open 11-7 Tavern open 11-11.
DESCRIPTION:
URL:https://thequarrythornton.com/event/kitchen-open-11-7-tavern-open-11-11/2027-03-14/
END:VEVENT
BEGIN:VEVENT
DTSTART;TZID=America/Chicago:20270315T110000
DTEND;TZID=America/Chicago:20270315T230000
DTSTAMP:20260422T014338
CREATED:20240110T235437Z
LAST-MODIFIED:20250510T191022Z
UID:10010984-1805108400-1805151600@thequarrythornton.com
SUMMARY:Kitchen open 11-9 Tavern open 11-11. 1/2 price pizza. Dine in only.
DESCRIPTION:
URL:https://thequarrythornton.com/event/kitchen-open-3-9-tavern-open-3-11/2027-03-15/
END:VEVENT
BEGIN:VEVENT
DTSTART;TZID=America/Chicago:20270316T110000
DTEND;TZID=America/Chicago:20270316T230000
DTSTAMP:20260422T014338
CREATED:20240110T235532Z
LAST-MODIFIED:20250325T221155Z
UID:10011543-1805194800-1805238000@thequarrythornton.com
SUMMARY:Kitchen open 11-9 Tavern open 11-11. Taco Tuesday! 3 beef\, pork or chicken $7.50
DESCRIPTION:
URL:https://thequarrythornton.com/event/kitchen-open-3-9-tavern-open-3-11-2/2027-03-16/
END:VEVENT
BEGIN:VEVENT
DTSTART;TZID=America/Chicago:20270317T110000
DTEND;TZID=America/Chicago:20270317T230000
DTSTAMP:20260422T014338
CREATED:20240110T233647Z
LAST-MODIFIED:20250510T190409Z
UID:10011264-1805281200-1805324400@thequarrythornton.com
SUMMARY:Kitchen open 11-9 Tavern open 11-11. Wing Wednesday 1/2 price traditional wings. Dine in only.
DESCRIPTION:
URL:https://thequarrythornton.com/event/kitchen-open-3-9-tavern-open-3-11-free-bingo-every-wednesday-7-9/2027-03-17/
END:VEVENT
BEGIN:VEVENT
DTSTART;TZID=America/Chicago:20270318T110000
DTEND;TZID=America/Chicago:20270318T235900
DTSTAMP:20260422T014338
CREATED:20240110T233826Z
LAST-MODIFIED:20250510T190549Z
UID:10011823-1805367600-1805414340@thequarrythornton.com
SUMMARY:Kitchen open 11-9 Tavern open 11-11. 1/2 price hot dogs or chili cheese dogs. Dine in only.
DESCRIPTION:
URL:https://thequarrythornton.com/event/kitchen-open-11-9-tavern-open-11-12-open-mic-7-10/2027-03-18/
END:VEVENT
BEGIN:VEVENT
DTSTART;TZID=America/Chicago:20270319T110000
DTEND;TZID=America/Chicago:20270319T235900
DTSTAMP:20260422T014338
CREATED:20240110T234444Z
LAST-MODIFIED:20260123T151734Z
UID:10009558-1805454000-1805500740@thequarrythornton.com
SUMMARY:Kitchen open 11-9 Tavern open 11-12.
DESCRIPTION:
URL:https://thequarrythornton.com/event/kitchen-taven-open-11-12-live-music-every-friday-100-winner-karaoke-every-other/2027-03-19/
END:VEVENT
BEGIN:VEVENT
DTSTART;TZID=America/Chicago:20270320T110000
DTEND;TZID=America/Chicago:20270320T235900
DTSTAMP:20260422T014338
CREATED:20240110T235242Z
LAST-MODIFIED:20240313T170456Z
UID:10009819-1805540400-1805587140@thequarrythornton.com
SUMMARY:Kitchen open 11-9 Tavern open 11-12. Live Music every Saturday 7-10
DESCRIPTION:
URL:https://thequarrythornton.com/event/kitchen-tavern-open-11-12-live-music-every-saturday/2027-03-20/
END:VEVENT
BEGIN:VEVENT
DTSTART;TZID=America/Chicago:20270321T110000
DTEND;TZID=America/Chicago:20270321T230000
DTSTAMP:20260422T014338
CREATED:20240110T235336Z
LAST-MODIFIED:20260113T182408Z
UID:10010080-1805626800-1805670000@thequarrythornton.com
SUMMARY:Kitchen open 11-7 Tavern open 11-11.
DESCRIPTION:
URL:https://thequarrythornton.com/event/kitchen-open-11-7-tavern-open-11-11/2027-03-21/
END:VEVENT
BEGIN:VEVENT
DTSTART;TZID=America/Chicago:20270322T110000
DTEND;TZID=America/Chicago:20270322T230000
DTSTAMP:20260422T014338
CREATED:20240110T235437Z
LAST-MODIFIED:20250510T191022Z
UID:10010985-1805713200-1805756400@thequarrythornton.com
SUMMARY:Kitchen open 11-9 Tavern open 11-11. 1/2 price pizza. Dine in only.
DESCRIPTION:
URL:https://thequarrythornton.com/event/kitchen-open-3-9-tavern-open-3-11/2027-03-22/
END:VEVENT
BEGIN:VEVENT
DTSTART;TZID=America/Chicago:20270323T110000
DTEND;TZID=America/Chicago:20270323T230000
DTSTAMP:20260422T014338
CREATED:20240110T235532Z
LAST-MODIFIED:20250325T221155Z
UID:10011544-1805799600-1805842800@thequarrythornton.com
SUMMARY:Kitchen open 11-9 Tavern open 11-11. Taco Tuesday! 3 beef\, pork or chicken $7.50
DESCRIPTION:
URL:https://thequarrythornton.com/event/kitchen-open-3-9-tavern-open-3-11-2/2027-03-23/
END:VEVENT
BEGIN:VEVENT
DTSTART;TZID=America/Chicago:20270324T110000
DTEND;TZID=America/Chicago:20270324T230000
DTSTAMP:20260422T014338
CREATED:20240110T233647Z
LAST-MODIFIED:20250510T190409Z
UID:10011265-1805886000-1805929200@thequarrythornton.com
SUMMARY:Kitchen open 11-9 Tavern open 11-11. Wing Wednesday 1/2 price traditional wings. Dine in only.
DESCRIPTION:
URL:https://thequarrythornton.com/event/kitchen-open-3-9-tavern-open-3-11-free-bingo-every-wednesday-7-9/2027-03-24/
END:VEVENT
BEGIN:VEVENT
DTSTART;TZID=America/Chicago:20270325T110000
DTEND;TZID=America/Chicago:20270325T235900
DTSTAMP:20260422T014338
CREATED:20240110T233826Z
LAST-MODIFIED:20250510T190549Z
UID:10011824-1805972400-1806019140@thequarrythornton.com
SUMMARY:Kitchen open 11-9 Tavern open 11-11. 1/2 price hot dogs or chili cheese dogs. Dine in only.
DESCRIPTION:
URL:https://thequarrythornton.com/event/kitchen-open-11-9-tavern-open-11-12-open-mic-7-10/2027-03-25/
END:VEVENT
BEGIN:VEVENT
DTSTART;TZID=America/Chicago:20270326T110000
DTEND;TZID=America/Chicago:20270326T235900
DTSTAMP:20260422T014338
CREATED:20240110T234444Z
LAST-MODIFIED:20260123T151734Z
UID:10009559-1806058800-1806105540@thequarrythornton.com
SUMMARY:Kitchen open 11-9 Tavern open 11-12.
DESCRIPTION:
URL:https://thequarrythornton.com/event/kitchen-taven-open-11-12-live-music-every-friday-100-winner-karaoke-every-other/2027-03-26/
END:VEVENT
BEGIN:VEVENT
DTSTART;TZID=America/Chicago:20270327T110000
DTEND;TZID=America/Chicago:20270327T235900
DTSTAMP:20260422T014338
CREATED:20240110T235242Z
LAST-MODIFIED:20240313T170456Z
UID:10009820-1806145200-1806191940@thequarrythornton.com
SUMMARY:Kitchen open 11-9 Tavern open 11-12. Live Music every Saturday 7-10
DESCRIPTION:
URL:https://thequarrythornton.com/event/kitchen-tavern-open-11-12-live-music-every-saturday/2027-03-27/
END:VEVENT
BEGIN:VEVENT
DTSTART;TZID=America/Chicago:20270328T110000
DTEND;TZID=America/Chicago:20270328T230000
DTSTAMP:20260422T014338
CREATED:20240110T235336Z
LAST-MODIFIED:20260113T182408Z
UID:10010081-1806231600-1806274800@thequarrythornton.com
SUMMARY:Kitchen open 11-7 Tavern open 11-11.
DESCRIPTION:
URL:https://thequarrythornton.com/event/kitchen-open-11-7-tavern-open-11-11/2027-03-28/
END:VEVENT
BEGIN:VEVENT
DTSTART;TZID=America/Chicago:20270329T110000
DTEND;TZID=America/Chicago:20270329T230000
DTSTAMP:20260422T014338
CREATED:20240110T235437Z
LAST-MODIFIED:20250510T191022Z
UID:10010986-1806318000-1806361200@thequarrythornton.com
SUMMARY:Kitchen open 11-9 Tavern open 11-11. 1/2 price pizza. Dine in only.
DESCRIPTION:
URL:https://thequarrythornton.com/event/kitchen-open-3-9-tavern-open-3-11/2027-03-29/
END:VEVENT
BEGIN:VEVENT
DTSTART;TZID=America/Chicago:20270330T110000
DTEND;TZID=America/Chicago:20270330T230000
DTSTAMP:20260422T014338
CREATED:20240110T235532Z
LAST-MODIFIED:20250325T221155Z
UID:10011545-1806404400-1806447600@thequarrythornton.com
SUMMARY:Kitchen open 11-9 Tavern open 11-11. Taco Tuesday! 3 beef\, pork or chicken $7.50
DESCRIPTION:
URL:https://thequarrythornton.com/event/kitchen-open-3-9-tavern-open-3-11-2/2027-03-30/
END:VEVENT
END:VCALENDAR