BEGIN:VCALENDAR
VERSION:2.0
PRODID:-//The Quarry Ballroom - ECPv6.15.20//NONSGML v1.0//EN
CALSCALE:GREGORIAN
METHOD:PUBLISH
X-WR-CALNAME:The Quarry Ballroom
X-ORIGINAL-URL:https://thequarrythornton.com
X-WR-CALDESC:Events for The Quarry Ballroom
REFRESH-INTERVAL;VALUE=DURATION:PT1H
X-Robots-Tag:noindex
X-PUBLISHED-TTL:PT1H
BEGIN:VTIMEZONE
TZID:America/Chicago
BEGIN:DAYLIGHT
TZOFFSETFROM:-0600
TZOFFSETTO:-0500
TZNAME:CDT
DTSTART:20230312T080000
END:DAYLIGHT
BEGIN:STANDARD
TZOFFSETFROM:-0500
TZOFFSETTO:-0600
TZNAME:CST
DTSTART:20231105T070000
END:STANDARD
BEGIN:DAYLIGHT
TZOFFSETFROM:-0600
TZOFFSETTO:-0500
TZNAME:CDT
DTSTART:20240310T080000
END:DAYLIGHT
BEGIN:STANDARD
TZOFFSETFROM:-0500
TZOFFSETTO:-0600
TZNAME:CST
DTSTART:20241103T070000
END:STANDARD
BEGIN:DAYLIGHT
TZOFFSETFROM:-0600
TZOFFSETTO:-0500
TZNAME:CDT
DTSTART:20250309T080000
END:DAYLIGHT
BEGIN:STANDARD
TZOFFSETFROM:-0500
TZOFFSETTO:-0600
TZNAME:CST
DTSTART:20251102T070000
END:STANDARD
END:VTIMEZONE
BEGIN:VEVENT
DTSTART;TZID=America/Chicago:20240628T110000
DTEND;TZID=America/Chicago:20240628T235900
DTSTAMP:20260422T231600
CREATED:20240110T234444Z
LAST-MODIFIED:20260123T151734Z
UID:10009416-1719572400-1719619140@thequarrythornton.com
SUMMARY:Kitchen open 11-9 Tavern open 11-12.
DESCRIPTION:
URL:https://thequarrythornton.com/event/kitchen-taven-open-11-12-live-music-every-friday-100-winner-karaoke-every-other/2024-06-28/
END:VEVENT
BEGIN:VEVENT
DTSTART;TZID=America/Chicago:20240627T110000
DTEND;TZID=America/Chicago:20240627T235900
DTSTAMP:20260422T231600
CREATED:20240110T233826Z
LAST-MODIFIED:20250510T190549Z
UID:10011681-1719486000-1719532740@thequarrythornton.com
SUMMARY:Kitchen open 11-9 Tavern open 11-11. 1/2 price hot dogs or chili cheese dogs. Dine in only.
DESCRIPTION:
URL:https://thequarrythornton.com/event/kitchen-open-11-9-tavern-open-11-12-open-mic-7-10/2024-06-27/
END:VEVENT
BEGIN:VEVENT
DTSTART;TZID=America/Chicago:20240626T110000
DTEND;TZID=America/Chicago:20240626T230000
DTSTAMP:20260422T231600
CREATED:20240110T233647Z
LAST-MODIFIED:20250510T190409Z
UID:10011122-1719399600-1719442800@thequarrythornton.com
SUMMARY:Kitchen open 11-9 Tavern open 11-11. Wing Wednesday 1/2 price traditional wings. Dine in only.
DESCRIPTION:
URL:https://thequarrythornton.com/event/kitchen-open-3-9-tavern-open-3-11-free-bingo-every-wednesday-7-9/2024-06-26/
END:VEVENT
BEGIN:VEVENT
DTSTART;TZID=America/Chicago:20240625T110000
DTEND;TZID=America/Chicago:20240625T230000
DTSTAMP:20260422T231600
CREATED:20240110T235532Z
LAST-MODIFIED:20250325T221155Z
UID:10011401-1719313200-1719356400@thequarrythornton.com
SUMMARY:Kitchen open 11-9 Tavern open 11-11. Taco Tuesday! 3 beef\, pork or chicken $7.50
DESCRIPTION:
URL:https://thequarrythornton.com/event/kitchen-open-3-9-tavern-open-3-11-2/2024-06-25/
END:VEVENT
BEGIN:VEVENT
DTSTART;TZID=America/Chicago:20240624T110000
DTEND;TZID=America/Chicago:20240624T230000
DTSTAMP:20260422T231600
CREATED:20240110T235437Z
LAST-MODIFIED:20250510T191022Z
UID:10010842-1719226800-1719270000@thequarrythornton.com
SUMMARY:Kitchen open 11-9 Tavern open 11-11. 1/2 price pizza. Dine in only.
DESCRIPTION:
URL:https://thequarrythornton.com/event/kitchen-open-3-9-tavern-open-3-11/2024-06-24/
END:VEVENT
BEGIN:VEVENT
DTSTART;TZID=America/Chicago:20240623T110000
DTEND;TZID=America/Chicago:20240623T230000
DTSTAMP:20260422T231600
CREATED:20240110T235336Z
LAST-MODIFIED:20260113T182408Z
UID:10009937-1719140400-1719183600@thequarrythornton.com
SUMMARY:Kitchen open 11-7 Tavern open 11-11.
DESCRIPTION:
URL:https://thequarrythornton.com/event/kitchen-open-11-7-tavern-open-11-11/2024-06-23/
END:VEVENT
BEGIN:VEVENT
DTSTART;TZID=America/Chicago:20240622T110000
DTEND;TZID=America/Chicago:20240622T235900
DTSTAMP:20260422T231600
CREATED:20240110T235242Z
LAST-MODIFIED:20240313T170456Z
UID:10009676-1719054000-1719100740@thequarrythornton.com
SUMMARY:Kitchen open 11-9 Tavern open 11-12. Live Music every Saturday 7-10
DESCRIPTION:
URL:https://thequarrythornton.com/event/kitchen-tavern-open-11-12-live-music-every-saturday/2024-06-22/
END:VEVENT
BEGIN:VEVENT
DTSTART;TZID=America/Chicago:20240621T110000
DTEND;TZID=America/Chicago:20240621T235900
DTSTAMP:20260422T231600
CREATED:20240110T234444Z
LAST-MODIFIED:20260123T151734Z
UID:10009415-1718967600-1719014340@thequarrythornton.com
SUMMARY:Kitchen open 11-9 Tavern open 11-12.
DESCRIPTION:
URL:https://thequarrythornton.com/event/kitchen-taven-open-11-12-live-music-every-friday-100-winner-karaoke-every-other/2024-06-21/
END:VEVENT
BEGIN:VEVENT
DTSTART;TZID=America/Chicago:20240620T110000
DTEND;TZID=America/Chicago:20240620T235900
DTSTAMP:20260422T231600
CREATED:20240110T233826Z
LAST-MODIFIED:20250510T190549Z
UID:10011680-1718881200-1718927940@thequarrythornton.com
SUMMARY:Kitchen open 11-9 Tavern open 11-11. 1/2 price hot dogs or chili cheese dogs. Dine in only.
DESCRIPTION:
URL:https://thequarrythornton.com/event/kitchen-open-11-9-tavern-open-11-12-open-mic-7-10/2024-06-20/
END:VEVENT
BEGIN:VEVENT
DTSTART;TZID=America/Chicago:20240619T110000
DTEND;TZID=America/Chicago:20240619T230000
DTSTAMP:20260422T231600
CREATED:20240110T233647Z
LAST-MODIFIED:20250510T190409Z
UID:10011121-1718794800-1718838000@thequarrythornton.com
SUMMARY:Kitchen open 11-9 Tavern open 11-11. Wing Wednesday 1/2 price traditional wings. Dine in only.
DESCRIPTION:
URL:https://thequarrythornton.com/event/kitchen-open-3-9-tavern-open-3-11-free-bingo-every-wednesday-7-9/2024-06-19/
END:VEVENT
BEGIN:VEVENT
DTSTART;TZID=America/Chicago:20240618T110000
DTEND;TZID=America/Chicago:20240618T230000
DTSTAMP:20260422T231600
CREATED:20240110T235532Z
LAST-MODIFIED:20250325T221155Z
UID:10011400-1718708400-1718751600@thequarrythornton.com
SUMMARY:Kitchen open 11-9 Tavern open 11-11. Taco Tuesday! 3 beef\, pork or chicken $7.50
DESCRIPTION:
URL:https://thequarrythornton.com/event/kitchen-open-3-9-tavern-open-3-11-2/2024-06-18/
END:VEVENT
BEGIN:VEVENT
DTSTART;TZID=America/Chicago:20240617T110000
DTEND;TZID=America/Chicago:20240617T230000
DTSTAMP:20260422T231600
CREATED:20240110T235437Z
LAST-MODIFIED:20250510T191022Z
UID:10010841-1718622000-1718665200@thequarrythornton.com
SUMMARY:Kitchen open 11-9 Tavern open 11-11. 1/2 price pizza. Dine in only.
DESCRIPTION:
URL:https://thequarrythornton.com/event/kitchen-open-3-9-tavern-open-3-11/2024-06-17/
END:VEVENT
BEGIN:VEVENT
DTSTART;TZID=America/Chicago:20240616T110000
DTEND;TZID=America/Chicago:20240616T230000
DTSTAMP:20260422T231600
CREATED:20240110T235336Z
LAST-MODIFIED:20260113T182408Z
UID:10009936-1718535600-1718578800@thequarrythornton.com
SUMMARY:Kitchen open 11-7 Tavern open 11-11.
DESCRIPTION:
URL:https://thequarrythornton.com/event/kitchen-open-11-7-tavern-open-11-11/2024-06-16/
END:VEVENT
BEGIN:VEVENT
DTSTART;TZID=America/Chicago:20240615T190000
DTEND;TZID=America/Chicago:20240615T220000
DTSTAMP:20260422T231600
CREATED:20240129T222325Z
LAST-MODIFIED:20240129T222325Z
UID:10010701-1718478000-1718488800@thequarrythornton.com
SUMMARY:Danger Zone- acoustic duo
DESCRIPTION:
URL:https://thequarrythornton.com/event/danger-zone-acoustic-duo/
END:VEVENT
BEGIN:VEVENT
DTSTART;TZID=America/Chicago:20240615T110000
DTEND;TZID=America/Chicago:20240615T235900
DTSTAMP:20260422T231600
CREATED:20240110T235242Z
LAST-MODIFIED:20240313T170456Z
UID:10009675-1718449200-1718495940@thequarrythornton.com
SUMMARY:Kitchen open 11-9 Tavern open 11-12. Live Music every Saturday 7-10
DESCRIPTION:
URL:https://thequarrythornton.com/event/kitchen-tavern-open-11-12-live-music-every-saturday/2024-06-15/
END:VEVENT
BEGIN:VEVENT
DTSTART;TZID=America/Chicago:20240614T190000
DTEND;TZID=America/Chicago:20240614T220000
DTSTAMP:20260422T231600
CREATED:20240129T222522Z
LAST-MODIFIED:20240129T222522Z
UID:10010702-1718391600-1718402400@thequarrythornton.com
SUMMARY:Timeline- rock n' roll
DESCRIPTION:
URL:https://thequarrythornton.com/event/timeline-rock-n-roll/
END:VEVENT
BEGIN:VEVENT
DTSTART;TZID=America/Chicago:20240614T110000
DTEND;TZID=America/Chicago:20240614T235900
DTSTAMP:20260422T231600
CREATED:20240110T234444Z
LAST-MODIFIED:20260123T151734Z
UID:10009414-1718362800-1718409540@thequarrythornton.com
SUMMARY:Kitchen open 11-9 Tavern open 11-12.
DESCRIPTION:
URL:https://thequarrythornton.com/event/kitchen-taven-open-11-12-live-music-every-friday-100-winner-karaoke-every-other/2024-06-14/
END:VEVENT
BEGIN:VEVENT
DTSTART;TZID=America/Chicago:20240613T110000
DTEND;TZID=America/Chicago:20240613T235900
DTSTAMP:20260422T231600
CREATED:20240110T233826Z
LAST-MODIFIED:20250510T190549Z
UID:10011679-1718276400-1718323140@thequarrythornton.com
SUMMARY:Kitchen open 11-9 Tavern open 11-11. 1/2 price hot dogs or chili cheese dogs. Dine in only.
DESCRIPTION:
URL:https://thequarrythornton.com/event/kitchen-open-11-9-tavern-open-11-12-open-mic-7-10/2024-06-13/
END:VEVENT
BEGIN:VEVENT
DTSTART;TZID=America/Chicago:20240612T110000
DTEND;TZID=America/Chicago:20240612T230000
DTSTAMP:20260422T231600
CREATED:20240110T233647Z
LAST-MODIFIED:20250510T190409Z
UID:10011120-1718190000-1718233200@thequarrythornton.com
SUMMARY:Kitchen open 11-9 Tavern open 11-11. Wing Wednesday 1/2 price traditional wings. Dine in only.
DESCRIPTION:
URL:https://thequarrythornton.com/event/kitchen-open-3-9-tavern-open-3-11-free-bingo-every-wednesday-7-9/2024-06-12/
END:VEVENT
BEGIN:VEVENT
DTSTART;TZID=America/Chicago:20240611T110000
DTEND;TZID=America/Chicago:20240611T230000
DTSTAMP:20260422T231600
CREATED:20240110T235532Z
LAST-MODIFIED:20250325T221155Z
UID:10011399-1718103600-1718146800@thequarrythornton.com
SUMMARY:Kitchen open 11-9 Tavern open 11-11. Taco Tuesday! 3 beef\, pork or chicken $7.50
DESCRIPTION:
URL:https://thequarrythornton.com/event/kitchen-open-3-9-tavern-open-3-11-2/2024-06-11/
END:VEVENT
BEGIN:VEVENT
DTSTART;TZID=America/Chicago:20240610T110000
DTEND;TZID=America/Chicago:20240610T230000
DTSTAMP:20260422T231600
CREATED:20240110T235437Z
LAST-MODIFIED:20250510T191022Z
UID:10010840-1718017200-1718060400@thequarrythornton.com
SUMMARY:Kitchen open 11-9 Tavern open 11-11. 1/2 price pizza. Dine in only.
DESCRIPTION:
URL:https://thequarrythornton.com/event/kitchen-open-3-9-tavern-open-3-11/2024-06-10/
END:VEVENT
BEGIN:VEVENT
DTSTART;TZID=America/Chicago:20240609T110000
DTEND;TZID=America/Chicago:20240609T230000
DTSTAMP:20260422T231601
CREATED:20240110T235336Z
LAST-MODIFIED:20260113T182408Z
UID:10009935-1717930800-1717974000@thequarrythornton.com
SUMMARY:Kitchen open 11-7 Tavern open 11-11.
DESCRIPTION:
URL:https://thequarrythornton.com/event/kitchen-open-11-7-tavern-open-11-11/2024-06-09/
END:VEVENT
BEGIN:VEVENT
DTSTART;TZID=America/Chicago:20240608T190000
DTEND;TZID=America/Chicago:20240608T220000
DTSTAMP:20260422T231601
CREATED:20231031T170257Z
LAST-MODIFIED:20231031T170257Z
UID:10007541-1717873200-1717884000@thequarrythornton.com
SUMMARY:Bongo Chief- rock n' roll
DESCRIPTION:
URL:https://thequarrythornton.com/event/bongo-chief-rock-n-roll-3/
END:VEVENT
BEGIN:VEVENT
DTSTART;TZID=America/Chicago:20240608T110000
DTEND;TZID=America/Chicago:20240608T235900
DTSTAMP:20260422T231601
CREATED:20240110T235242Z
LAST-MODIFIED:20240313T170456Z
UID:10009674-1717844400-1717891140@thequarrythornton.com
SUMMARY:Kitchen open 11-9 Tavern open 11-12. Live Music every Saturday 7-10
DESCRIPTION:
URL:https://thequarrythornton.com/event/kitchen-tavern-open-11-12-live-music-every-saturday/2024-06-08/
END:VEVENT
BEGIN:VEVENT
DTSTART;TZID=America/Chicago:20240607T110000
DTEND;TZID=America/Chicago:20240607T235900
DTSTAMP:20260422T231601
CREATED:20240110T234444Z
LAST-MODIFIED:20260123T151734Z
UID:10009413-1717758000-1717804740@thequarrythornton.com
SUMMARY:Kitchen open 11-9 Tavern open 11-12.
DESCRIPTION:
URL:https://thequarrythornton.com/event/kitchen-taven-open-11-12-live-music-every-friday-100-winner-karaoke-every-other/2024-06-07/
END:VEVENT
BEGIN:VEVENT
DTSTART;TZID=America/Chicago:20240606T110000
DTEND;TZID=America/Chicago:20240606T235900
DTSTAMP:20260422T231601
CREATED:20240110T233826Z
LAST-MODIFIED:20250510T190549Z
UID:10011678-1717671600-1717718340@thequarrythornton.com
SUMMARY:Kitchen open 11-9 Tavern open 11-11. 1/2 price hot dogs or chili cheese dogs. Dine in only.
DESCRIPTION:
URL:https://thequarrythornton.com/event/kitchen-open-11-9-tavern-open-11-12-open-mic-7-10/2024-06-06/
END:VEVENT
BEGIN:VEVENT
DTSTART;TZID=America/Chicago:20240605T110000
DTEND;TZID=America/Chicago:20240605T230000
DTSTAMP:20260422T231601
CREATED:20240110T233647Z
LAST-MODIFIED:20250510T190409Z
UID:10011119-1717585200-1717628400@thequarrythornton.com
SUMMARY:Kitchen open 11-9 Tavern open 11-11. Wing Wednesday 1/2 price traditional wings. Dine in only.
DESCRIPTION:
URL:https://thequarrythornton.com/event/kitchen-open-3-9-tavern-open-3-11-free-bingo-every-wednesday-7-9/2024-06-05/
END:VEVENT
BEGIN:VEVENT
DTSTART;TZID=America/Chicago:20240604T110000
DTEND;TZID=America/Chicago:20240604T230000
DTSTAMP:20260422T231601
CREATED:20240110T235532Z
LAST-MODIFIED:20250325T221155Z
UID:10011398-1717498800-1717542000@thequarrythornton.com
SUMMARY:Kitchen open 11-9 Tavern open 11-11. Taco Tuesday! 3 beef\, pork or chicken $7.50
DESCRIPTION:
URL:https://thequarrythornton.com/event/kitchen-open-3-9-tavern-open-3-11-2/2024-06-04/
END:VEVENT
BEGIN:VEVENT
DTSTART;TZID=America/Chicago:20240603T110000
DTEND;TZID=America/Chicago:20240603T230000
DTSTAMP:20260422T231601
CREATED:20240110T235437Z
LAST-MODIFIED:20250510T191022Z
UID:10010839-1717412400-1717455600@thequarrythornton.com
SUMMARY:Kitchen open 11-9 Tavern open 11-11. 1/2 price pizza. Dine in only.
DESCRIPTION:
URL:https://thequarrythornton.com/event/kitchen-open-3-9-tavern-open-3-11/2024-06-03/
END:VEVENT
BEGIN:VEVENT
DTSTART;TZID=America/Chicago:20240602T110000
DTEND;TZID=America/Chicago:20240602T230000
DTSTAMP:20260422T231601
CREATED:20240110T235336Z
LAST-MODIFIED:20260113T182408Z
UID:10009934-1717326000-1717369200@thequarrythornton.com
SUMMARY:Kitchen open 11-7 Tavern open 11-11.
DESCRIPTION:
URL:https://thequarrythornton.com/event/kitchen-open-11-7-tavern-open-11-11/2024-06-02/
END:VEVENT
END:VCALENDAR