BEGIN:VCALENDAR
VERSION:2.0
PRODID:-//The Quarry Ballroom - ECPv6.15.17.1//NONSGML v1.0//EN
CALSCALE:GREGORIAN
METHOD:PUBLISH
X-ORIGINAL-URL:https://thequarrythornton.com
X-WR-CALDESC:Events for The Quarry Ballroom
REFRESH-INTERVAL;VALUE=DURATION:PT1H
X-Robots-Tag:noindex
X-PUBLISHED-TTL:PT1H
BEGIN:VTIMEZONE
TZID:America/Chicago
BEGIN:DAYLIGHT
TZOFFSETFROM:-0600
TZOFFSETTO:-0500
TZNAME:CDT
DTSTART:20260308T080000
END:DAYLIGHT
BEGIN:STANDARD
TZOFFSETFROM:-0500
TZOFFSETTO:-0600
TZNAME:CST
DTSTART:20261101T070000
END:STANDARD
BEGIN:DAYLIGHT
TZOFFSETFROM:-0600
TZOFFSETTO:-0500
TZNAME:CDT
DTSTART:20270314T080000
END:DAYLIGHT
BEGIN:STANDARD
TZOFFSETFROM:-0500
TZOFFSETTO:-0600
TZNAME:CST
DTSTART:20271107T070000
END:STANDARD
BEGIN:DAYLIGHT
TZOFFSETFROM:-0600
TZOFFSETTO:-0500
TZNAME:CDT
DTSTART:20280312T080000
END:DAYLIGHT
BEGIN:STANDARD
TZOFFSETFROM:-0500
TZOFFSETTO:-0600
TZNAME:CST
DTSTART:20281105T070000
END:STANDARD
END:VTIMEZONE
BEGIN:VEVENT
DTSTART;TZID=America/Chicago:20270204T110000
DTEND;TZID=America/Chicago:20270204T235900
DTSTAMP:20260421T222138
CREATED:20240110T233826Z
LAST-MODIFIED:20250510T190549Z
UID:10011817-1801738800-1801785540@thequarrythornton.com
SUMMARY:Kitchen open 11-9 Tavern open 11-11. 1/2 price hot dogs or chili cheese dogs. Dine in only.
DESCRIPTION:
URL:https://thequarrythornton.com/event/kitchen-open-11-9-tavern-open-11-12-open-mic-7-10/2027-02-04/
END:VEVENT
BEGIN:VEVENT
DTSTART;TZID=America/Chicago:20270205T110000
DTEND;TZID=America/Chicago:20270205T235900
DTSTAMP:20260421T222138
CREATED:20240110T234444Z
LAST-MODIFIED:20260123T151734Z
UID:10009552-1801825200-1801871940@thequarrythornton.com
SUMMARY:Kitchen open 11-9 Tavern open 11-12.
DESCRIPTION:
URL:https://thequarrythornton.com/event/kitchen-taven-open-11-12-live-music-every-friday-100-winner-karaoke-every-other/2027-02-05/
END:VEVENT
BEGIN:VEVENT
DTSTART;TZID=America/Chicago:20270206T110000
DTEND;TZID=America/Chicago:20270206T235900
DTSTAMP:20260421T222138
CREATED:20240110T235242Z
LAST-MODIFIED:20240313T170456Z
UID:10009813-1801911600-1801958340@thequarrythornton.com
SUMMARY:Kitchen open 11-9 Tavern open 11-12. Live Music every Saturday 7-10
DESCRIPTION:
URL:https://thequarrythornton.com/event/kitchen-tavern-open-11-12-live-music-every-saturday/2027-02-06/
END:VEVENT
BEGIN:VEVENT
DTSTART;TZID=America/Chicago:20270207T110000
DTEND;TZID=America/Chicago:20270207T230000
DTSTAMP:20260421T222138
CREATED:20240110T235336Z
LAST-MODIFIED:20260113T182408Z
UID:10010074-1801998000-1802041200@thequarrythornton.com
SUMMARY:Kitchen open 11-7 Tavern open 11-11.
DESCRIPTION:
URL:https://thequarrythornton.com/event/kitchen-open-11-7-tavern-open-11-11/2027-02-07/
END:VEVENT
BEGIN:VEVENT
DTSTART;TZID=America/Chicago:20270208T110000
DTEND;TZID=America/Chicago:20270208T230000
DTSTAMP:20260421T222138
CREATED:20240110T235437Z
LAST-MODIFIED:20250510T191022Z
UID:10010979-1802084400-1802127600@thequarrythornton.com
SUMMARY:Kitchen open 11-9 Tavern open 11-11. 1/2 price pizza. Dine in only.
DESCRIPTION:
URL:https://thequarrythornton.com/event/kitchen-open-3-9-tavern-open-3-11/2027-02-08/
END:VEVENT
BEGIN:VEVENT
DTSTART;TZID=America/Chicago:20270209T110000
DTEND;TZID=America/Chicago:20270209T230000
DTSTAMP:20260421T222138
CREATED:20240110T235532Z
LAST-MODIFIED:20250325T221155Z
UID:10011538-1802170800-1802214000@thequarrythornton.com
SUMMARY:Kitchen open 11-9 Tavern open 11-11. Taco Tuesday! 3 beef\, pork or chicken $7.50
DESCRIPTION:
URL:https://thequarrythornton.com/event/kitchen-open-3-9-tavern-open-3-11-2/2027-02-09/
END:VEVENT
BEGIN:VEVENT
DTSTART;TZID=America/Chicago:20270210T110000
DTEND;TZID=America/Chicago:20270210T230000
DTSTAMP:20260421T222138
CREATED:20240110T233647Z
LAST-MODIFIED:20250510T190409Z
UID:10011259-1802257200-1802300400@thequarrythornton.com
SUMMARY:Kitchen open 11-9 Tavern open 11-11. Wing Wednesday 1/2 price traditional wings. Dine in only.
DESCRIPTION:
URL:https://thequarrythornton.com/event/kitchen-open-3-9-tavern-open-3-11-free-bingo-every-wednesday-7-9/2027-02-10/
END:VEVENT
BEGIN:VEVENT
DTSTART;TZID=America/Chicago:20270211T110000
DTEND;TZID=America/Chicago:20270211T235900
DTSTAMP:20260421T222138
CREATED:20240110T233826Z
LAST-MODIFIED:20250510T190549Z
UID:10011818-1802343600-1802390340@thequarrythornton.com
SUMMARY:Kitchen open 11-9 Tavern open 11-11. 1/2 price hot dogs or chili cheese dogs. Dine in only.
DESCRIPTION:
URL:https://thequarrythornton.com/event/kitchen-open-11-9-tavern-open-11-12-open-mic-7-10/2027-02-11/
END:VEVENT
BEGIN:VEVENT
DTSTART;TZID=America/Chicago:20270212T110000
DTEND;TZID=America/Chicago:20270212T235900
DTSTAMP:20260421T222138
CREATED:20240110T234444Z
LAST-MODIFIED:20260123T151734Z
UID:10009553-1802430000-1802476740@thequarrythornton.com
SUMMARY:Kitchen open 11-9 Tavern open 11-12.
DESCRIPTION:
URL:https://thequarrythornton.com/event/kitchen-taven-open-11-12-live-music-every-friday-100-winner-karaoke-every-other/2027-02-12/
END:VEVENT
BEGIN:VEVENT
DTSTART;TZID=America/Chicago:20270213T110000
DTEND;TZID=America/Chicago:20270213T235900
DTSTAMP:20260421T222138
CREATED:20240110T235242Z
LAST-MODIFIED:20240313T170456Z
UID:10009814-1802516400-1802563140@thequarrythornton.com
SUMMARY:Kitchen open 11-9 Tavern open 11-12. Live Music every Saturday 7-10
DESCRIPTION:
URL:https://thequarrythornton.com/event/kitchen-tavern-open-11-12-live-music-every-saturday/2027-02-13/
END:VEVENT
BEGIN:VEVENT
DTSTART;TZID=America/Chicago:20270214T110000
DTEND;TZID=America/Chicago:20270214T230000
DTSTAMP:20260421T222138
CREATED:20240110T235336Z
LAST-MODIFIED:20260113T182408Z
UID:10010075-1802602800-1802646000@thequarrythornton.com
SUMMARY:Kitchen open 11-7 Tavern open 11-11.
DESCRIPTION:
URL:https://thequarrythornton.com/event/kitchen-open-11-7-tavern-open-11-11/2027-02-14/
END:VEVENT
BEGIN:VEVENT
DTSTART;TZID=America/Chicago:20270215T110000
DTEND;TZID=America/Chicago:20270215T230000
DTSTAMP:20260421T222138
CREATED:20240110T235437Z
LAST-MODIFIED:20250510T191022Z
UID:10010980-1802689200-1802732400@thequarrythornton.com
SUMMARY:Kitchen open 11-9 Tavern open 11-11. 1/2 price pizza. Dine in only.
DESCRIPTION:
URL:https://thequarrythornton.com/event/kitchen-open-3-9-tavern-open-3-11/2027-02-15/
END:VEVENT
BEGIN:VEVENT
DTSTART;TZID=America/Chicago:20270216T110000
DTEND;TZID=America/Chicago:20270216T230000
DTSTAMP:20260421T222138
CREATED:20240110T235532Z
LAST-MODIFIED:20250325T221155Z
UID:10011539-1802775600-1802818800@thequarrythornton.com
SUMMARY:Kitchen open 11-9 Tavern open 11-11. Taco Tuesday! 3 beef\, pork or chicken $7.50
DESCRIPTION:
URL:https://thequarrythornton.com/event/kitchen-open-3-9-tavern-open-3-11-2/2027-02-16/
END:VEVENT
BEGIN:VEVENT
DTSTART;TZID=America/Chicago:20270217T110000
DTEND;TZID=America/Chicago:20270217T230000
DTSTAMP:20260421T222138
CREATED:20240110T233647Z
LAST-MODIFIED:20250510T190409Z
UID:10011260-1802862000-1802905200@thequarrythornton.com
SUMMARY:Kitchen open 11-9 Tavern open 11-11. Wing Wednesday 1/2 price traditional wings. Dine in only.
DESCRIPTION:
URL:https://thequarrythornton.com/event/kitchen-open-3-9-tavern-open-3-11-free-bingo-every-wednesday-7-9/2027-02-17/
END:VEVENT
BEGIN:VEVENT
DTSTART;TZID=America/Chicago:20270218T110000
DTEND;TZID=America/Chicago:20270218T235900
DTSTAMP:20260421T222138
CREATED:20240110T233826Z
LAST-MODIFIED:20250510T190549Z
UID:10011819-1802948400-1802995140@thequarrythornton.com
SUMMARY:Kitchen open 11-9 Tavern open 11-11. 1/2 price hot dogs or chili cheese dogs. Dine in only.
DESCRIPTION:
URL:https://thequarrythornton.com/event/kitchen-open-11-9-tavern-open-11-12-open-mic-7-10/2027-02-18/
END:VEVENT
BEGIN:VEVENT
DTSTART;TZID=America/Chicago:20270219T110000
DTEND;TZID=America/Chicago:20270219T235900
DTSTAMP:20260421T222138
CREATED:20240110T234444Z
LAST-MODIFIED:20260123T151734Z
UID:10009554-1803034800-1803081540@thequarrythornton.com
SUMMARY:Kitchen open 11-9 Tavern open 11-12.
DESCRIPTION:
URL:https://thequarrythornton.com/event/kitchen-taven-open-11-12-live-music-every-friday-100-winner-karaoke-every-other/2027-02-19/
END:VEVENT
BEGIN:VEVENT
DTSTART;TZID=America/Chicago:20270220T110000
DTEND;TZID=America/Chicago:20270220T235900
DTSTAMP:20260421T222138
CREATED:20240110T235242Z
LAST-MODIFIED:20240313T170456Z
UID:10009815-1803121200-1803167940@thequarrythornton.com
SUMMARY:Kitchen open 11-9 Tavern open 11-12. Live Music every Saturday 7-10
DESCRIPTION:
URL:https://thequarrythornton.com/event/kitchen-tavern-open-11-12-live-music-every-saturday/2027-02-20/
END:VEVENT
BEGIN:VEVENT
DTSTART;TZID=America/Chicago:20270221T110000
DTEND;TZID=America/Chicago:20270221T230000
DTSTAMP:20260421T222138
CREATED:20240110T235336Z
LAST-MODIFIED:20260113T182408Z
UID:10010076-1803207600-1803250800@thequarrythornton.com
SUMMARY:Kitchen open 11-7 Tavern open 11-11.
DESCRIPTION:
URL:https://thequarrythornton.com/event/kitchen-open-11-7-tavern-open-11-11/2027-02-21/
END:VEVENT
BEGIN:VEVENT
DTSTART;TZID=America/Chicago:20270222T110000
DTEND;TZID=America/Chicago:20270222T230000
DTSTAMP:20260421T222138
CREATED:20240110T235437Z
LAST-MODIFIED:20250510T191022Z
UID:10010981-1803294000-1803337200@thequarrythornton.com
SUMMARY:Kitchen open 11-9 Tavern open 11-11. 1/2 price pizza. Dine in only.
DESCRIPTION:
URL:https://thequarrythornton.com/event/kitchen-open-3-9-tavern-open-3-11/2027-02-22/
END:VEVENT
BEGIN:VEVENT
DTSTART;TZID=America/Chicago:20270223T110000
DTEND;TZID=America/Chicago:20270223T230000
DTSTAMP:20260421T222138
CREATED:20240110T235532Z
LAST-MODIFIED:20250325T221155Z
UID:10011540-1803380400-1803423600@thequarrythornton.com
SUMMARY:Kitchen open 11-9 Tavern open 11-11. Taco Tuesday! 3 beef\, pork or chicken $7.50
DESCRIPTION:
URL:https://thequarrythornton.com/event/kitchen-open-3-9-tavern-open-3-11-2/2027-02-23/
END:VEVENT
BEGIN:VEVENT
DTSTART;TZID=America/Chicago:20270224T110000
DTEND;TZID=America/Chicago:20270224T230000
DTSTAMP:20260421T222138
CREATED:20240110T233647Z
LAST-MODIFIED:20250510T190409Z
UID:10011261-1803466800-1803510000@thequarrythornton.com
SUMMARY:Kitchen open 11-9 Tavern open 11-11. Wing Wednesday 1/2 price traditional wings. Dine in only.
DESCRIPTION:
URL:https://thequarrythornton.com/event/kitchen-open-3-9-tavern-open-3-11-free-bingo-every-wednesday-7-9/2027-02-24/
END:VEVENT
BEGIN:VEVENT
DTSTART;TZID=America/Chicago:20270225T110000
DTEND;TZID=America/Chicago:20270225T235900
DTSTAMP:20260421T222138
CREATED:20240110T233826Z
LAST-MODIFIED:20250510T190549Z
UID:10011820-1803553200-1803599940@thequarrythornton.com
SUMMARY:Kitchen open 11-9 Tavern open 11-11. 1/2 price hot dogs or chili cheese dogs. Dine in only.
DESCRIPTION:
URL:https://thequarrythornton.com/event/kitchen-open-11-9-tavern-open-11-12-open-mic-7-10/2027-02-25/
END:VEVENT
BEGIN:VEVENT
DTSTART;TZID=America/Chicago:20270226T110000
DTEND;TZID=America/Chicago:20270226T235900
DTSTAMP:20260421T222138
CREATED:20240110T234444Z
LAST-MODIFIED:20260123T151734Z
UID:10009555-1803639600-1803686340@thequarrythornton.com
SUMMARY:Kitchen open 11-9 Tavern open 11-12.
DESCRIPTION:
URL:https://thequarrythornton.com/event/kitchen-taven-open-11-12-live-music-every-friday-100-winner-karaoke-every-other/2027-02-26/
END:VEVENT
BEGIN:VEVENT
DTSTART;TZID=America/Chicago:20270227T110000
DTEND;TZID=America/Chicago:20270227T235900
DTSTAMP:20260421T222138
CREATED:20240110T235242Z
LAST-MODIFIED:20240313T170456Z
UID:10009816-1803726000-1803772740@thequarrythornton.com
SUMMARY:Kitchen open 11-9 Tavern open 11-12. Live Music every Saturday 7-10
DESCRIPTION:
URL:https://thequarrythornton.com/event/kitchen-tavern-open-11-12-live-music-every-saturday/2027-02-27/
END:VEVENT
BEGIN:VEVENT
DTSTART;TZID=America/Chicago:20270228T110000
DTEND;TZID=America/Chicago:20270228T230000
DTSTAMP:20260421T222138
CREATED:20240110T235336Z
LAST-MODIFIED:20260113T182408Z
UID:10010077-1803812400-1803855600@thequarrythornton.com
SUMMARY:Kitchen open 11-7 Tavern open 11-11.
DESCRIPTION:
URL:https://thequarrythornton.com/event/kitchen-open-11-7-tavern-open-11-11/2027-02-28/
END:VEVENT
BEGIN:VEVENT
DTSTART;TZID=America/Chicago:20270301T110000
DTEND;TZID=America/Chicago:20270301T230000
DTSTAMP:20260421T222138
CREATED:20240110T235437Z
LAST-MODIFIED:20250510T191022Z
UID:10010982-1803898800-1803942000@thequarrythornton.com
SUMMARY:Kitchen open 11-9 Tavern open 11-11. 1/2 price pizza. Dine in only.
DESCRIPTION:
URL:https://thequarrythornton.com/event/kitchen-open-3-9-tavern-open-3-11/2027-03-01/
END:VEVENT
BEGIN:VEVENT
DTSTART;TZID=America/Chicago:20270302T110000
DTEND;TZID=America/Chicago:20270302T230000
DTSTAMP:20260421T222138
CREATED:20240110T235532Z
LAST-MODIFIED:20250325T221155Z
UID:10011541-1803985200-1804028400@thequarrythornton.com
SUMMARY:Kitchen open 11-9 Tavern open 11-11. Taco Tuesday! 3 beef\, pork or chicken $7.50
DESCRIPTION:
URL:https://thequarrythornton.com/event/kitchen-open-3-9-tavern-open-3-11-2/2027-03-02/
END:VEVENT
BEGIN:VEVENT
DTSTART;TZID=America/Chicago:20270303T110000
DTEND;TZID=America/Chicago:20270303T230000
DTSTAMP:20260421T222138
CREATED:20240110T233647Z
LAST-MODIFIED:20250510T190409Z
UID:10011262-1804071600-1804114800@thequarrythornton.com
SUMMARY:Kitchen open 11-9 Tavern open 11-11. Wing Wednesday 1/2 price traditional wings. Dine in only.
DESCRIPTION:
URL:https://thequarrythornton.com/event/kitchen-open-3-9-tavern-open-3-11-free-bingo-every-wednesday-7-9/2027-03-03/
END:VEVENT
BEGIN:VEVENT
DTSTART;TZID=America/Chicago:20270304T110000
DTEND;TZID=America/Chicago:20270304T235900
DTSTAMP:20260421T222138
CREATED:20240110T233826Z
LAST-MODIFIED:20250510T190549Z
UID:10011821-1804158000-1804204740@thequarrythornton.com
SUMMARY:Kitchen open 11-9 Tavern open 11-11. 1/2 price hot dogs or chili cheese dogs. Dine in only.
DESCRIPTION:
URL:https://thequarrythornton.com/event/kitchen-open-11-9-tavern-open-11-12-open-mic-7-10/2027-03-04/
END:VEVENT
BEGIN:VEVENT
DTSTART;TZID=America/Chicago:20270305T110000
DTEND;TZID=America/Chicago:20270305T235900
DTSTAMP:20260421T222138
CREATED:20240110T234444Z
LAST-MODIFIED:20260123T151734Z
UID:10009556-1804244400-1804291140@thequarrythornton.com
SUMMARY:Kitchen open 11-9 Tavern open 11-12.
DESCRIPTION:
URL:https://thequarrythornton.com/event/kitchen-taven-open-11-12-live-music-every-friday-100-winner-karaoke-every-other/2027-03-05/
END:VEVENT
END:VCALENDAR