BEGIN:VCALENDAR
VERSION:2.0
PRODID:-//The Quarry Ballroom - ECPv6.15.17.1//NONSGML v1.0//EN
CALSCALE:GREGORIAN
METHOD:PUBLISH
X-WR-CALNAME:The Quarry Ballroom
X-ORIGINAL-URL:https://thequarrythornton.com
X-WR-CALDESC:Events for The Quarry Ballroom
REFRESH-INTERVAL;VALUE=DURATION:PT1H
X-Robots-Tag:noindex
X-PUBLISHED-TTL:PT1H
BEGIN:VTIMEZONE
TZID:America/Chicago
BEGIN:DAYLIGHT
TZOFFSETFROM:-0600
TZOFFSETTO:-0500
TZNAME:CDT
DTSTART:20250309T080000
END:DAYLIGHT
BEGIN:STANDARD
TZOFFSETFROM:-0500
TZOFFSETTO:-0600
TZNAME:CST
DTSTART:20251102T070000
END:STANDARD
BEGIN:DAYLIGHT
TZOFFSETFROM:-0600
TZOFFSETTO:-0500
TZNAME:CDT
DTSTART:20260308T080000
END:DAYLIGHT
BEGIN:STANDARD
TZOFFSETFROM:-0500
TZOFFSETTO:-0600
TZNAME:CST
DTSTART:20261101T070000
END:STANDARD
BEGIN:DAYLIGHT
TZOFFSETFROM:-0600
TZOFFSETTO:-0500
TZNAME:CDT
DTSTART:20270314T080000
END:DAYLIGHT
BEGIN:STANDARD
TZOFFSETFROM:-0500
TZOFFSETTO:-0600
TZNAME:CST
DTSTART:20271107T070000
END:STANDARD
BEGIN:DAYLIGHT
TZOFFSETFROM:-0600
TZOFFSETTO:-0500
TZNAME:CDT
DTSTART:20280312T080000
END:DAYLIGHT
BEGIN:STANDARD
TZOFFSETFROM:-0500
TZOFFSETTO:-0600
TZNAME:CST
DTSTART:20281105T070000
END:STANDARD
END:VTIMEZONE
BEGIN:VEVENT
DTSTART;TZID=America/Chicago:20261218T110000
DTEND;TZID=America/Chicago:20261218T235900
DTSTAMP:20260421T153414
CREATED:20240110T234444Z
LAST-MODIFIED:20260123T151734Z
UID:10009545-1797591600-1797638340@thequarrythornton.com
SUMMARY:Kitchen open 11-9 Tavern open 11-12.
DESCRIPTION:
URL:https://thequarrythornton.com/event/kitchen-taven-open-11-12-live-music-every-friday-100-winner-karaoke-every-other/2026-12-18/
END:VEVENT
BEGIN:VEVENT
DTSTART;TZID=America/Chicago:20261219T110000
DTEND;TZID=America/Chicago:20261219T235900
DTSTAMP:20260421T153414
CREATED:20240110T235242Z
LAST-MODIFIED:20240313T170456Z
UID:10009806-1797678000-1797724740@thequarrythornton.com
SUMMARY:Kitchen open 11-9 Tavern open 11-12. Live Music every Saturday 7-10
DESCRIPTION:
URL:https://thequarrythornton.com/event/kitchen-tavern-open-11-12-live-music-every-saturday/2026-12-19/
END:VEVENT
BEGIN:VEVENT
DTSTART;TZID=America/Chicago:20261220T110000
DTEND;TZID=America/Chicago:20261220T230000
DTSTAMP:20260421T153414
CREATED:20240110T235336Z
LAST-MODIFIED:20260113T182408Z
UID:10010067-1797764400-1797807600@thequarrythornton.com
SUMMARY:Kitchen open 11-7 Tavern open 11-11.
DESCRIPTION:
URL:https://thequarrythornton.com/event/kitchen-open-11-7-tavern-open-11-11/2026-12-20/
END:VEVENT
BEGIN:VEVENT
DTSTART;TZID=America/Chicago:20261221T110000
DTEND;TZID=America/Chicago:20261221T230000
DTSTAMP:20260421T153414
CREATED:20240110T235437Z
LAST-MODIFIED:20250510T191022Z
UID:10010972-1797850800-1797894000@thequarrythornton.com
SUMMARY:Kitchen open 11-9 Tavern open 11-11. 1/2 price pizza. Dine in only.
DESCRIPTION:
URL:https://thequarrythornton.com/event/kitchen-open-3-9-tavern-open-3-11/2026-12-21/
END:VEVENT
BEGIN:VEVENT
DTSTART;TZID=America/Chicago:20261222T110000
DTEND;TZID=America/Chicago:20261222T230000
DTSTAMP:20260421T153414
CREATED:20240110T235532Z
LAST-MODIFIED:20250325T221155Z
UID:10011531-1797937200-1797980400@thequarrythornton.com
SUMMARY:Kitchen open 11-9 Tavern open 11-11. Taco Tuesday! 3 beef\, pork or chicken $7.50
DESCRIPTION:
URL:https://thequarrythornton.com/event/kitchen-open-3-9-tavern-open-3-11-2/2026-12-22/
END:VEVENT
BEGIN:VEVENT
DTSTART;TZID=America/Chicago:20261223T110000
DTEND;TZID=America/Chicago:20261223T230000
DTSTAMP:20260421T153414
CREATED:20240110T233647Z
LAST-MODIFIED:20250510T190409Z
UID:10011252-1798023600-1798066800@thequarrythornton.com
SUMMARY:Kitchen open 11-9 Tavern open 11-11. Wing Wednesday 1/2 price traditional wings. Dine in only.
DESCRIPTION:
URL:https://thequarrythornton.com/event/kitchen-open-3-9-tavern-open-3-11-free-bingo-every-wednesday-7-9/2026-12-23/
END:VEVENT
BEGIN:VEVENT
DTSTART;TZID=America/Chicago:20261224T110000
DTEND;TZID=America/Chicago:20261224T235900
DTSTAMP:20260421T153414
CREATED:20240110T233826Z
LAST-MODIFIED:20250510T190549Z
UID:10011811-1798110000-1798156740@thequarrythornton.com
SUMMARY:Kitchen open 11-9 Tavern open 11-11. 1/2 price hot dogs or chili cheese dogs. Dine in only.
DESCRIPTION:
URL:https://thequarrythornton.com/event/kitchen-open-11-9-tavern-open-11-12-open-mic-7-10/2026-12-24/
END:VEVENT
BEGIN:VEVENT
DTSTART;TZID=America/Chicago:20261225T110000
DTEND;TZID=America/Chicago:20261225T235900
DTSTAMP:20260421T153414
CREATED:20240110T234444Z
LAST-MODIFIED:20260123T151734Z
UID:10009546-1798196400-1798243140@thequarrythornton.com
SUMMARY:Kitchen open 11-9 Tavern open 11-12.
DESCRIPTION:
URL:https://thequarrythornton.com/event/kitchen-taven-open-11-12-live-music-every-friday-100-winner-karaoke-every-other/2026-12-25/
END:VEVENT
BEGIN:VEVENT
DTSTART;TZID=America/Chicago:20261226T110000
DTEND;TZID=America/Chicago:20261226T235900
DTSTAMP:20260421T153414
CREATED:20240110T235242Z
LAST-MODIFIED:20240313T170456Z
UID:10009807-1798282800-1798329540@thequarrythornton.com
SUMMARY:Kitchen open 11-9 Tavern open 11-12. Live Music every Saturday 7-10
DESCRIPTION:
URL:https://thequarrythornton.com/event/kitchen-tavern-open-11-12-live-music-every-saturday/2026-12-26/
END:VEVENT
BEGIN:VEVENT
DTSTART;TZID=America/Chicago:20261227T110000
DTEND;TZID=America/Chicago:20261227T230000
DTSTAMP:20260421T153414
CREATED:20240110T235336Z
LAST-MODIFIED:20260113T182408Z
UID:10010068-1798369200-1798412400@thequarrythornton.com
SUMMARY:Kitchen open 11-7 Tavern open 11-11.
DESCRIPTION:
URL:https://thequarrythornton.com/event/kitchen-open-11-7-tavern-open-11-11/2026-12-27/
END:VEVENT
BEGIN:VEVENT
DTSTART;TZID=America/Chicago:20261228T110000
DTEND;TZID=America/Chicago:20261228T230000
DTSTAMP:20260421T153414
CREATED:20240110T235437Z
LAST-MODIFIED:20250510T191022Z
UID:10010973-1798455600-1798498800@thequarrythornton.com
SUMMARY:Kitchen open 11-9 Tavern open 11-11. 1/2 price pizza. Dine in only.
DESCRIPTION:
URL:https://thequarrythornton.com/event/kitchen-open-3-9-tavern-open-3-11/2026-12-28/
END:VEVENT
BEGIN:VEVENT
DTSTART;TZID=America/Chicago:20261229T110000
DTEND;TZID=America/Chicago:20261229T230000
DTSTAMP:20260421T153414
CREATED:20240110T235532Z
LAST-MODIFIED:20250325T221155Z
UID:10011532-1798542000-1798585200@thequarrythornton.com
SUMMARY:Kitchen open 11-9 Tavern open 11-11. Taco Tuesday! 3 beef\, pork or chicken $7.50
DESCRIPTION:
URL:https://thequarrythornton.com/event/kitchen-open-3-9-tavern-open-3-11-2/2026-12-29/
END:VEVENT
BEGIN:VEVENT
DTSTART;TZID=America/Chicago:20261230T110000
DTEND;TZID=America/Chicago:20261230T230000
DTSTAMP:20260421T153414
CREATED:20240110T233647Z
LAST-MODIFIED:20250510T190409Z
UID:10011253-1798628400-1798671600@thequarrythornton.com
SUMMARY:Kitchen open 11-9 Tavern open 11-11. Wing Wednesday 1/2 price traditional wings. Dine in only.
DESCRIPTION:
URL:https://thequarrythornton.com/event/kitchen-open-3-9-tavern-open-3-11-free-bingo-every-wednesday-7-9/2026-12-30/
END:VEVENT
BEGIN:VEVENT
DTSTART;TZID=America/Chicago:20261231T110000
DTEND;TZID=America/Chicago:20261231T235900
DTSTAMP:20260421T153414
CREATED:20240110T233826Z
LAST-MODIFIED:20250510T190549Z
UID:10011812-1798714800-1798761540@thequarrythornton.com
SUMMARY:Kitchen open 11-9 Tavern open 11-11. 1/2 price hot dogs or chili cheese dogs. Dine in only.
DESCRIPTION:
URL:https://thequarrythornton.com/event/kitchen-open-11-9-tavern-open-11-12-open-mic-7-10/2026-12-31/
END:VEVENT
BEGIN:VEVENT
DTSTART;TZID=America/Chicago:20270101T110000
DTEND;TZID=America/Chicago:20270101T235900
DTSTAMP:20260421T153414
CREATED:20240110T234444Z
LAST-MODIFIED:20260123T151734Z
UID:10009547-1798801200-1798847940@thequarrythornton.com
SUMMARY:Kitchen open 11-9 Tavern open 11-12.
DESCRIPTION:
URL:https://thequarrythornton.com/event/kitchen-taven-open-11-12-live-music-every-friday-100-winner-karaoke-every-other/2027-01-01/
END:VEVENT
BEGIN:VEVENT
DTSTART;TZID=America/Chicago:20270102T110000
DTEND;TZID=America/Chicago:20270102T235900
DTSTAMP:20260421T153414
CREATED:20240110T235242Z
LAST-MODIFIED:20240313T170456Z
UID:10009808-1798887600-1798934340@thequarrythornton.com
SUMMARY:Kitchen open 11-9 Tavern open 11-12. Live Music every Saturday 7-10
DESCRIPTION:
URL:https://thequarrythornton.com/event/kitchen-tavern-open-11-12-live-music-every-saturday/2027-01-02/
END:VEVENT
BEGIN:VEVENT
DTSTART;TZID=America/Chicago:20270103T110000
DTEND;TZID=America/Chicago:20270103T230000
DTSTAMP:20260421T153414
CREATED:20240110T235336Z
LAST-MODIFIED:20260113T182408Z
UID:10010069-1798974000-1799017200@thequarrythornton.com
SUMMARY:Kitchen open 11-7 Tavern open 11-11.
DESCRIPTION:
URL:https://thequarrythornton.com/event/kitchen-open-11-7-tavern-open-11-11/2027-01-03/
END:VEVENT
BEGIN:VEVENT
DTSTART;TZID=America/Chicago:20270104T110000
DTEND;TZID=America/Chicago:20270104T230000
DTSTAMP:20260421T153414
CREATED:20240110T235437Z
LAST-MODIFIED:20250510T191022Z
UID:10010974-1799060400-1799103600@thequarrythornton.com
SUMMARY:Kitchen open 11-9 Tavern open 11-11. 1/2 price pizza. Dine in only.
DESCRIPTION:
URL:https://thequarrythornton.com/event/kitchen-open-3-9-tavern-open-3-11/2027-01-04/
END:VEVENT
BEGIN:VEVENT
DTSTART;TZID=America/Chicago:20270105T110000
DTEND;TZID=America/Chicago:20270105T230000
DTSTAMP:20260421T153414
CREATED:20240110T235532Z
LAST-MODIFIED:20250325T221155Z
UID:10011533-1799146800-1799190000@thequarrythornton.com
SUMMARY:Kitchen open 11-9 Tavern open 11-11. Taco Tuesday! 3 beef\, pork or chicken $7.50
DESCRIPTION:
URL:https://thequarrythornton.com/event/kitchen-open-3-9-tavern-open-3-11-2/2027-01-05/
END:VEVENT
BEGIN:VEVENT
DTSTART;TZID=America/Chicago:20270106T110000
DTEND;TZID=America/Chicago:20270106T230000
DTSTAMP:20260421T153414
CREATED:20240110T233647Z
LAST-MODIFIED:20250510T190409Z
UID:10011254-1799233200-1799276400@thequarrythornton.com
SUMMARY:Kitchen open 11-9 Tavern open 11-11. Wing Wednesday 1/2 price traditional wings. Dine in only.
DESCRIPTION:
URL:https://thequarrythornton.com/event/kitchen-open-3-9-tavern-open-3-11-free-bingo-every-wednesday-7-9/2027-01-06/
END:VEVENT
BEGIN:VEVENT
DTSTART;TZID=America/Chicago:20270107T110000
DTEND;TZID=America/Chicago:20270107T235900
DTSTAMP:20260421T153414
CREATED:20240110T233826Z
LAST-MODIFIED:20250510T190549Z
UID:10011813-1799319600-1799366340@thequarrythornton.com
SUMMARY:Kitchen open 11-9 Tavern open 11-11. 1/2 price hot dogs or chili cheese dogs. Dine in only.
DESCRIPTION:
URL:https://thequarrythornton.com/event/kitchen-open-11-9-tavern-open-11-12-open-mic-7-10/2027-01-07/
END:VEVENT
BEGIN:VEVENT
DTSTART;TZID=America/Chicago:20270108T110000
DTEND;TZID=America/Chicago:20270108T235900
DTSTAMP:20260421T153414
CREATED:20240110T234444Z
LAST-MODIFIED:20260123T151734Z
UID:10009548-1799406000-1799452740@thequarrythornton.com
SUMMARY:Kitchen open 11-9 Tavern open 11-12.
DESCRIPTION:
URL:https://thequarrythornton.com/event/kitchen-taven-open-11-12-live-music-every-friday-100-winner-karaoke-every-other/2027-01-08/
END:VEVENT
BEGIN:VEVENT
DTSTART;TZID=America/Chicago:20270109T110000
DTEND;TZID=America/Chicago:20270109T235900
DTSTAMP:20260421T153414
CREATED:20240110T235242Z
LAST-MODIFIED:20240313T170456Z
UID:10009809-1799492400-1799539140@thequarrythornton.com
SUMMARY:Kitchen open 11-9 Tavern open 11-12. Live Music every Saturday 7-10
DESCRIPTION:
URL:https://thequarrythornton.com/event/kitchen-tavern-open-11-12-live-music-every-saturday/2027-01-09/
END:VEVENT
BEGIN:VEVENT
DTSTART;TZID=America/Chicago:20270110T110000
DTEND;TZID=America/Chicago:20270110T230000
DTSTAMP:20260421T153414
CREATED:20240110T235336Z
LAST-MODIFIED:20260113T182408Z
UID:10010070-1799578800-1799622000@thequarrythornton.com
SUMMARY:Kitchen open 11-7 Tavern open 11-11.
DESCRIPTION:
URL:https://thequarrythornton.com/event/kitchen-open-11-7-tavern-open-11-11/2027-01-10/
END:VEVENT
BEGIN:VEVENT
DTSTART;TZID=America/Chicago:20270111T110000
DTEND;TZID=America/Chicago:20270111T230000
DTSTAMP:20260421T153414
CREATED:20240110T235437Z
LAST-MODIFIED:20250510T191022Z
UID:10010975-1799665200-1799708400@thequarrythornton.com
SUMMARY:Kitchen open 11-9 Tavern open 11-11. 1/2 price pizza. Dine in only.
DESCRIPTION:
URL:https://thequarrythornton.com/event/kitchen-open-3-9-tavern-open-3-11/2027-01-11/
END:VEVENT
BEGIN:VEVENT
DTSTART;TZID=America/Chicago:20270112T110000
DTEND;TZID=America/Chicago:20270112T230000
DTSTAMP:20260421T153414
CREATED:20240110T235532Z
LAST-MODIFIED:20250325T221155Z
UID:10011534-1799751600-1799794800@thequarrythornton.com
SUMMARY:Kitchen open 11-9 Tavern open 11-11. Taco Tuesday! 3 beef\, pork or chicken $7.50
DESCRIPTION:
URL:https://thequarrythornton.com/event/kitchen-open-3-9-tavern-open-3-11-2/2027-01-12/
END:VEVENT
BEGIN:VEVENT
DTSTART;TZID=America/Chicago:20270113T110000
DTEND;TZID=America/Chicago:20270113T230000
DTSTAMP:20260421T153414
CREATED:20240110T233647Z
LAST-MODIFIED:20250510T190409Z
UID:10011255-1799838000-1799881200@thequarrythornton.com
SUMMARY:Kitchen open 11-9 Tavern open 11-11. Wing Wednesday 1/2 price traditional wings. Dine in only.
DESCRIPTION:
URL:https://thequarrythornton.com/event/kitchen-open-3-9-tavern-open-3-11-free-bingo-every-wednesday-7-9/2027-01-13/
END:VEVENT
BEGIN:VEVENT
DTSTART;TZID=America/Chicago:20270114T110000
DTEND;TZID=America/Chicago:20270114T235900
DTSTAMP:20260421T153414
CREATED:20240110T233826Z
LAST-MODIFIED:20250510T190549Z
UID:10011814-1799924400-1799971140@thequarrythornton.com
SUMMARY:Kitchen open 11-9 Tavern open 11-11. 1/2 price hot dogs or chili cheese dogs. Dine in only.
DESCRIPTION:
URL:https://thequarrythornton.com/event/kitchen-open-11-9-tavern-open-11-12-open-mic-7-10/2027-01-14/
END:VEVENT
BEGIN:VEVENT
DTSTART;TZID=America/Chicago:20270115T110000
DTEND;TZID=America/Chicago:20270115T235900
DTSTAMP:20260421T153414
CREATED:20240110T234444Z
LAST-MODIFIED:20260123T151734Z
UID:10009549-1800010800-1800057540@thequarrythornton.com
SUMMARY:Kitchen open 11-9 Tavern open 11-12.
DESCRIPTION:
URL:https://thequarrythornton.com/event/kitchen-taven-open-11-12-live-music-every-friday-100-winner-karaoke-every-other/2027-01-15/
END:VEVENT
BEGIN:VEVENT
DTSTART;TZID=America/Chicago:20270116T110000
DTEND;TZID=America/Chicago:20270116T235900
DTSTAMP:20260421T153414
CREATED:20240110T235242Z
LAST-MODIFIED:20240313T170456Z
UID:10009810-1800097200-1800143940@thequarrythornton.com
SUMMARY:Kitchen open 11-9 Tavern open 11-12. Live Music every Saturday 7-10
DESCRIPTION:
URL:https://thequarrythornton.com/event/kitchen-tavern-open-11-12-live-music-every-saturday/2027-01-16/
END:VEVENT
END:VCALENDAR