BEGIN:VCALENDAR
VERSION:2.0
PRODID:-//The Quarry Ballroom - ECPv6.15.17.1//NONSGML v1.0//EN
CALSCALE:GREGORIAN
METHOD:PUBLISH
X-WR-CALNAME:The Quarry Ballroom
X-ORIGINAL-URL:https://thequarrythornton.com
X-WR-CALDESC:Events for The Quarry Ballroom
REFRESH-INTERVAL;VALUE=DURATION:PT1H
X-Robots-Tag:noindex
X-PUBLISHED-TTL:PT1H
BEGIN:VTIMEZONE
TZID:America/Chicago
BEGIN:DAYLIGHT
TZOFFSETFROM:-0600
TZOFFSETTO:-0500
TZNAME:CDT
DTSTART:20230312T080000
END:DAYLIGHT
BEGIN:STANDARD
TZOFFSETFROM:-0500
TZOFFSETTO:-0600
TZNAME:CST
DTSTART:20231105T070000
END:STANDARD
BEGIN:DAYLIGHT
TZOFFSETFROM:-0600
TZOFFSETTO:-0500
TZNAME:CDT
DTSTART:20240310T080000
END:DAYLIGHT
BEGIN:STANDARD
TZOFFSETFROM:-0500
TZOFFSETTO:-0600
TZNAME:CST
DTSTART:20241103T070000
END:STANDARD
BEGIN:DAYLIGHT
TZOFFSETFROM:-0600
TZOFFSETTO:-0500
TZNAME:CDT
DTSTART:20250309T080000
END:DAYLIGHT
BEGIN:STANDARD
TZOFFSETFROM:-0500
TZOFFSETTO:-0600
TZNAME:CST
DTSTART:20251102T070000
END:STANDARD
END:VTIMEZONE
BEGIN:VEVENT
DTSTART;TZID=America/Chicago:20240806T110000
DTEND;TZID=America/Chicago:20240806T230000
DTSTAMP:20260421T213339
CREATED:20240110T235532Z
LAST-MODIFIED:20250325T221155Z
UID:10011407-1722942000-1722985200@thequarrythornton.com
SUMMARY:Kitchen open 11-9 Tavern open 11-11. Taco Tuesday! 3 beef\, pork or chicken $7.50
DESCRIPTION:
URL:https://thequarrythornton.com/event/kitchen-open-3-9-tavern-open-3-11-2/2024-08-06/
END:VEVENT
BEGIN:VEVENT
DTSTART;TZID=America/Chicago:20240805T110000
DTEND;TZID=America/Chicago:20240805T230000
DTSTAMP:20260421T213339
CREATED:20240110T235437Z
LAST-MODIFIED:20250510T191022Z
UID:10010848-1722855600-1722898800@thequarrythornton.com
SUMMARY:Kitchen open 11-9 Tavern open 11-11. 1/2 price pizza. Dine in only.
DESCRIPTION:
URL:https://thequarrythornton.com/event/kitchen-open-3-9-tavern-open-3-11/2024-08-05/
END:VEVENT
BEGIN:VEVENT
DTSTART;TZID=America/Chicago:20240804T140000
DTEND;TZID=America/Chicago:20240804T170000
DTSTAMP:20260421T213339
CREATED:20240703T212957Z
LAST-MODIFIED:20240703T212957Z
UID:10011951-1722780000-1722790800@thequarrythornton.com
SUMMARY:Susan Williams Blues
DESCRIPTION:
URL:https://thequarrythornton.com/event/susan-williams-blues-5/
LOCATION:121 S Williams St\, Thornton\, IL 60476\, USA
END:VEVENT
BEGIN:VEVENT
DTSTART;TZID=America/Chicago:20240804T110000
DTEND;TZID=America/Chicago:20240804T230000
DTSTAMP:20260421T213339
CREATED:20240110T235336Z
LAST-MODIFIED:20260113T182408Z
UID:10009943-1722769200-1722812400@thequarrythornton.com
SUMMARY:Kitchen open 11-7 Tavern open 11-11.
DESCRIPTION:
URL:https://thequarrythornton.com/event/kitchen-open-11-7-tavern-open-11-11/2024-08-04/
END:VEVENT
BEGIN:VEVENT
DTSTART;TZID=America/Chicago:20240803T190000
DTEND;TZID=America/Chicago:20240803T220000
DTSTAMP:20260421T213339
CREATED:20240731T191117Z
LAST-MODIFIED:20240731T191117Z
UID:10011965-1722711600-1722722400@thequarrythornton.com
SUMMARY:Danger Zone
DESCRIPTION:
URL:https://thequarrythornton.com/event/danger-zone/
LOCATION:121 S Williams St\, Thornton\, IL 60476\, USA
END:VEVENT
BEGIN:VEVENT
DTSTART;TZID=America/Chicago:20240803T110000
DTEND;TZID=America/Chicago:20240803T235900
DTSTAMP:20260421T213339
CREATED:20240110T235242Z
LAST-MODIFIED:20240313T170456Z
UID:10009682-1722682800-1722729540@thequarrythornton.com
SUMMARY:Kitchen open 11-9 Tavern open 11-12. Live Music every Saturday 7-10
DESCRIPTION:
URL:https://thequarrythornton.com/event/kitchen-tavern-open-11-12-live-music-every-saturday/2024-08-03/
END:VEVENT
BEGIN:VEVENT
DTSTART;TZID=America/Chicago:20240802T190000
DTEND;TZID=America/Chicago:20240802T220000
DTSTAMP:20260421T213339
CREATED:20240507T174740Z
LAST-MODIFIED:20240507T174740Z
UID:10010809-1722625200-1722636000@thequarrythornton.com
SUMMARY:The Lemmon Brothers!
DESCRIPTION:
URL:https://thequarrythornton.com/event/the-lemmon-brothers/
LOCATION:121 S Williams St\, Thornton\, IL 60476\, USA
END:VEVENT
BEGIN:VEVENT
DTSTART;TZID=America/Chicago:20240802T110000
DTEND;TZID=America/Chicago:20240802T235900
DTSTAMP:20260421T213339
CREATED:20240110T234444Z
LAST-MODIFIED:20260123T151734Z
UID:10009421-1722596400-1722643140@thequarrythornton.com
SUMMARY:Kitchen open 11-9 Tavern open 11-12.
DESCRIPTION:
URL:https://thequarrythornton.com/event/kitchen-taven-open-11-12-live-music-every-friday-100-winner-karaoke-every-other/2024-08-02/
END:VEVENT
BEGIN:VEVENT
DTSTART;TZID=America/Chicago:20240801T110000
DTEND;TZID=America/Chicago:20240801T235900
DTSTAMP:20260421T213339
CREATED:20240110T233826Z
LAST-MODIFIED:20250510T190549Z
UID:10011686-1722510000-1722556740@thequarrythornton.com
SUMMARY:Kitchen open 11-9 Tavern open 11-11. 1/2 price hot dogs or chili cheese dogs. Dine in only.
DESCRIPTION:
URL:https://thequarrythornton.com/event/kitchen-open-11-9-tavern-open-11-12-open-mic-7-10/2024-08-01/
END:VEVENT
BEGIN:VEVENT
DTSTART;TZID=America/Chicago:20240731T110000
DTEND;TZID=America/Chicago:20240731T230000
DTSTAMP:20260421T213339
CREATED:20240110T233647Z
LAST-MODIFIED:20250510T190409Z
UID:10011127-1722423600-1722466800@thequarrythornton.com
SUMMARY:Kitchen open 11-9 Tavern open 11-11. Wing Wednesday 1/2 price traditional wings. Dine in only.
DESCRIPTION:
URL:https://thequarrythornton.com/event/kitchen-open-3-9-tavern-open-3-11-free-bingo-every-wednesday-7-9/2024-07-31/
END:VEVENT
BEGIN:VEVENT
DTSTART;TZID=America/Chicago:20240730T110000
DTEND;TZID=America/Chicago:20240730T230000
DTSTAMP:20260421T213339
CREATED:20240110T235532Z
LAST-MODIFIED:20250325T221155Z
UID:10011406-1722337200-1722380400@thequarrythornton.com
SUMMARY:Kitchen open 11-9 Tavern open 11-11. Taco Tuesday! 3 beef\, pork or chicken $7.50
DESCRIPTION:
URL:https://thequarrythornton.com/event/kitchen-open-3-9-tavern-open-3-11-2/2024-07-30/
END:VEVENT
BEGIN:VEVENT
DTSTART;TZID=America/Chicago:20240729T110000
DTEND;TZID=America/Chicago:20240729T230000
DTSTAMP:20260421T213339
CREATED:20240110T235437Z
LAST-MODIFIED:20250510T191022Z
UID:10010847-1722250800-1722294000@thequarrythornton.com
SUMMARY:Kitchen open 11-9 Tavern open 11-11. 1/2 price pizza. Dine in only.
DESCRIPTION:
URL:https://thequarrythornton.com/event/kitchen-open-3-9-tavern-open-3-11/2024-07-29/
END:VEVENT
BEGIN:VEVENT
DTSTART;TZID=America/Chicago:20240728T140000
DTEND;TZID=America/Chicago:20240728T170000
DTSTAMP:20260421T213339
CREATED:20240703T212923Z
LAST-MODIFIED:20240703T212923Z
UID:10011950-1722175200-1722186000@thequarrythornton.com
SUMMARY:Fabulous Fabtones
DESCRIPTION:
URL:https://thequarrythornton.com/event/fabulous-fabtones/
LOCATION:121 S Williams St\, Thornton\, IL 60476\, USA
END:VEVENT
BEGIN:VEVENT
DTSTART;TZID=America/Chicago:20240728T110000
DTEND;TZID=America/Chicago:20240728T230000
DTSTAMP:20260421T213339
CREATED:20240110T235336Z
LAST-MODIFIED:20260113T182408Z
UID:10009942-1722164400-1722207600@thequarrythornton.com
SUMMARY:Kitchen open 11-7 Tavern open 11-11.
DESCRIPTION:
URL:https://thequarrythornton.com/event/kitchen-open-11-7-tavern-open-11-11/2024-07-28/
END:VEVENT
BEGIN:VEVENT
DTSTART;TZID=America/Chicago:20240727T190000
DTEND;TZID=America/Chicago:20240727T220000
DTSTAMP:20260421T213339
CREATED:20240422T195113Z
LAST-MODIFIED:20240422T195113Z
UID:10010804-1722106800-1722117600@thequarrythornton.com
SUMMARY:The Handsome Jerks- rock\, pop\, punk
DESCRIPTION:
URL:https://thequarrythornton.com/event/the-handsome-jerks-rock-pop-punk/
LOCATION:121 S Williams St\, Thornton\, IL 60476\, USA
END:VEVENT
BEGIN:VEVENT
DTSTART;TZID=America/Chicago:20240727T110000
DTEND;TZID=America/Chicago:20240727T235900
DTSTAMP:20260421T213339
CREATED:20240110T235242Z
LAST-MODIFIED:20240313T170456Z
UID:10009681-1722078000-1722124740@thequarrythornton.com
SUMMARY:Kitchen open 11-9 Tavern open 11-12. Live Music every Saturday 7-10
DESCRIPTION:
URL:https://thequarrythornton.com/event/kitchen-tavern-open-11-12-live-music-every-saturday/2024-07-27/
END:VEVENT
BEGIN:VEVENT
DTSTART;TZID=America/Chicago:20240726T190000
DTEND;TZID=America/Chicago:20240726T220000
DTSTAMP:20260421T213339
CREATED:20240327T230446Z
LAST-MODIFIED:20240327T230446Z
UID:10010774-1722020400-1722031200@thequarrythornton.com
SUMMARY:Silver Eagle Band- southern & classic rock
DESCRIPTION:
URL:https://thequarrythornton.com/event/silver-eagle-band-southern-classic-rock/
END:VEVENT
BEGIN:VEVENT
DTSTART;TZID=America/Chicago:20240726T110000
DTEND;TZID=America/Chicago:20240726T235900
DTSTAMP:20260421T213339
CREATED:20240110T234444Z
LAST-MODIFIED:20260123T151734Z
UID:10009420-1721991600-1722038340@thequarrythornton.com
SUMMARY:Kitchen open 11-9 Tavern open 11-12.
DESCRIPTION:
URL:https://thequarrythornton.com/event/kitchen-taven-open-11-12-live-music-every-friday-100-winner-karaoke-every-other/2024-07-26/
END:VEVENT
BEGIN:VEVENT
DTSTART;TZID=America/Chicago:20240725T110000
DTEND;TZID=America/Chicago:20240725T235900
DTSTAMP:20260421T213339
CREATED:20240110T233826Z
LAST-MODIFIED:20250510T190549Z
UID:10011685-1721905200-1721951940@thequarrythornton.com
SUMMARY:Kitchen open 11-9 Tavern open 11-11. 1/2 price hot dogs or chili cheese dogs. Dine in only.
DESCRIPTION:
URL:https://thequarrythornton.com/event/kitchen-open-11-9-tavern-open-11-12-open-mic-7-10/2024-07-25/
END:VEVENT
BEGIN:VEVENT
DTSTART;TZID=America/Chicago:20240724T110000
DTEND;TZID=America/Chicago:20240724T230000
DTSTAMP:20260421T213339
CREATED:20240110T233647Z
LAST-MODIFIED:20250510T190409Z
UID:10011126-1721818800-1721862000@thequarrythornton.com
SUMMARY:Kitchen open 11-9 Tavern open 11-11. Wing Wednesday 1/2 price traditional wings. Dine in only.
DESCRIPTION:
URL:https://thequarrythornton.com/event/kitchen-open-3-9-tavern-open-3-11-free-bingo-every-wednesday-7-9/2024-07-24/
END:VEVENT
BEGIN:VEVENT
DTSTART;TZID=America/Chicago:20240723T110000
DTEND;TZID=America/Chicago:20240723T230000
DTSTAMP:20260421T213339
CREATED:20240110T235532Z
LAST-MODIFIED:20250325T221155Z
UID:10011405-1721732400-1721775600@thequarrythornton.com
SUMMARY:Kitchen open 11-9 Tavern open 11-11. Taco Tuesday! 3 beef\, pork or chicken $7.50
DESCRIPTION:
URL:https://thequarrythornton.com/event/kitchen-open-3-9-tavern-open-3-11-2/2024-07-23/
END:VEVENT
BEGIN:VEVENT
DTSTART;TZID=America/Chicago:20240722T110000
DTEND;TZID=America/Chicago:20240722T230000
DTSTAMP:20260421T213339
CREATED:20240110T235437Z
LAST-MODIFIED:20250510T191022Z
UID:10010846-1721646000-1721689200@thequarrythornton.com
SUMMARY:Kitchen open 11-9 Tavern open 11-11. 1/2 price pizza. Dine in only.
DESCRIPTION:
URL:https://thequarrythornton.com/event/kitchen-open-3-9-tavern-open-3-11/2024-07-22/
END:VEVENT
BEGIN:VEVENT
DTSTART;TZID=America/Chicago:20240721T140000
DTEND;TZID=America/Chicago:20240721T170000
DTSTAMP:20260421T213339
CREATED:20240703T212853Z
LAST-MODIFIED:20240704T181419Z
UID:10011949-1721570400-1721581200@thequarrythornton.com
SUMMARY:Travis & Jimmy- acoustic
DESCRIPTION:
URL:https://thequarrythornton.com/event/krudup-delph-acoustic-2/
LOCATION:121 S Williams St\, Thornton\, IL 60476\, USA
END:VEVENT
BEGIN:VEVENT
DTSTART;TZID=America/Chicago:20240721T110000
DTEND;TZID=America/Chicago:20240721T230000
DTSTAMP:20260421T213339
CREATED:20240110T235336Z
LAST-MODIFIED:20260113T182408Z
UID:10009941-1721559600-1721602800@thequarrythornton.com
SUMMARY:Kitchen open 11-7 Tavern open 11-11.
DESCRIPTION:
URL:https://thequarrythornton.com/event/kitchen-open-11-7-tavern-open-11-11/2024-07-21/
END:VEVENT
BEGIN:VEVENT
DTSTART;TZID=America/Chicago:20240720T190000
DTEND;TZID=America/Chicago:20240720T220000
DTSTAMP:20260421T213339
CREATED:20240306T222416Z
LAST-MODIFIED:20240306T222416Z
UID:10010710-1721502000-1721512800@thequarrythornton.com
SUMMARY:R&L review- smooth rock n soul
DESCRIPTION:
URL:https://thequarrythornton.com/event/rl-review-smooth-rock-n-soul/
END:VEVENT
BEGIN:VEVENT
DTSTART;TZID=America/Chicago:20240720T110000
DTEND;TZID=America/Chicago:20240720T235900
DTSTAMP:20260421T213339
CREATED:20240110T235242Z
LAST-MODIFIED:20240313T170456Z
UID:10009680-1721473200-1721519940@thequarrythornton.com
SUMMARY:Kitchen open 11-9 Tavern open 11-12. Live Music every Saturday 7-10
DESCRIPTION:
URL:https://thequarrythornton.com/event/kitchen-tavern-open-11-12-live-music-every-saturday/2024-07-20/
END:VEVENT
BEGIN:VEVENT
DTSTART;TZID=America/Chicago:20240719T110000
DTEND;TZID=America/Chicago:20240719T235900
DTSTAMP:20260421T213339
CREATED:20240110T234444Z
LAST-MODIFIED:20260123T151734Z
UID:10009419-1721386800-1721433540@thequarrythornton.com
SUMMARY:Kitchen open 11-9 Tavern open 11-12.
DESCRIPTION:
URL:https://thequarrythornton.com/event/kitchen-taven-open-11-12-live-music-every-friday-100-winner-karaoke-every-other/2024-07-19/
END:VEVENT
BEGIN:VEVENT
DTSTART;TZID=America/Chicago:20240718T110000
DTEND;TZID=America/Chicago:20240718T235900
DTSTAMP:20260421T213339
CREATED:20240110T233826Z
LAST-MODIFIED:20250510T190549Z
UID:10011684-1721300400-1721347140@thequarrythornton.com
SUMMARY:Kitchen open 11-9 Tavern open 11-11. 1/2 price hot dogs or chili cheese dogs. Dine in only.
DESCRIPTION:
URL:https://thequarrythornton.com/event/kitchen-open-11-9-tavern-open-11-12-open-mic-7-10/2024-07-18/
END:VEVENT
BEGIN:VEVENT
DTSTART;TZID=America/Chicago:20240717T110000
DTEND;TZID=America/Chicago:20240717T230000
DTSTAMP:20260421T213339
CREATED:20240110T233647Z
LAST-MODIFIED:20250510T190409Z
UID:10011125-1721214000-1721257200@thequarrythornton.com
SUMMARY:Kitchen open 11-9 Tavern open 11-11. Wing Wednesday 1/2 price traditional wings. Dine in only.
DESCRIPTION:
URL:https://thequarrythornton.com/event/kitchen-open-3-9-tavern-open-3-11-free-bingo-every-wednesday-7-9/2024-07-17/
END:VEVENT
BEGIN:VEVENT
DTSTART;TZID=America/Chicago:20240716T110000
DTEND;TZID=America/Chicago:20240716T230000
DTSTAMP:20260421T213339
CREATED:20240110T235532Z
LAST-MODIFIED:20250325T221155Z
UID:10011404-1721127600-1721170800@thequarrythornton.com
SUMMARY:Kitchen open 11-9 Tavern open 11-11. Taco Tuesday! 3 beef\, pork or chicken $7.50
DESCRIPTION:
URL:https://thequarrythornton.com/event/kitchen-open-3-9-tavern-open-3-11-2/2024-07-16/
END:VEVENT
END:VCALENDAR