BEGIN:VCALENDAR
VERSION:2.0
PRODID:-//The Quarry Ballroom - ECPv6.15.17.1//NONSGML v1.0//EN
CALSCALE:GREGORIAN
METHOD:PUBLISH
X-WR-CALNAME:The Quarry Ballroom
X-ORIGINAL-URL:https://thequarrythornton.com
X-WR-CALDESC:Events for The Quarry Ballroom
REFRESH-INTERVAL;VALUE=DURATION:PT1H
X-Robots-Tag:noindex
X-PUBLISHED-TTL:PT1H
BEGIN:VTIMEZONE
TZID:America/Chicago
BEGIN:DAYLIGHT
TZOFFSETFROM:-0600
TZOFFSETTO:-0500
TZNAME:CDT
DTSTART:20230312T080000
END:DAYLIGHT
BEGIN:STANDARD
TZOFFSETFROM:-0500
TZOFFSETTO:-0600
TZNAME:CST
DTSTART:20231105T070000
END:STANDARD
BEGIN:DAYLIGHT
TZOFFSETFROM:-0600
TZOFFSETTO:-0500
TZNAME:CDT
DTSTART:20240310T080000
END:DAYLIGHT
BEGIN:STANDARD
TZOFFSETFROM:-0500
TZOFFSETTO:-0600
TZNAME:CST
DTSTART:20241103T070000
END:STANDARD
BEGIN:DAYLIGHT
TZOFFSETFROM:-0600
TZOFFSETTO:-0500
TZNAME:CDT
DTSTART:20250309T080000
END:DAYLIGHT
BEGIN:STANDARD
TZOFFSETFROM:-0500
TZOFFSETTO:-0600
TZNAME:CST
DTSTART:20251102T070000
END:STANDARD
END:VTIMEZONE
BEGIN:VEVENT
DTSTART;TZID=America/Chicago:20240903T110000
DTEND;TZID=America/Chicago:20240903T230000
DTSTAMP:20260421T160634
CREATED:20240110T235532Z
LAST-MODIFIED:20250325T221155Z
UID:10011411-1725361200-1725404400@thequarrythornton.com
SUMMARY:Kitchen open 11-9 Tavern open 11-11. Taco Tuesday! 3 beef\, pork or chicken $7.50
DESCRIPTION:
URL:https://thequarrythornton.com/event/kitchen-open-3-9-tavern-open-3-11-2/2024-09-03/
END:VEVENT
BEGIN:VEVENT
DTSTART;TZID=America/Chicago:20240902T110000
DTEND;TZID=America/Chicago:20240902T230000
DTSTAMP:20260421T160634
CREATED:20240110T235437Z
LAST-MODIFIED:20250510T191022Z
UID:10010852-1725274800-1725318000@thequarrythornton.com
SUMMARY:Kitchen open 11-9 Tavern open 11-11. 1/2 price pizza. Dine in only.
DESCRIPTION:
URL:https://thequarrythornton.com/event/kitchen-open-3-9-tavern-open-3-11/2024-09-02/
END:VEVENT
BEGIN:VEVENT
DTSTART;TZID=America/Chicago:20240901T140000
DTEND;TZID=America/Chicago:20240901T170000
DTSTAMP:20260421T160634
CREATED:20240703T213245Z
LAST-MODIFIED:20240703T213245Z
UID:10011954-1725199200-1725210000@thequarrythornton.com
SUMMARY:Susan Williams Blues
DESCRIPTION:
URL:https://thequarrythornton.com/event/susan-williams-blues-6/
LOCATION:121 S Williams St\, Thornton\, IL 60476\, USA
END:VEVENT
BEGIN:VEVENT
DTSTART;TZID=America/Chicago:20240901T110000
DTEND;TZID=America/Chicago:20240901T230000
DTSTAMP:20260421T160634
CREATED:20240110T235336Z
LAST-MODIFIED:20260113T182408Z
UID:10009947-1725188400-1725231600@thequarrythornton.com
SUMMARY:Kitchen open 11-7 Tavern open 11-11.
DESCRIPTION:
URL:https://thequarrythornton.com/event/kitchen-open-11-7-tavern-open-11-11/2024-09-01/
END:VEVENT
BEGIN:VEVENT
DTSTART;TZID=America/Chicago:20240831T110000
DTEND;TZID=America/Chicago:20240831T235900
DTSTAMP:20260421T160634
CREATED:20240110T235242Z
LAST-MODIFIED:20240313T170456Z
UID:10009686-1725102000-1725148740@thequarrythornton.com
SUMMARY:Kitchen open 11-9 Tavern open 11-12. Live Music every Saturday 7-10
DESCRIPTION:
URL:https://thequarrythornton.com/event/kitchen-tavern-open-11-12-live-music-every-saturday/2024-08-31/
END:VEVENT
BEGIN:VEVENT
DTSTART;TZID=America/Chicago:20240830T190000
DTEND;TZID=America/Chicago:20240830T220000
DTSTAMP:20260421T160634
CREATED:20240510T184037Z
LAST-MODIFIED:20240510T184037Z
UID:10010810-1725044400-1725055200@thequarrythornton.com
SUMMARY:Classic- female classic rock
DESCRIPTION:
URL:https://thequarrythornton.com/event/classic-female-classic-rock-4/
LOCATION:121 S Williams St\, Thornton\, IL 60476\, USA
END:VEVENT
BEGIN:VEVENT
DTSTART;TZID=America/Chicago:20240830T110000
DTEND;TZID=America/Chicago:20240830T235900
DTSTAMP:20260421T160634
CREATED:20240110T234444Z
LAST-MODIFIED:20260123T151734Z
UID:10009425-1725015600-1725062340@thequarrythornton.com
SUMMARY:Kitchen open 11-9 Tavern open 11-12.
DESCRIPTION:
URL:https://thequarrythornton.com/event/kitchen-taven-open-11-12-live-music-every-friday-100-winner-karaoke-every-other/2024-08-30/
END:VEVENT
BEGIN:VEVENT
DTSTART;TZID=America/Chicago:20240829T110000
DTEND;TZID=America/Chicago:20240829T235900
DTSTAMP:20260421T160634
CREATED:20240110T233826Z
LAST-MODIFIED:20250510T190549Z
UID:10011690-1724929200-1724975940@thequarrythornton.com
SUMMARY:Kitchen open 11-9 Tavern open 11-11. 1/2 price hot dogs or chili cheese dogs. Dine in only.
DESCRIPTION:
URL:https://thequarrythornton.com/event/kitchen-open-11-9-tavern-open-11-12-open-mic-7-10/2024-08-29/
END:VEVENT
BEGIN:VEVENT
DTSTART;TZID=America/Chicago:20240828T110000
DTEND;TZID=America/Chicago:20240828T230000
DTSTAMP:20260421T160634
CREATED:20240110T233647Z
LAST-MODIFIED:20250510T190409Z
UID:10011131-1724842800-1724886000@thequarrythornton.com
SUMMARY:Kitchen open 11-9 Tavern open 11-11. Wing Wednesday 1/2 price traditional wings. Dine in only.
DESCRIPTION:
URL:https://thequarrythornton.com/event/kitchen-open-3-9-tavern-open-3-11-free-bingo-every-wednesday-7-9/2024-08-28/
END:VEVENT
BEGIN:VEVENT
DTSTART;TZID=America/Chicago:20240827T110000
DTEND;TZID=America/Chicago:20240827T230000
DTSTAMP:20260421T160634
CREATED:20240110T235532Z
LAST-MODIFIED:20250325T221155Z
UID:10011410-1724756400-1724799600@thequarrythornton.com
SUMMARY:Kitchen open 11-9 Tavern open 11-11. Taco Tuesday! 3 beef\, pork or chicken $7.50
DESCRIPTION:
URL:https://thequarrythornton.com/event/kitchen-open-3-9-tavern-open-3-11-2/2024-08-27/
END:VEVENT
BEGIN:VEVENT
DTSTART;TZID=America/Chicago:20240826T110000
DTEND;TZID=America/Chicago:20240826T230000
DTSTAMP:20260421T160634
CREATED:20240110T235437Z
LAST-MODIFIED:20250510T191022Z
UID:10010851-1724670000-1724713200@thequarrythornton.com
SUMMARY:Kitchen open 11-9 Tavern open 11-11. 1/2 price pizza. Dine in only.
DESCRIPTION:
URL:https://thequarrythornton.com/event/kitchen-open-3-9-tavern-open-3-11/2024-08-26/
END:VEVENT
BEGIN:VEVENT
DTSTART;TZID=America/Chicago:20240825T140000
DTEND;TZID=America/Chicago:20240825T170000
DTSTAMP:20260421T160634
CREATED:20240703T213210Z
LAST-MODIFIED:20240703T213210Z
UID:10011953-1724594400-1724605200@thequarrythornton.com
SUMMARY:Fabulous Fabtones
DESCRIPTION:
URL:https://thequarrythornton.com/event/fabulous-fabtones-2/
LOCATION:121 S Williams St\, Thornton\, IL 60476\, USA
END:VEVENT
BEGIN:VEVENT
DTSTART;TZID=America/Chicago:20240825T110000
DTEND;TZID=America/Chicago:20240825T230000
DTSTAMP:20260421T160634
CREATED:20240110T235336Z
LAST-MODIFIED:20260113T182408Z
UID:10009946-1724583600-1724626800@thequarrythornton.com
SUMMARY:Kitchen open 11-7 Tavern open 11-11.
DESCRIPTION:
URL:https://thequarrythornton.com/event/kitchen-open-11-7-tavern-open-11-11/2024-08-25/
END:VEVENT
BEGIN:VEVENT
DTSTART;TZID=America/Chicago:20240824T110000
DTEND;TZID=America/Chicago:20240824T235900
DTSTAMP:20260421T160634
CREATED:20240110T235242Z
LAST-MODIFIED:20240313T170456Z
UID:10009685-1724497200-1724543940@thequarrythornton.com
SUMMARY:Kitchen open 11-9 Tavern open 11-12. Live Music every Saturday 7-10
DESCRIPTION:
URL:https://thequarrythornton.com/event/kitchen-tavern-open-11-12-live-music-every-saturday/2024-08-24/
END:VEVENT
BEGIN:VEVENT
DTSTART;TZID=America/Chicago:20240823T110000
DTEND;TZID=America/Chicago:20240823T235900
DTSTAMP:20260421T160634
CREATED:20240110T234444Z
LAST-MODIFIED:20260123T151734Z
UID:10009424-1724410800-1724457540@thequarrythornton.com
SUMMARY:Kitchen open 11-9 Tavern open 11-12.
DESCRIPTION:
URL:https://thequarrythornton.com/event/kitchen-taven-open-11-12-live-music-every-friday-100-winner-karaoke-every-other/2024-08-23/
END:VEVENT
BEGIN:VEVENT
DTSTART;TZID=America/Chicago:20240822T110000
DTEND;TZID=America/Chicago:20240822T235900
DTSTAMP:20260421T160634
CREATED:20240110T233826Z
LAST-MODIFIED:20250510T190549Z
UID:10011689-1724324400-1724371140@thequarrythornton.com
SUMMARY:Kitchen open 11-9 Tavern open 11-11. 1/2 price hot dogs or chili cheese dogs. Dine in only.
DESCRIPTION:
URL:https://thequarrythornton.com/event/kitchen-open-11-9-tavern-open-11-12-open-mic-7-10/2024-08-22/
END:VEVENT
BEGIN:VEVENT
DTSTART;TZID=America/Chicago:20240821T110000
DTEND;TZID=America/Chicago:20240821T230000
DTSTAMP:20260421T160634
CREATED:20240110T233647Z
LAST-MODIFIED:20250510T190409Z
UID:10011130-1724238000-1724281200@thequarrythornton.com
SUMMARY:Kitchen open 11-9 Tavern open 11-11. Wing Wednesday 1/2 price traditional wings. Dine in only.
DESCRIPTION:
URL:https://thequarrythornton.com/event/kitchen-open-3-9-tavern-open-3-11-free-bingo-every-wednesday-7-9/2024-08-21/
END:VEVENT
BEGIN:VEVENT
DTSTART;TZID=America/Chicago:20240820T110000
DTEND;TZID=America/Chicago:20240820T230000
DTSTAMP:20260421T160634
CREATED:20240110T235532Z
LAST-MODIFIED:20250325T221155Z
UID:10011409-1724151600-1724194800@thequarrythornton.com
SUMMARY:Kitchen open 11-9 Tavern open 11-11. Taco Tuesday! 3 beef\, pork or chicken $7.50
DESCRIPTION:
URL:https://thequarrythornton.com/event/kitchen-open-3-9-tavern-open-3-11-2/2024-08-20/
END:VEVENT
BEGIN:VEVENT
DTSTART;TZID=America/Chicago:20240819T110000
DTEND;TZID=America/Chicago:20240819T230000
DTSTAMP:20260421T160634
CREATED:20240110T235437Z
LAST-MODIFIED:20250510T191022Z
UID:10010850-1724065200-1724108400@thequarrythornton.com
SUMMARY:Kitchen open 11-9 Tavern open 11-11. 1/2 price pizza. Dine in only.
DESCRIPTION:
URL:https://thequarrythornton.com/event/kitchen-open-3-9-tavern-open-3-11/2024-08-19/
END:VEVENT
BEGIN:VEVENT
DTSTART;TZID=America/Chicago:20240818T140000
DTEND;TZID=America/Chicago:20240818T170000
DTSTAMP:20260421T160634
CREATED:20240703T213028Z
LAST-MODIFIED:20240703T213137Z
UID:10011952-1723989600-1724000400@thequarrythornton.com
SUMMARY:Paul K Blues
DESCRIPTION:
URL:https://thequarrythornton.com/event/classic-acoustic/
LOCATION:121 S Williams St\, Thornton\, IL 60476\, USA
END:VEVENT
BEGIN:VEVENT
DTSTART;TZID=America/Chicago:20240818T110000
DTEND;TZID=America/Chicago:20240818T230000
DTSTAMP:20260421T160634
CREATED:20240110T235336Z
LAST-MODIFIED:20260113T182408Z
UID:10009945-1723978800-1724022000@thequarrythornton.com
SUMMARY:Kitchen open 11-7 Tavern open 11-11.
DESCRIPTION:
URL:https://thequarrythornton.com/event/kitchen-open-11-7-tavern-open-11-11/2024-08-18/
END:VEVENT
BEGIN:VEVENT
DTSTART;TZID=America/Chicago:20240817T190000
DTEND;TZID=America/Chicago:20240817T220000
DTSTAMP:20260421T160634
CREATED:20240507T174613Z
LAST-MODIFIED:20240507T174613Z
UID:10010807-1723921200-1723932000@thequarrythornton.com
SUMMARY:Paul Kaye & The Blues Cartel
DESCRIPTION:
URL:https://thequarrythornton.com/event/paul-kaye-the-blues-cartel/
LOCATION:121 S Williams St\, Thornton\, IL 60476\, USA
END:VEVENT
BEGIN:VEVENT
DTSTART;TZID=America/Chicago:20240817T110000
DTEND;TZID=America/Chicago:20240817T235900
DTSTAMP:20260421T160634
CREATED:20240110T235242Z
LAST-MODIFIED:20240313T170456Z
UID:10009684-1723892400-1723939140@thequarrythornton.com
SUMMARY:Kitchen open 11-9 Tavern open 11-12. Live Music every Saturday 7-10
DESCRIPTION:
URL:https://thequarrythornton.com/event/kitchen-tavern-open-11-12-live-music-every-saturday/2024-08-17/
END:VEVENT
BEGIN:VEVENT
DTSTART;TZID=America/Chicago:20240816T110000
DTEND;TZID=America/Chicago:20240816T235900
DTSTAMP:20260421T160634
CREATED:20240110T234444Z
LAST-MODIFIED:20260123T151734Z
UID:10009423-1723806000-1723852740@thequarrythornton.com
SUMMARY:Kitchen open 11-9 Tavern open 11-12.
DESCRIPTION:
URL:https://thequarrythornton.com/event/kitchen-taven-open-11-12-live-music-every-friday-100-winner-karaoke-every-other/2024-08-16/
END:VEVENT
BEGIN:VEVENT
DTSTART;TZID=America/Chicago:20240815T110000
DTEND;TZID=America/Chicago:20240815T235900
DTSTAMP:20260421T160634
CREATED:20240110T233826Z
LAST-MODIFIED:20250510T190549Z
UID:10011688-1723719600-1723766340@thequarrythornton.com
SUMMARY:Kitchen open 11-9 Tavern open 11-11. 1/2 price hot dogs or chili cheese dogs. Dine in only.
DESCRIPTION:
URL:https://thequarrythornton.com/event/kitchen-open-11-9-tavern-open-11-12-open-mic-7-10/2024-08-15/
END:VEVENT
BEGIN:VEVENT
DTSTART;TZID=America/Chicago:20240814T110000
DTEND;TZID=America/Chicago:20240814T230000
DTSTAMP:20260421T160634
CREATED:20240110T233647Z
LAST-MODIFIED:20250510T190409Z
UID:10011129-1723633200-1723676400@thequarrythornton.com
SUMMARY:Kitchen open 11-9 Tavern open 11-11. Wing Wednesday 1/2 price traditional wings. Dine in only.
DESCRIPTION:
URL:https://thequarrythornton.com/event/kitchen-open-3-9-tavern-open-3-11-free-bingo-every-wednesday-7-9/2024-08-14/
END:VEVENT
BEGIN:VEVENT
DTSTART;TZID=America/Chicago:20240813T110000
DTEND;TZID=America/Chicago:20240813T230000
DTSTAMP:20260421T160634
CREATED:20240110T235532Z
LAST-MODIFIED:20250325T221155Z
UID:10011408-1723546800-1723590000@thequarrythornton.com
SUMMARY:Kitchen open 11-9 Tavern open 11-11. Taco Tuesday! 3 beef\, pork or chicken $7.50
DESCRIPTION:
URL:https://thequarrythornton.com/event/kitchen-open-3-9-tavern-open-3-11-2/2024-08-13/
END:VEVENT
BEGIN:VEVENT
DTSTART;TZID=America/Chicago:20240812T110000
DTEND;TZID=America/Chicago:20240812T230000
DTSTAMP:20260421T160634
CREATED:20240110T235437Z
LAST-MODIFIED:20250510T191022Z
UID:10010849-1723460400-1723503600@thequarrythornton.com
SUMMARY:Kitchen open 11-9 Tavern open 11-11. 1/2 price pizza. Dine in only.
DESCRIPTION:
URL:https://thequarrythornton.com/event/kitchen-open-3-9-tavern-open-3-11/2024-08-12/
END:VEVENT
BEGIN:VEVENT
DTSTART;TZID=America/Chicago:20240811T140000
DTEND;TZID=America/Chicago:20240811T170000
DTSTAMP:20260421T160634
CREATED:20240808T192248Z
LAST-MODIFIED:20240808T192248Z
UID:10011968-1723384800-1723395600@thequarrythornton.com
SUMMARY:Classic
DESCRIPTION:
URL:https://thequarrythornton.com/event/classic/
LOCATION:121 S Williams St\, Thornton\, IL 60476\, USA
END:VEVENT
BEGIN:VEVENT
DTSTART;TZID=America/Chicago:20240811T110000
DTEND;TZID=America/Chicago:20240811T230000
DTSTAMP:20260421T160634
CREATED:20240110T235336Z
LAST-MODIFIED:20260113T182408Z
UID:10009944-1723374000-1723417200@thequarrythornton.com
SUMMARY:Kitchen open 11-7 Tavern open 11-11.
DESCRIPTION:
URL:https://thequarrythornton.com/event/kitchen-open-11-7-tavern-open-11-11/2024-08-11/
END:VEVENT
END:VCALENDAR