BEGIN:VCALENDAR
VERSION:2.0
PRODID:-//The Quarry Ballroom - ECPv6.15.17.1//NONSGML v1.0//EN
CALSCALE:GREGORIAN
METHOD:PUBLISH
X-WR-CALNAME:The Quarry Ballroom
X-ORIGINAL-URL:https://thequarrythornton.com
X-WR-CALDESC:Events for The Quarry Ballroom
REFRESH-INTERVAL;VALUE=DURATION:PT1H
X-Robots-Tag:noindex
X-PUBLISHED-TTL:PT1H
BEGIN:VTIMEZONE
TZID:America/Chicago
BEGIN:DAYLIGHT
TZOFFSETFROM:-0600
TZOFFSETTO:-0500
TZNAME:CDT
DTSTART:20240310T080000
END:DAYLIGHT
BEGIN:STANDARD
TZOFFSETFROM:-0500
TZOFFSETTO:-0600
TZNAME:CST
DTSTART:20241103T070000
END:STANDARD
BEGIN:DAYLIGHT
TZOFFSETFROM:-0600
TZOFFSETTO:-0500
TZNAME:CDT
DTSTART:20250309T080000
END:DAYLIGHT
BEGIN:STANDARD
TZOFFSETFROM:-0500
TZOFFSETTO:-0600
TZNAME:CST
DTSTART:20251102T070000
END:STANDARD
BEGIN:DAYLIGHT
TZOFFSETFROM:-0600
TZOFFSETTO:-0500
TZNAME:CDT
DTSTART:20260308T080000
END:DAYLIGHT
BEGIN:STANDARD
TZOFFSETFROM:-0500
TZOFFSETTO:-0600
TZNAME:CST
DTSTART:20261101T070000
END:STANDARD
END:VTIMEZONE
BEGIN:VEVENT
DTSTART;TZID=America/Chicago:20251018T110000
DTEND;TZID=America/Chicago:20251018T235900
DTSTAMP:20260421T064613
CREATED:20240110T235242Z
LAST-MODIFIED:20240313T170456Z
UID:10009745-1760785200-1760831940@thequarrythornton.com
SUMMARY:Kitchen open 11-9 Tavern open 11-12. Live Music every Saturday 7-10
DESCRIPTION:
URL:https://thequarrythornton.com/event/kitchen-tavern-open-11-12-live-music-every-saturday/2025-10-18/
END:VEVENT
BEGIN:VEVENT
DTSTART;TZID=America/Chicago:20251018T190000
DTEND;TZID=America/Chicago:20251018T220000
DTSTAMP:20260421T064613
CREATED:20251006T182323Z
LAST-MODIFIED:20251006T182323Z
UID:10012394-1760814000-1760824800@thequarrythornton.com
SUMMARY:Paul Kaye & Friends
DESCRIPTION:
URL:https://thequarrythornton.com/event/paul-kaye-friends/
LOCATION:121 S Williams St\, Thornton\, IL 60476\, USA
END:VEVENT
BEGIN:VEVENT
DTSTART;TZID=America/Chicago:20251019T110000
DTEND;TZID=America/Chicago:20251019T230000
DTSTAMP:20260421T064613
CREATED:20240110T235336Z
LAST-MODIFIED:20260113T182408Z
UID:10010006-1760871600-1760914800@thequarrythornton.com
SUMMARY:Kitchen open 11-7 Tavern open 11-11.
DESCRIPTION:
URL:https://thequarrythornton.com/event/kitchen-open-11-7-tavern-open-11-11/2025-10-19/
END:VEVENT
BEGIN:VEVENT
DTSTART;TZID=America/Chicago:20251020T110000
DTEND;TZID=America/Chicago:20251020T230000
DTSTAMP:20260421T064613
CREATED:20240110T235437Z
LAST-MODIFIED:20250510T191022Z
UID:10010911-1760958000-1761001200@thequarrythornton.com
SUMMARY:Kitchen open 11-9 Tavern open 11-11. 1/2 price pizza. Dine in only.
DESCRIPTION:
URL:https://thequarrythornton.com/event/kitchen-open-3-9-tavern-open-3-11/2025-10-20/
END:VEVENT
BEGIN:VEVENT
DTSTART;TZID=America/Chicago:20251021T110000
DTEND;TZID=America/Chicago:20251021T230000
DTSTAMP:20260421T064613
CREATED:20240110T235532Z
LAST-MODIFIED:20250325T221155Z
UID:10011470-1761044400-1761087600@thequarrythornton.com
SUMMARY:Kitchen open 11-9 Tavern open 11-11. Taco Tuesday! 3 beef\, pork or chicken $7.50
DESCRIPTION:
URL:https://thequarrythornton.com/event/kitchen-open-3-9-tavern-open-3-11-2/2025-10-21/
END:VEVENT
BEGIN:VEVENT
DTSTART;TZID=America/Chicago:20251022T110000
DTEND;TZID=America/Chicago:20251022T230000
DTSTAMP:20260421T064613
CREATED:20240110T233647Z
LAST-MODIFIED:20250510T190409Z
UID:10011191-1761130800-1761174000@thequarrythornton.com
SUMMARY:Kitchen open 11-9 Tavern open 11-11. Wing Wednesday 1/2 price traditional wings. Dine in only.
DESCRIPTION:
URL:https://thequarrythornton.com/event/kitchen-open-3-9-tavern-open-3-11-free-bingo-every-wednesday-7-9/2025-10-22/
END:VEVENT
BEGIN:VEVENT
DTSTART;TZID=America/Chicago:20251023T110000
DTEND;TZID=America/Chicago:20251023T235900
DTSTAMP:20260421T064613
CREATED:20240110T233826Z
LAST-MODIFIED:20250510T190549Z
UID:10011750-1761217200-1761263940@thequarrythornton.com
SUMMARY:Kitchen open 11-9 Tavern open 11-11. 1/2 price hot dogs or chili cheese dogs. Dine in only.
DESCRIPTION:
URL:https://thequarrythornton.com/event/kitchen-open-11-9-tavern-open-11-12-open-mic-7-10/2025-10-23/
END:VEVENT
BEGIN:VEVENT
DTSTART;TZID=America/Chicago:20251024T110000
DTEND;TZID=America/Chicago:20251024T235900
DTSTAMP:20260421T064613
CREATED:20240110T234444Z
LAST-MODIFIED:20260123T151734Z
UID:10009485-1761303600-1761350340@thequarrythornton.com
SUMMARY:Kitchen open 11-9 Tavern open 11-12.
DESCRIPTION:
URL:https://thequarrythornton.com/event/kitchen-taven-open-11-12-live-music-every-friday-100-winner-karaoke-every-other/2025-10-24/
END:VEVENT
BEGIN:VEVENT
DTSTART;TZID=America/Chicago:20251025T110000
DTEND;TZID=America/Chicago:20251025T235900
DTSTAMP:20260421T064613
CREATED:20240110T235242Z
LAST-MODIFIED:20240313T170456Z
UID:10009746-1761390000-1761436740@thequarrythornton.com
SUMMARY:Kitchen open 11-9 Tavern open 11-12. Live Music every Saturday 7-10
DESCRIPTION:
URL:https://thequarrythornton.com/event/kitchen-tavern-open-11-12-live-music-every-saturday/2025-10-25/
END:VEVENT
BEGIN:VEVENT
DTSTART;TZID=America/Chicago:20251025T190000
DTEND;TZID=America/Chicago:20251025T220000
DTSTAMP:20260421T064613
CREATED:20241206T001322Z
LAST-MODIFIED:20241206T001322Z
UID:10012006-1761418800-1761429600@thequarrythornton.com
SUMMARY:Jimmy Jr. & Friends
DESCRIPTION:
URL:https://thequarrythornton.com/event/jimmy-jr-friends-3/
LOCATION:121 S Williams St\, Thornton\, IL 60476\, USA
END:VEVENT
BEGIN:VEVENT
DTSTART;TZID=America/Chicago:20251026T110000
DTEND;TZID=America/Chicago:20251026T230000
DTSTAMP:20260421T064613
CREATED:20240110T235336Z
LAST-MODIFIED:20260113T182408Z
UID:10010007-1761476400-1761519600@thequarrythornton.com
SUMMARY:Kitchen open 11-7 Tavern open 11-11.
DESCRIPTION:
URL:https://thequarrythornton.com/event/kitchen-open-11-7-tavern-open-11-11/2025-10-26/
END:VEVENT
BEGIN:VEVENT
DTSTART;TZID=America/Chicago:20251027T110000
DTEND;TZID=America/Chicago:20251027T230000
DTSTAMP:20260421T064613
CREATED:20240110T235437Z
LAST-MODIFIED:20250510T191022Z
UID:10010912-1761562800-1761606000@thequarrythornton.com
SUMMARY:Kitchen open 11-9 Tavern open 11-11. 1/2 price pizza. Dine in only.
DESCRIPTION:
URL:https://thequarrythornton.com/event/kitchen-open-3-9-tavern-open-3-11/2025-10-27/
END:VEVENT
BEGIN:VEVENT
DTSTART;TZID=America/Chicago:20251028T110000
DTEND;TZID=America/Chicago:20251028T230000
DTSTAMP:20260421T064613
CREATED:20240110T235532Z
LAST-MODIFIED:20250325T221155Z
UID:10011471-1761649200-1761692400@thequarrythornton.com
SUMMARY:Kitchen open 11-9 Tavern open 11-11. Taco Tuesday! 3 beef\, pork or chicken $7.50
DESCRIPTION:
URL:https://thequarrythornton.com/event/kitchen-open-3-9-tavern-open-3-11-2/2025-10-28/
END:VEVENT
BEGIN:VEVENT
DTSTART;TZID=America/Chicago:20251029T110000
DTEND;TZID=America/Chicago:20251029T230000
DTSTAMP:20260421T064613
CREATED:20240110T233647Z
LAST-MODIFIED:20250510T190409Z
UID:10011192-1761735600-1761778800@thequarrythornton.com
SUMMARY:Kitchen open 11-9 Tavern open 11-11. Wing Wednesday 1/2 price traditional wings. Dine in only.
DESCRIPTION:
URL:https://thequarrythornton.com/event/kitchen-open-3-9-tavern-open-3-11-free-bingo-every-wednesday-7-9/2025-10-29/
END:VEVENT
BEGIN:VEVENT
DTSTART;TZID=America/Chicago:20251030T110000
DTEND;TZID=America/Chicago:20251030T235900
DTSTAMP:20260421T064613
CREATED:20240110T233826Z
LAST-MODIFIED:20250510T190549Z
UID:10011751-1761822000-1761868740@thequarrythornton.com
SUMMARY:Kitchen open 11-9 Tavern open 11-11. 1/2 price hot dogs or chili cheese dogs. Dine in only.
DESCRIPTION:
URL:https://thequarrythornton.com/event/kitchen-open-11-9-tavern-open-11-12-open-mic-7-10/2025-10-30/
END:VEVENT
BEGIN:VEVENT
DTSTART;TZID=America/Chicago:20251031T110000
DTEND;TZID=America/Chicago:20251031T235900
DTSTAMP:20260421T064613
CREATED:20240110T234444Z
LAST-MODIFIED:20260123T151734Z
UID:10009486-1761908400-1761955140@thequarrythornton.com
SUMMARY:Kitchen open 11-9 Tavern open 11-12.
DESCRIPTION:
URL:https://thequarrythornton.com/event/kitchen-taven-open-11-12-live-music-every-friday-100-winner-karaoke-every-other/2025-10-31/
END:VEVENT
BEGIN:VEVENT
DTSTART;TZID=America/Chicago:20251031T190000
DTEND;TZID=America/Chicago:20251031T220000
DTSTAMP:20260421T064613
CREATED:20241205T182726Z
LAST-MODIFIED:20241205T182726Z
UID:10011995-1761937200-1761948000@thequarrythornton.com
SUMMARY:Timeline- Halloween Bash!
DESCRIPTION:
URL:https://thequarrythornton.com/event/timeline-halloween-bash/
LOCATION:121 S Williams St\, Thornton\, IL 60476\, USA
END:VEVENT
BEGIN:VEVENT
DTSTART;TZID=America/Chicago:20251101T110000
DTEND;TZID=America/Chicago:20251101T235900
DTSTAMP:20260421T064613
CREATED:20240110T235242Z
LAST-MODIFIED:20240313T170456Z
UID:10009747-1761994800-1762041540@thequarrythornton.com
SUMMARY:Kitchen open 11-9 Tavern open 11-12. Live Music every Saturday 7-10
DESCRIPTION:
URL:https://thequarrythornton.com/event/kitchen-tavern-open-11-12-live-music-every-saturday/2025-11-01/
END:VEVENT
BEGIN:VEVENT
DTSTART;TZID=America/Chicago:20251101T190000
DTEND;TZID=America/Chicago:20251101T220000
DTSTAMP:20260421T064613
CREATED:20241205T182820Z
LAST-MODIFIED:20241205T182820Z
UID:10011996-1762023600-1762034400@thequarrythornton.com
SUMMARY:Hendrix Effect- Dia De Los Muertos Party
DESCRIPTION:
URL:https://thequarrythornton.com/event/hendrix-effect-dia-de-los-muertos-party/
LOCATION:121 S Williams St\, Thornton\, IL 60476\, USA
END:VEVENT
BEGIN:VEVENT
DTSTART;TZID=America/Chicago:20251102T110000
DTEND;TZID=America/Chicago:20251102T230000
DTSTAMP:20260421T064613
CREATED:20240110T235336Z
LAST-MODIFIED:20260113T182408Z
UID:10010008-1762081200-1762124400@thequarrythornton.com
SUMMARY:Kitchen open 11-7 Tavern open 11-11.
DESCRIPTION:
URL:https://thequarrythornton.com/event/kitchen-open-11-7-tavern-open-11-11/2025-11-02/
END:VEVENT
BEGIN:VEVENT
DTSTART;TZID=America/Chicago:20251103T110000
DTEND;TZID=America/Chicago:20251103T230000
DTSTAMP:20260421T064613
CREATED:20240110T235437Z
LAST-MODIFIED:20250510T191022Z
UID:10010913-1762167600-1762210800@thequarrythornton.com
SUMMARY:Kitchen open 11-9 Tavern open 11-11. 1/2 price pizza. Dine in only.
DESCRIPTION:
URL:https://thequarrythornton.com/event/kitchen-open-3-9-tavern-open-3-11/2025-11-03/
END:VEVENT
BEGIN:VEVENT
DTSTART;TZID=America/Chicago:20251104T110000
DTEND;TZID=America/Chicago:20251104T230000
DTSTAMP:20260421T064613
CREATED:20240110T235532Z
LAST-MODIFIED:20250325T221155Z
UID:10011472-1762254000-1762297200@thequarrythornton.com
SUMMARY:Kitchen open 11-9 Tavern open 11-11. Taco Tuesday! 3 beef\, pork or chicken $7.50
DESCRIPTION:
URL:https://thequarrythornton.com/event/kitchen-open-3-9-tavern-open-3-11-2/2025-11-04/
END:VEVENT
BEGIN:VEVENT
DTSTART;TZID=America/Chicago:20251105T110000
DTEND;TZID=America/Chicago:20251105T230000
DTSTAMP:20260421T064613
CREATED:20240110T233647Z
LAST-MODIFIED:20250510T190409Z
UID:10011193-1762340400-1762383600@thequarrythornton.com
SUMMARY:Kitchen open 11-9 Tavern open 11-11. Wing Wednesday 1/2 price traditional wings. Dine in only.
DESCRIPTION:
URL:https://thequarrythornton.com/event/kitchen-open-3-9-tavern-open-3-11-free-bingo-every-wednesday-7-9/2025-11-05/
END:VEVENT
BEGIN:VEVENT
DTSTART;TZID=America/Chicago:20251106T110000
DTEND;TZID=America/Chicago:20251106T235900
DTSTAMP:20260421T064613
CREATED:20240110T233826Z
LAST-MODIFIED:20250510T190549Z
UID:10011752-1762426800-1762473540@thequarrythornton.com
SUMMARY:Kitchen open 11-9 Tavern open 11-11. 1/2 price hot dogs or chili cheese dogs. Dine in only.
DESCRIPTION:
URL:https://thequarrythornton.com/event/kitchen-open-11-9-tavern-open-11-12-open-mic-7-10/2025-11-06/
END:VEVENT
BEGIN:VEVENT
DTSTART;TZID=America/Chicago:20251107T110000
DTEND;TZID=America/Chicago:20251107T235900
DTSTAMP:20260421T064613
CREATED:20240110T234444Z
LAST-MODIFIED:20260123T151734Z
UID:10009487-1762513200-1762559940@thequarrythornton.com
SUMMARY:Kitchen open 11-9 Tavern open 11-12.
DESCRIPTION:
URL:https://thequarrythornton.com/event/kitchen-taven-open-11-12-live-music-every-friday-100-winner-karaoke-every-other/2025-11-07/
END:VEVENT
BEGIN:VEVENT
DTSTART;TZID=America/Chicago:20251107T200000
DTEND;TZID=America/Chicago:20251107T235900
DTSTAMP:20260421T064613
CREATED:20251017T012436Z
LAST-MODIFIED:20251017T012436Z
UID:10012397-1762545600-1762559940@thequarrythornton.com
SUMMARY:Latin Night w DJ Lando
DESCRIPTION:
URL:https://thequarrythornton.com/event/latin-night-w-dj-lando-2/
LOCATION:121 S Williams St\, Thornton\, IL 60476\, USA
END:VEVENT
BEGIN:VEVENT
DTSTART;TZID=America/Chicago:20251108T110000
DTEND;TZID=America/Chicago:20251108T235900
DTSTAMP:20260421T064613
CREATED:20240110T235242Z
LAST-MODIFIED:20240313T170456Z
UID:10009748-1762599600-1762646340@thequarrythornton.com
SUMMARY:Kitchen open 11-9 Tavern open 11-12. Live Music every Saturday 7-10
DESCRIPTION:
URL:https://thequarrythornton.com/event/kitchen-tavern-open-11-12-live-music-every-saturday/2025-11-08/
END:VEVENT
BEGIN:VEVENT
DTSTART;TZID=America/Chicago:20251108T190000
DTEND;TZID=America/Chicago:20251108T220000
DTSTAMP:20260421T064613
CREATED:20251006T182421Z
LAST-MODIFIED:20251006T182421Z
UID:10012395-1762628400-1762639200@thequarrythornton.com
SUMMARY:Noreen Stark
DESCRIPTION:
URL:https://thequarrythornton.com/event/noreen-stark-2/
LOCATION:121 S Williams St\, Thornton\, IL 60476\, USA
END:VEVENT
BEGIN:VEVENT
DTSTART;TZID=America/Chicago:20251109T110000
DTEND;TZID=America/Chicago:20251109T230000
DTSTAMP:20260421T064613
CREATED:20240110T235336Z
LAST-MODIFIED:20260113T182408Z
UID:10010009-1762686000-1762729200@thequarrythornton.com
SUMMARY:Kitchen open 11-7 Tavern open 11-11.
DESCRIPTION:
URL:https://thequarrythornton.com/event/kitchen-open-11-7-tavern-open-11-11/2025-11-09/
END:VEVENT
BEGIN:VEVENT
DTSTART;TZID=America/Chicago:20251110T110000
DTEND;TZID=America/Chicago:20251110T230000
DTSTAMP:20260421T064613
CREATED:20240110T235437Z
LAST-MODIFIED:20250510T191022Z
UID:10010914-1762772400-1762815600@thequarrythornton.com
SUMMARY:Kitchen open 11-9 Tavern open 11-11. 1/2 price pizza. Dine in only.
DESCRIPTION:
URL:https://thequarrythornton.com/event/kitchen-open-3-9-tavern-open-3-11/2025-11-10/
END:VEVENT
END:VCALENDAR