BEGIN:VCALENDAR
VERSION:2.0
PRODID:-//The Quarry Ballroom - ECPv6.15.17.1//NONSGML v1.0//EN
CALSCALE:GREGORIAN
METHOD:PUBLISH
X-WR-CALNAME:The Quarry Ballroom
X-ORIGINAL-URL:https://thequarrythornton.com
X-WR-CALDESC:Events for The Quarry Ballroom
REFRESH-INTERVAL;VALUE=DURATION:PT1H
X-Robots-Tag:noindex
X-PUBLISHED-TTL:PT1H
BEGIN:VTIMEZONE
TZID:America/Chicago
BEGIN:DAYLIGHT
TZOFFSETFROM:-0600
TZOFFSETTO:-0500
TZNAME:CDT
DTSTART:20230312T080000
END:DAYLIGHT
BEGIN:STANDARD
TZOFFSETFROM:-0500
TZOFFSETTO:-0600
TZNAME:CST
DTSTART:20231105T070000
END:STANDARD
BEGIN:DAYLIGHT
TZOFFSETFROM:-0600
TZOFFSETTO:-0500
TZNAME:CDT
DTSTART:20240310T080000
END:DAYLIGHT
BEGIN:STANDARD
TZOFFSETFROM:-0500
TZOFFSETTO:-0600
TZNAME:CST
DTSTART:20241103T070000
END:STANDARD
BEGIN:DAYLIGHT
TZOFFSETFROM:-0600
TZOFFSETTO:-0500
TZNAME:CDT
DTSTART:20250309T080000
END:DAYLIGHT
BEGIN:STANDARD
TZOFFSETFROM:-0500
TZOFFSETTO:-0600
TZNAME:CST
DTSTART:20251102T070000
END:STANDARD
END:VTIMEZONE
BEGIN:VEVENT
DTSTART;TZID=America/Chicago:20241029T110000
DTEND;TZID=America/Chicago:20241029T230000
DTSTAMP:20260421T053709
CREATED:20240110T235532Z
LAST-MODIFIED:20250325T221155Z
UID:10011419-1730199600-1730242800@thequarrythornton.com
SUMMARY:Kitchen open 11-9 Tavern open 11-11. Taco Tuesday! 3 beef\, pork or chicken $7.50
DESCRIPTION:
URL:https://thequarrythornton.com/event/kitchen-open-3-9-tavern-open-3-11-2/2024-10-29/
END:VEVENT
BEGIN:VEVENT
DTSTART;TZID=America/Chicago:20241028T110000
DTEND;TZID=America/Chicago:20241028T230000
DTSTAMP:20260421T053709
CREATED:20240110T235437Z
LAST-MODIFIED:20250510T191022Z
UID:10010860-1730113200-1730156400@thequarrythornton.com
SUMMARY:Kitchen open 11-9 Tavern open 11-11. 1/2 price pizza. Dine in only.
DESCRIPTION:
URL:https://thequarrythornton.com/event/kitchen-open-3-9-tavern-open-3-11/2024-10-28/
END:VEVENT
BEGIN:VEVENT
DTSTART;TZID=America/Chicago:20241027T110000
DTEND;TZID=America/Chicago:20241027T230000
DTSTAMP:20260421T053709
CREATED:20240110T235336Z
LAST-MODIFIED:20260113T182408Z
UID:10009955-1730026800-1730070000@thequarrythornton.com
SUMMARY:Kitchen open 11-7 Tavern open 11-11.
DESCRIPTION:
URL:https://thequarrythornton.com/event/kitchen-open-11-7-tavern-open-11-11/2024-10-27/
END:VEVENT
BEGIN:VEVENT
DTSTART;TZID=America/Chicago:20241026T190000
DTEND;TZID=America/Chicago:20241026T220000
DTSTAMP:20260421T053709
CREATED:20240531T192614Z
LAST-MODIFIED:20240531T192614Z
UID:10011937-1729969200-1729980000@thequarrythornton.com
SUMMARY:Automatic Noise Halloween Show! Best dressed gets $100
DESCRIPTION:
URL:https://thequarrythornton.com/event/automatic-noise-halloween-show-best-dressed-gets-100/
LOCATION:121 S Williams St\, Thornton\, IL 60476\, USA
END:VEVENT
BEGIN:VEVENT
DTSTART;TZID=America/Chicago:20241026T110000
DTEND;TZID=America/Chicago:20241026T235900
DTSTAMP:20260421T053709
CREATED:20240110T235242Z
LAST-MODIFIED:20240313T170456Z
UID:10009694-1729940400-1729987140@thequarrythornton.com
SUMMARY:Kitchen open 11-9 Tavern open 11-12. Live Music every Saturday 7-10
DESCRIPTION:
URL:https://thequarrythornton.com/event/kitchen-tavern-open-11-12-live-music-every-saturday/2024-10-26/
END:VEVENT
BEGIN:VEVENT
DTSTART;TZID=America/Chicago:20241025T190000
DTEND;TZID=America/Chicago:20241025T220000
DTSTAMP:20260421T053709
CREATED:20240703T192056Z
LAST-MODIFIED:20240703T192056Z
UID:10011944-1729882800-1729893600@thequarrythornton.com
SUMMARY:Timeline- classic rock
DESCRIPTION:
URL:https://thequarrythornton.com/event/timeline-classic-rock/
LOCATION:121 S Williams St\, Thornton\, IL 60476\, USA
END:VEVENT
BEGIN:VEVENT
DTSTART;TZID=America/Chicago:20241025T110000
DTEND;TZID=America/Chicago:20241025T235900
DTSTAMP:20260421T053709
CREATED:20240110T234444Z
LAST-MODIFIED:20260123T151734Z
UID:10009433-1729854000-1729900740@thequarrythornton.com
SUMMARY:Kitchen open 11-9 Tavern open 11-12.
DESCRIPTION:
URL:https://thequarrythornton.com/event/kitchen-taven-open-11-12-live-music-every-friday-100-winner-karaoke-every-other/2024-10-25/
END:VEVENT
BEGIN:VEVENT
DTSTART;TZID=America/Chicago:20241024T110000
DTEND;TZID=America/Chicago:20241024T235900
DTSTAMP:20260421T053709
CREATED:20240110T233826Z
LAST-MODIFIED:20250510T190549Z
UID:10011698-1729767600-1729814340@thequarrythornton.com
SUMMARY:Kitchen open 11-9 Tavern open 11-11. 1/2 price hot dogs or chili cheese dogs. Dine in only.
DESCRIPTION:
URL:https://thequarrythornton.com/event/kitchen-open-11-9-tavern-open-11-12-open-mic-7-10/2024-10-24/
END:VEVENT
BEGIN:VEVENT
DTSTART;TZID=America/Chicago:20241023T110000
DTEND;TZID=America/Chicago:20241023T230000
DTSTAMP:20260421T053709
CREATED:20240110T233647Z
LAST-MODIFIED:20250510T190409Z
UID:10011139-1729681200-1729724400@thequarrythornton.com
SUMMARY:Kitchen open 11-9 Tavern open 11-11. Wing Wednesday 1/2 price traditional wings. Dine in only.
DESCRIPTION:
URL:https://thequarrythornton.com/event/kitchen-open-3-9-tavern-open-3-11-free-bingo-every-wednesday-7-9/2024-10-23/
END:VEVENT
BEGIN:VEVENT
DTSTART;TZID=America/Chicago:20241022T110000
DTEND;TZID=America/Chicago:20241022T230000
DTSTAMP:20260421T053709
CREATED:20240110T235532Z
LAST-MODIFIED:20250325T221155Z
UID:10011418-1729594800-1729638000@thequarrythornton.com
SUMMARY:Kitchen open 11-9 Tavern open 11-11. Taco Tuesday! 3 beef\, pork or chicken $7.50
DESCRIPTION:
URL:https://thequarrythornton.com/event/kitchen-open-3-9-tavern-open-3-11-2/2024-10-22/
END:VEVENT
BEGIN:VEVENT
DTSTART;TZID=America/Chicago:20241021T110000
DTEND;TZID=America/Chicago:20241021T230000
DTSTAMP:20260421T053709
CREATED:20240110T235437Z
LAST-MODIFIED:20250510T191022Z
UID:10010859-1729508400-1729551600@thequarrythornton.com
SUMMARY:Kitchen open 11-9 Tavern open 11-11. 1/2 price pizza. Dine in only.
DESCRIPTION:
URL:https://thequarrythornton.com/event/kitchen-open-3-9-tavern-open-3-11/2024-10-21/
END:VEVENT
BEGIN:VEVENT
DTSTART;TZID=America/Chicago:20241020T110000
DTEND;TZID=America/Chicago:20241020T230000
DTSTAMP:20260421T053709
CREATED:20240110T235336Z
LAST-MODIFIED:20260113T182408Z
UID:10009954-1729422000-1729465200@thequarrythornton.com
SUMMARY:Kitchen open 11-7 Tavern open 11-11.
DESCRIPTION:
URL:https://thequarrythornton.com/event/kitchen-open-11-7-tavern-open-11-11/2024-10-20/
END:VEVENT
BEGIN:VEVENT
DTSTART;TZID=America/Chicago:20241019T190000
DTEND;TZID=America/Chicago:20241019T220000
DTSTAMP:20260421T053709
CREATED:20240405T192513Z
LAST-MODIFIED:20240405T192615Z
UID:10010778-1729364400-1729375200@thequarrythornton.com
SUMMARY:Newman- rock n' roll
DESCRIPTION:
URL:https://thequarrythornton.com/event/newman-rock-n-roll/
END:VEVENT
BEGIN:VEVENT
DTSTART;TZID=America/Chicago:20241019T110000
DTEND;TZID=America/Chicago:20241019T235900
DTSTAMP:20260421T053709
CREATED:20240110T235242Z
LAST-MODIFIED:20240313T170456Z
UID:10009693-1729335600-1729382340@thequarrythornton.com
SUMMARY:Kitchen open 11-9 Tavern open 11-12. Live Music every Saturday 7-10
DESCRIPTION:
URL:https://thequarrythornton.com/event/kitchen-tavern-open-11-12-live-music-every-saturday/2024-10-19/
END:VEVENT
BEGIN:VEVENT
DTSTART;TZID=America/Chicago:20241018T110000
DTEND;TZID=America/Chicago:20241018T235900
DTSTAMP:20260421T053709
CREATED:20240110T234444Z
LAST-MODIFIED:20260123T151734Z
UID:10009432-1729249200-1729295940@thequarrythornton.com
SUMMARY:Kitchen open 11-9 Tavern open 11-12.
DESCRIPTION:
URL:https://thequarrythornton.com/event/kitchen-taven-open-11-12-live-music-every-friday-100-winner-karaoke-every-other/2024-10-18/
END:VEVENT
BEGIN:VEVENT
DTSTART;TZID=America/Chicago:20241017T110000
DTEND;TZID=America/Chicago:20241017T235900
DTSTAMP:20260421T053709
CREATED:20240110T233826Z
LAST-MODIFIED:20250510T190549Z
UID:10011697-1729162800-1729209540@thequarrythornton.com
SUMMARY:Kitchen open 11-9 Tavern open 11-11. 1/2 price hot dogs or chili cheese dogs. Dine in only.
DESCRIPTION:
URL:https://thequarrythornton.com/event/kitchen-open-11-9-tavern-open-11-12-open-mic-7-10/2024-10-17/
END:VEVENT
BEGIN:VEVENT
DTSTART;TZID=America/Chicago:20241016T110000
DTEND;TZID=America/Chicago:20241016T230000
DTSTAMP:20260421T053709
CREATED:20240110T233647Z
LAST-MODIFIED:20250510T190409Z
UID:10011138-1729076400-1729119600@thequarrythornton.com
SUMMARY:Kitchen open 11-9 Tavern open 11-11. Wing Wednesday 1/2 price traditional wings. Dine in only.
DESCRIPTION:
URL:https://thequarrythornton.com/event/kitchen-open-3-9-tavern-open-3-11-free-bingo-every-wednesday-7-9/2024-10-16/
END:VEVENT
BEGIN:VEVENT
DTSTART;TZID=America/Chicago:20241015T110000
DTEND;TZID=America/Chicago:20241015T230000
DTSTAMP:20260421T053709
CREATED:20240110T235532Z
LAST-MODIFIED:20250325T221155Z
UID:10011417-1728990000-1729033200@thequarrythornton.com
SUMMARY:Kitchen open 11-9 Tavern open 11-11. Taco Tuesday! 3 beef\, pork or chicken $7.50
DESCRIPTION:
URL:https://thequarrythornton.com/event/kitchen-open-3-9-tavern-open-3-11-2/2024-10-15/
END:VEVENT
BEGIN:VEVENT
DTSTART;TZID=America/Chicago:20241014T110000
DTEND;TZID=America/Chicago:20241014T230000
DTSTAMP:20260421T053709
CREATED:20240110T235437Z
LAST-MODIFIED:20250510T191022Z
UID:10010858-1728903600-1728946800@thequarrythornton.com
SUMMARY:Kitchen open 11-9 Tavern open 11-11. 1/2 price pizza. Dine in only.
DESCRIPTION:
URL:https://thequarrythornton.com/event/kitchen-open-3-9-tavern-open-3-11/2024-10-14/
END:VEVENT
BEGIN:VEVENT
DTSTART;TZID=America/Chicago:20241013T110000
DTEND;TZID=America/Chicago:20241013T230000
DTSTAMP:20260421T053709
CREATED:20240110T235336Z
LAST-MODIFIED:20260113T182408Z
UID:10009953-1728817200-1728860400@thequarrythornton.com
SUMMARY:Kitchen open 11-7 Tavern open 11-11.
DESCRIPTION:
URL:https://thequarrythornton.com/event/kitchen-open-11-7-tavern-open-11-11/2024-10-13/
END:VEVENT
BEGIN:VEVENT
DTSTART;TZID=America/Chicago:20241012T190000
DTEND;TZID=America/Chicago:20241012T220000
DTSTAMP:20260421T053709
CREATED:20240405T192433Z
LAST-MODIFIED:20240405T192433Z
UID:10010777-1728759600-1728770400@thequarrythornton.com
SUMMARY:Tyjon Charlie- 1 man band
DESCRIPTION:
URL:https://thequarrythornton.com/event/tyjon-charlie-1-man-band-5/
END:VEVENT
BEGIN:VEVENT
DTSTART;TZID=America/Chicago:20241012T110000
DTEND;TZID=America/Chicago:20241012T235900
DTSTAMP:20260421T053709
CREATED:20240110T235242Z
LAST-MODIFIED:20240313T170456Z
UID:10009692-1728730800-1728777540@thequarrythornton.com
SUMMARY:Kitchen open 11-9 Tavern open 11-12. Live Music every Saturday 7-10
DESCRIPTION:
URL:https://thequarrythornton.com/event/kitchen-tavern-open-11-12-live-music-every-saturday/2024-10-12/
END:VEVENT
BEGIN:VEVENT
DTSTART;TZID=America/Chicago:20241011T190000
DTEND;TZID=America/Chicago:20241011T220000
DTSTAMP:20260421T053709
CREATED:20240510T184132Z
LAST-MODIFIED:20240510T184132Z
UID:10010811-1728673200-1728684000@thequarrythornton.com
SUMMARY:Classic- female classic rock
DESCRIPTION:
URL:https://thequarrythornton.com/event/classic-female-classic-rock-5/
LOCATION:121 S Williams St\, Thornton\, IL 60476\, USA
END:VEVENT
BEGIN:VEVENT
DTSTART;TZID=America/Chicago:20241011T110000
DTEND;TZID=America/Chicago:20241011T235900
DTSTAMP:20260421T053709
CREATED:20240110T234444Z
LAST-MODIFIED:20260123T151734Z
UID:10009431-1728644400-1728691140@thequarrythornton.com
SUMMARY:Kitchen open 11-9 Tavern open 11-12.
DESCRIPTION:
URL:https://thequarrythornton.com/event/kitchen-taven-open-11-12-live-music-every-friday-100-winner-karaoke-every-other/2024-10-11/
END:VEVENT
BEGIN:VEVENT
DTSTART;TZID=America/Chicago:20241010T110000
DTEND;TZID=America/Chicago:20241010T235900
DTSTAMP:20260421T053709
CREATED:20240110T233826Z
LAST-MODIFIED:20250510T190549Z
UID:10011696-1728558000-1728604740@thequarrythornton.com
SUMMARY:Kitchen open 11-9 Tavern open 11-11. 1/2 price hot dogs or chili cheese dogs. Dine in only.
DESCRIPTION:
URL:https://thequarrythornton.com/event/kitchen-open-11-9-tavern-open-11-12-open-mic-7-10/2024-10-10/
END:VEVENT
BEGIN:VEVENT
DTSTART;TZID=America/Chicago:20241009T110000
DTEND;TZID=America/Chicago:20241009T230000
DTSTAMP:20260421T053709
CREATED:20240110T233647Z
LAST-MODIFIED:20250510T190409Z
UID:10011137-1728471600-1728514800@thequarrythornton.com
SUMMARY:Kitchen open 11-9 Tavern open 11-11. Wing Wednesday 1/2 price traditional wings. Dine in only.
DESCRIPTION:
URL:https://thequarrythornton.com/event/kitchen-open-3-9-tavern-open-3-11-free-bingo-every-wednesday-7-9/2024-10-09/
END:VEVENT
BEGIN:VEVENT
DTSTART;TZID=America/Chicago:20241008T110000
DTEND;TZID=America/Chicago:20241008T230000
DTSTAMP:20260421T053709
CREATED:20240110T235532Z
LAST-MODIFIED:20250325T221155Z
UID:10011416-1728385200-1728428400@thequarrythornton.com
SUMMARY:Kitchen open 11-9 Tavern open 11-11. Taco Tuesday! 3 beef\, pork or chicken $7.50
DESCRIPTION:
URL:https://thequarrythornton.com/event/kitchen-open-3-9-tavern-open-3-11-2/2024-10-08/
END:VEVENT
BEGIN:VEVENT
DTSTART;TZID=America/Chicago:20241007T110000
DTEND;TZID=America/Chicago:20241007T230000
DTSTAMP:20260421T053709
CREATED:20240110T235437Z
LAST-MODIFIED:20250510T191022Z
UID:10010857-1728298800-1728342000@thequarrythornton.com
SUMMARY:Kitchen open 11-9 Tavern open 11-11. 1/2 price pizza. Dine in only.
DESCRIPTION:
URL:https://thequarrythornton.com/event/kitchen-open-3-9-tavern-open-3-11/2024-10-07/
END:VEVENT
BEGIN:VEVENT
DTSTART;TZID=America/Chicago:20241006T110000
DTEND;TZID=America/Chicago:20241006T230000
DTSTAMP:20260421T053709
CREATED:20240110T235336Z
LAST-MODIFIED:20260113T182408Z
UID:10009952-1728212400-1728255600@thequarrythornton.com
SUMMARY:Kitchen open 11-7 Tavern open 11-11.
DESCRIPTION:
URL:https://thequarrythornton.com/event/kitchen-open-11-7-tavern-open-11-11/2024-10-06/
END:VEVENT
BEGIN:VEVENT
DTSTART;TZID=America/Chicago:20241005T190000
DTEND;TZID=America/Chicago:20241005T220000
DTSTAMP:20260421T053709
CREATED:20240422T194915Z
LAST-MODIFIED:20240422T194915Z
UID:10010802-1728154800-1728165600@thequarrythornton.com
SUMMARY:Susan Williams- Blues
DESCRIPTION:
URL:https://thequarrythornton.com/event/susan-williams-blues-3/
LOCATION:121 S Williams St\, Thornton\, IL 60476\, USA
END:VEVENT
END:VCALENDAR