BEGIN:VCALENDAR
VERSION:2.0
PRODID:-//The Quarry Ballroom - ECPv6.15.17.1//NONSGML v1.0//EN
CALSCALE:GREGORIAN
METHOD:PUBLISH
X-WR-CALNAME:The Quarry Ballroom
X-ORIGINAL-URL:https://thequarrythornton.com
X-WR-CALDESC:Events for The Quarry Ballroom
REFRESH-INTERVAL;VALUE=DURATION:PT1H
X-Robots-Tag:noindex
X-PUBLISHED-TTL:PT1H
BEGIN:VTIMEZONE
TZID:America/Chicago
BEGIN:DAYLIGHT
TZOFFSETFROM:-0600
TZOFFSETTO:-0500
TZNAME:CDT
DTSTART:20240310T080000
END:DAYLIGHT
BEGIN:STANDARD
TZOFFSETFROM:-0500
TZOFFSETTO:-0600
TZNAME:CST
DTSTART:20241103T070000
END:STANDARD
BEGIN:DAYLIGHT
TZOFFSETFROM:-0600
TZOFFSETTO:-0500
TZNAME:CDT
DTSTART:20250309T080000
END:DAYLIGHT
BEGIN:STANDARD
TZOFFSETFROM:-0500
TZOFFSETTO:-0600
TZNAME:CST
DTSTART:20251102T070000
END:STANDARD
BEGIN:DAYLIGHT
TZOFFSETFROM:-0600
TZOFFSETTO:-0500
TZNAME:CDT
DTSTART:20260308T080000
END:DAYLIGHT
BEGIN:STANDARD
TZOFFSETFROM:-0500
TZOFFSETTO:-0600
TZNAME:CST
DTSTART:20261101T070000
END:STANDARD
END:VTIMEZONE
BEGIN:VEVENT
DTSTART;TZID=America/Chicago:20251129T110000
DTEND;TZID=America/Chicago:20251129T235900
DTSTAMP:20260421T082605
CREATED:20240110T235242Z
LAST-MODIFIED:20240313T170456Z
UID:10009751-1764414000-1764460740@thequarrythornton.com
SUMMARY:Kitchen open 11-9 Tavern open 11-12. Live Music every Saturday 7-10
DESCRIPTION:
URL:https://thequarrythornton.com/event/kitchen-tavern-open-11-12-live-music-every-saturday/2025-11-29/
END:VEVENT
BEGIN:VEVENT
DTSTART;TZID=America/Chicago:20251128T110000
DTEND;TZID=America/Chicago:20251128T235900
DTSTAMP:20260421T082605
CREATED:20240110T234444Z
LAST-MODIFIED:20260123T151734Z
UID:10009490-1764327600-1764374340@thequarrythornton.com
SUMMARY:Kitchen open 11-9 Tavern open 11-12.
DESCRIPTION:
URL:https://thequarrythornton.com/event/kitchen-taven-open-11-12-live-music-every-friday-100-winner-karaoke-every-other/2025-11-28/
END:VEVENT
BEGIN:VEVENT
DTSTART;TZID=America/Chicago:20251127T110000
DTEND;TZID=America/Chicago:20251127T235900
DTSTAMP:20260421T082605
CREATED:20240110T233826Z
LAST-MODIFIED:20250510T190549Z
UID:10011755-1764241200-1764287940@thequarrythornton.com
SUMMARY:Kitchen open 11-9 Tavern open 11-11. 1/2 price hot dogs or chili cheese dogs. Dine in only.
DESCRIPTION:
URL:https://thequarrythornton.com/event/kitchen-open-11-9-tavern-open-11-12-open-mic-7-10/2025-11-27/
END:VEVENT
BEGIN:VEVENT
DTSTART;TZID=America/Chicago:20251126T190000
DTEND;TZID=America/Chicago:20251126T230000
DTSTAMP:20260421T082605
CREATED:20251112T013747Z
LAST-MODIFIED:20251112T013747Z
UID:10012414-1764183600-1764198000@thequarrythornton.com
SUMMARY:Old Red\, BLT\, The Weird Bananas
DESCRIPTION:
URL:https://thequarrythornton.com/event/old-red-blt-the-weird-bananas/
LOCATION:121 S Williams St\, Thornton\, IL 60476\, USA
END:VEVENT
BEGIN:VEVENT
DTSTART;TZID=America/Chicago:20251126T110000
DTEND;TZID=America/Chicago:20251126T230000
DTSTAMP:20260421T082605
CREATED:20240110T233647Z
LAST-MODIFIED:20250510T190409Z
UID:10011196-1764154800-1764198000@thequarrythornton.com
SUMMARY:Kitchen open 11-9 Tavern open 11-11. Wing Wednesday 1/2 price traditional wings. Dine in only.
DESCRIPTION:
URL:https://thequarrythornton.com/event/kitchen-open-3-9-tavern-open-3-11-free-bingo-every-wednesday-7-9/2025-11-26/
END:VEVENT
BEGIN:VEVENT
DTSTART;TZID=America/Chicago:20251125T110000
DTEND;TZID=America/Chicago:20251125T230000
DTSTAMP:20260421T082605
CREATED:20240110T235532Z
LAST-MODIFIED:20250325T221155Z
UID:10011475-1764068400-1764111600@thequarrythornton.com
SUMMARY:Kitchen open 11-9 Tavern open 11-11. Taco Tuesday! 3 beef\, pork or chicken $7.50
DESCRIPTION:
URL:https://thequarrythornton.com/event/kitchen-open-3-9-tavern-open-3-11-2/2025-11-25/
END:VEVENT
BEGIN:VEVENT
DTSTART;TZID=America/Chicago:20251124T110000
DTEND;TZID=America/Chicago:20251124T230000
DTSTAMP:20260421T082605
CREATED:20240110T235437Z
LAST-MODIFIED:20250510T191022Z
UID:10010916-1763982000-1764025200@thequarrythornton.com
SUMMARY:Kitchen open 11-9 Tavern open 11-11. 1/2 price pizza. Dine in only.
DESCRIPTION:
URL:https://thequarrythornton.com/event/kitchen-open-3-9-tavern-open-3-11/2025-11-24/
END:VEVENT
BEGIN:VEVENT
DTSTART;TZID=America/Chicago:20251123T110000
DTEND;TZID=America/Chicago:20251123T230000
DTSTAMP:20260421T082605
CREATED:20240110T235336Z
LAST-MODIFIED:20260113T182408Z
UID:10010011-1763895600-1763938800@thequarrythornton.com
SUMMARY:Kitchen open 11-7 Tavern open 11-11.
DESCRIPTION:
URL:https://thequarrythornton.com/event/kitchen-open-11-7-tavern-open-11-11/2025-11-23/
END:VEVENT
BEGIN:VEVENT
DTSTART;TZID=America/Chicago:20251122T190000
DTEND;TZID=America/Chicago:20251122T220000
DTSTAMP:20260421T082605
CREATED:20250702T221542Z
LAST-MODIFIED:20250702T221542Z
UID:10012313-1763838000-1763848800@thequarrythornton.com
SUMMARY:MyTyme
DESCRIPTION:
URL:https://thequarrythornton.com/event/mytyme-3/
LOCATION:121 S Williams St\, Thornton\, IL 60476\, USA
END:VEVENT
BEGIN:VEVENT
DTSTART;TZID=America/Chicago:20251122T110000
DTEND;TZID=America/Chicago:20251122T235900
DTSTAMP:20260421T082605
CREATED:20240110T235242Z
LAST-MODIFIED:20240313T170456Z
UID:10009750-1763809200-1763855940@thequarrythornton.com
SUMMARY:Kitchen open 11-9 Tavern open 11-12. Live Music every Saturday 7-10
DESCRIPTION:
URL:https://thequarrythornton.com/event/kitchen-tavern-open-11-12-live-music-every-saturday/2025-11-22/
END:VEVENT
BEGIN:VEVENT
DTSTART;TZID=America/Chicago:20251121T110000
DTEND;TZID=America/Chicago:20251121T235900
DTSTAMP:20260421T082605
CREATED:20240110T234444Z
LAST-MODIFIED:20260123T151734Z
UID:10009489-1763722800-1763769540@thequarrythornton.com
SUMMARY:Kitchen open 11-9 Tavern open 11-12.
DESCRIPTION:
URL:https://thequarrythornton.com/event/kitchen-taven-open-11-12-live-music-every-friday-100-winner-karaoke-every-other/2025-11-21/
END:VEVENT
BEGIN:VEVENT
DTSTART;TZID=America/Chicago:20251120T110000
DTEND;TZID=America/Chicago:20251120T235900
DTSTAMP:20260421T082605
CREATED:20240110T233826Z
LAST-MODIFIED:20250510T190549Z
UID:10011754-1763636400-1763683140@thequarrythornton.com
SUMMARY:Kitchen open 11-9 Tavern open 11-11. 1/2 price hot dogs or chili cheese dogs. Dine in only.
DESCRIPTION:
URL:https://thequarrythornton.com/event/kitchen-open-11-9-tavern-open-11-12-open-mic-7-10/2025-11-20/
END:VEVENT
BEGIN:VEVENT
DTSTART;TZID=America/Chicago:20251119T183000
DTEND;TZID=America/Chicago:20251119T213000
DTSTAMP:20260421T082605
CREATED:20251112T014048Z
LAST-MODIFIED:20251112T014048Z
UID:10012416-1763577000-1763587800@thequarrythornton.com
SUMMARY:Winter Paint Party
DESCRIPTION:
URL:https://thequarrythornton.com/event/winter-paint-party/
LOCATION:121 S Williams St\, Thornton\, IL 60476\, USA
END:VEVENT
BEGIN:VEVENT
DTSTART;TZID=America/Chicago:20251119T110000
DTEND;TZID=America/Chicago:20251119T230000
DTSTAMP:20260421T082605
CREATED:20240110T233647Z
LAST-MODIFIED:20250510T190409Z
UID:10011195-1763550000-1763593200@thequarrythornton.com
SUMMARY:Kitchen open 11-9 Tavern open 11-11. Wing Wednesday 1/2 price traditional wings. Dine in only.
DESCRIPTION:
URL:https://thequarrythornton.com/event/kitchen-open-3-9-tavern-open-3-11-free-bingo-every-wednesday-7-9/2025-11-19/
END:VEVENT
BEGIN:VEVENT
DTSTART;TZID=America/Chicago:20251118T110000
DTEND;TZID=America/Chicago:20251118T230000
DTSTAMP:20260421T082605
CREATED:20240110T235532Z
LAST-MODIFIED:20250325T221155Z
UID:10011474-1763463600-1763506800@thequarrythornton.com
SUMMARY:Kitchen open 11-9 Tavern open 11-11. Taco Tuesday! 3 beef\, pork or chicken $7.50
DESCRIPTION:
URL:https://thequarrythornton.com/event/kitchen-open-3-9-tavern-open-3-11-2/2025-11-18/
END:VEVENT
BEGIN:VEVENT
DTSTART;TZID=America/Chicago:20251117T110000
DTEND;TZID=America/Chicago:20251117T230000
DTSTAMP:20260421T082605
CREATED:20240110T235437Z
LAST-MODIFIED:20250510T191022Z
UID:10010915-1763377200-1763420400@thequarrythornton.com
SUMMARY:Kitchen open 11-9 Tavern open 11-11. 1/2 price pizza. Dine in only.
DESCRIPTION:
URL:https://thequarrythornton.com/event/kitchen-open-3-9-tavern-open-3-11/2025-11-17/
END:VEVENT
BEGIN:VEVENT
DTSTART;TZID=America/Chicago:20251116T140000
DTEND;TZID=America/Chicago:20251116T170000
DTSTAMP:20260421T082605
CREATED:20251017T012540Z
LAST-MODIFIED:20251017T012540Z
UID:10012398-1763301600-1763312400@thequarrythornton.com
SUMMARY:Chili Cook Off--Win Big Prizes!
DESCRIPTION:
URL:https://thequarrythornton.com/event/chili-cook-off-win-big-prizes/
LOCATION:121 S Williams St\, Thornton\, IL 60476\, USA
END:VEVENT
BEGIN:VEVENT
DTSTART;TZID=America/Chicago:20251116T110000
DTEND;TZID=America/Chicago:20251116T230000
DTSTAMP:20260421T082605
CREATED:20240110T235336Z
LAST-MODIFIED:20260113T182408Z
UID:10010010-1763290800-1763334000@thequarrythornton.com
SUMMARY:Kitchen open 11-7 Tavern open 11-11.
DESCRIPTION:
URL:https://thequarrythornton.com/event/kitchen-open-11-7-tavern-open-11-11/2025-11-16/
END:VEVENT
BEGIN:VEVENT
DTSTART;TZID=America/Chicago:20251115T190000
DTEND;TZID=America/Chicago:20251115T220000
DTSTAMP:20260421T082605
CREATED:20251017T192836Z
LAST-MODIFIED:20251017T192836Z
UID:10012401-1763233200-1763244000@thequarrythornton.com
SUMMARY:Jon MacDonald & Friends
DESCRIPTION:
URL:https://thequarrythornton.com/event/jon-macdonald-friends/
LOCATION:121 S Williams St\, Thornton\, IL 60476\, USA
END:VEVENT
BEGIN:VEVENT
DTSTART;TZID=America/Chicago:20251115T110000
DTEND;TZID=America/Chicago:20251115T235900
DTSTAMP:20260421T082605
CREATED:20240110T235242Z
LAST-MODIFIED:20240313T170456Z
UID:10009749-1763204400-1763251140@thequarrythornton.com
SUMMARY:Kitchen open 11-9 Tavern open 11-12. Live Music every Saturday 7-10
DESCRIPTION:
URL:https://thequarrythornton.com/event/kitchen-tavern-open-11-12-live-music-every-saturday/2025-11-15/
END:VEVENT
BEGIN:VEVENT
DTSTART;TZID=America/Chicago:20251114T190000
DTEND;TZID=America/Chicago:20251114T220000
DTSTAMP:20260421T082605
CREATED:20241205T182640Z
LAST-MODIFIED:20251003T170727Z
UID:10011994-1763146800-1763157600@thequarrythornton.com
SUMMARY:Return 2 Soul
DESCRIPTION:
URL:https://thequarrythornton.com/event/return-2-soul-2/
LOCATION:121 S Williams St\, Thornton\, IL 60476\, USA
END:VEVENT
BEGIN:VEVENT
DTSTART;TZID=America/Chicago:20251114T110000
DTEND;TZID=America/Chicago:20251114T235900
DTSTAMP:20260421T082605
CREATED:20240110T234444Z
LAST-MODIFIED:20260123T151734Z
UID:10009488-1763118000-1763164740@thequarrythornton.com
SUMMARY:Kitchen open 11-9 Tavern open 11-12.
DESCRIPTION:
URL:https://thequarrythornton.com/event/kitchen-taven-open-11-12-live-music-every-friday-100-winner-karaoke-every-other/2025-11-14/
END:VEVENT
BEGIN:VEVENT
DTSTART;TZID=America/Chicago:20251113T190000
DTEND;TZID=America/Chicago:20251113T210000
DTSTAMP:20260421T082605
CREATED:20251112T013954Z
LAST-MODIFIED:20251112T013954Z
UID:10012415-1763060400-1763067600@thequarrythornton.com
SUMMARY:Piano Stylings of Rich Boban
DESCRIPTION:
URL:https://thequarrythornton.com/event/piano-stylings-of-rich-boban/
LOCATION:121 S Williams St\, Thornton\, IL 60476\, USA
END:VEVENT
BEGIN:VEVENT
DTSTART;TZID=America/Chicago:20251113T110000
DTEND;TZID=America/Chicago:20251113T235900
DTSTAMP:20260421T082605
CREATED:20240110T233826Z
LAST-MODIFIED:20250510T190549Z
UID:10011753-1763031600-1763078340@thequarrythornton.com
SUMMARY:Kitchen open 11-9 Tavern open 11-11. 1/2 price hot dogs or chili cheese dogs. Dine in only.
DESCRIPTION:
URL:https://thequarrythornton.com/event/kitchen-open-11-9-tavern-open-11-12-open-mic-7-10/2025-11-13/
END:VEVENT
BEGIN:VEVENT
DTSTART;TZID=America/Chicago:20251112T110000
DTEND;TZID=America/Chicago:20251112T230000
DTSTAMP:20260421T082605
CREATED:20240110T233647Z
LAST-MODIFIED:20250510T190409Z
UID:10011194-1762945200-1762988400@thequarrythornton.com
SUMMARY:Kitchen open 11-9 Tavern open 11-11. Wing Wednesday 1/2 price traditional wings. Dine in only.
DESCRIPTION:
URL:https://thequarrythornton.com/event/kitchen-open-3-9-tavern-open-3-11-free-bingo-every-wednesday-7-9/2025-11-12/
END:VEVENT
BEGIN:VEVENT
DTSTART;TZID=America/Chicago:20251111T110000
DTEND;TZID=America/Chicago:20251111T230000
DTSTAMP:20260421T082605
CREATED:20240110T235532Z
LAST-MODIFIED:20250325T221155Z
UID:10011473-1762858800-1762902000@thequarrythornton.com
SUMMARY:Kitchen open 11-9 Tavern open 11-11. Taco Tuesday! 3 beef\, pork or chicken $7.50
DESCRIPTION:
URL:https://thequarrythornton.com/event/kitchen-open-3-9-tavern-open-3-11-2/2025-11-11/
END:VEVENT
BEGIN:VEVENT
DTSTART;TZID=America/Chicago:20251110T110000
DTEND;TZID=America/Chicago:20251110T230000
DTSTAMP:20260421T082605
CREATED:20240110T235437Z
LAST-MODIFIED:20250510T191022Z
UID:10010914-1762772400-1762815600@thequarrythornton.com
SUMMARY:Kitchen open 11-9 Tavern open 11-11. 1/2 price pizza. Dine in only.
DESCRIPTION:
URL:https://thequarrythornton.com/event/kitchen-open-3-9-tavern-open-3-11/2025-11-10/
END:VEVENT
BEGIN:VEVENT
DTSTART;TZID=America/Chicago:20251109T110000
DTEND;TZID=America/Chicago:20251109T230000
DTSTAMP:20260421T082605
CREATED:20240110T235336Z
LAST-MODIFIED:20260113T182408Z
UID:10010009-1762686000-1762729200@thequarrythornton.com
SUMMARY:Kitchen open 11-7 Tavern open 11-11.
DESCRIPTION:
URL:https://thequarrythornton.com/event/kitchen-open-11-7-tavern-open-11-11/2025-11-09/
END:VEVENT
BEGIN:VEVENT
DTSTART;TZID=America/Chicago:20251108T190000
DTEND;TZID=America/Chicago:20251108T220000
DTSTAMP:20260421T082605
CREATED:20251006T182421Z
LAST-MODIFIED:20251006T182421Z
UID:10012395-1762628400-1762639200@thequarrythornton.com
SUMMARY:Noreen Stark
DESCRIPTION:
URL:https://thequarrythornton.com/event/noreen-stark-2/
LOCATION:121 S Williams St\, Thornton\, IL 60476\, USA
END:VEVENT
BEGIN:VEVENT
DTSTART;TZID=America/Chicago:20251108T110000
DTEND;TZID=America/Chicago:20251108T235900
DTSTAMP:20260421T082605
CREATED:20240110T235242Z
LAST-MODIFIED:20240313T170456Z
UID:10009748-1762599600-1762646340@thequarrythornton.com
SUMMARY:Kitchen open 11-9 Tavern open 11-12. Live Music every Saturday 7-10
DESCRIPTION:
URL:https://thequarrythornton.com/event/kitchen-tavern-open-11-12-live-music-every-saturday/2025-11-08/
END:VEVENT
END:VCALENDAR